BEGIN:VCALENDAR
VERSION:2.0
PRODID:-//The Eagle NYC - ECPv6.15.20//NONSGML v1.0//EN
CALSCALE:GREGORIAN
METHOD:PUBLISH
X-WR-CALNAME:The Eagle NYC
X-ORIGINAL-URL:https://eagle-ny.com
X-WR-CALDESC:Events for The Eagle NYC
REFRESH-INTERVAL;VALUE=DURATION:PT1H
X-Robots-Tag:noindex
X-PUBLISHED-TTL:PT1H
BEGIN:VTIMEZONE
TZID:America/New_York
BEGIN:DAYLIGHT
TZOFFSETFROM:-0500
TZOFFSETTO:-0400
TZNAME:EDT
DTSTART:20250309T070000
END:DAYLIGHT
BEGIN:STANDARD
TZOFFSETFROM:-0400
TZOFFSETTO:-0500
TZNAME:EST
DTSTART:20251102T060000
END:STANDARD
BEGIN:DAYLIGHT
TZOFFSETFROM:-0500
TZOFFSETTO:-0400
TZNAME:EDT
DTSTART:20260308T070000
END:DAYLIGHT
BEGIN:STANDARD
TZOFFSETFROM:-0400
TZOFFSETTO:-0500
TZNAME:EST
DTSTART:20261101T060000
END:STANDARD
BEGIN:DAYLIGHT
TZOFFSETFROM:-0500
TZOFFSETTO:-0400
TZNAME:EDT
DTSTART:20270314T070000
END:DAYLIGHT
BEGIN:STANDARD
TZOFFSETFROM:-0400
TZOFFSETTO:-0500
TZNAME:EST
DTSTART:20271107T060000
END:STANDARD
END:VTIMEZONE
BEGIN:VEVENT
DTSTART;TZID=America/New_York:20260622T220000
DTEND;TZID=America/New_York:20260623T030000
DTSTAMP:20260423T215356
CREATED:20250522T164201Z
LAST-MODIFIED:20250522T164201Z
UID:10007207-1782165600-1782183600@eagle-ny.com
SUMMARY:MONDAY SINday 😊 NO COVER
DESCRIPTION:
URL:https://eagle-ny.com/calendarofevents/monday-sinday-%f0%9f%98%8a-no-cover/2026-06-22/
LOCATION:The Eagle NYC\, New York\, NY\, United States
GEO:40.751624;-74.004346
END:VEVENT
BEGIN:VEVENT
DTSTART;TZID=America/New_York:20260623T220000
DTEND;TZID=America/New_York:20260624T040000
DTSTAMP:20260423T215356
CREATED:20250522T165514Z
LAST-MODIFIED:20250522T165514Z
UID:10007289-1782252000-1782273600@eagle-ny.com
SUMMARY:TWISTED TUESDAY 😊 NO COVER
DESCRIPTION:
URL:https://eagle-ny.com/calendarofevents/twisted-tuesday-%f0%9f%98%8a-no-cover-3/2026-06-23/
LOCATION:The Eagle NYC\, New York\, NY\, United States
GEO:40.751624;-74.004346
END:VEVENT
BEGIN:VEVENT
DTSTART;TZID=America/New_York:20260624T220000
DTEND;TZID=America/New_York:20260625T040000
DTSTAMP:20260423T215356
CREATED:20260414T220807Z
LAST-MODIFIED:20260414T220807Z
UID:10007662-1782338400-1782360000@eagle-ny.com
SUMMARY:🩲 JOCKSTRAP WEDNESDAY 🎧 SAM GEE 💰 20 CASH COVER
DESCRIPTION:
URL:https://eagle-ny.com/calendarofevents/%f0%9f%a9%b2-jockstrap-wednesday-%f0%9f%8e%a7-sam-gee-%f0%9f%92%b0-20-cash-cover/
LOCATION:The Eagle NYC\, New York\, NY\, United States
GEO:40.751624;-74.004346
END:VEVENT
BEGIN:VEVENT
DTSTART;TZID=America/New_York:20260628T170000
DTEND;TZID=America/New_York:20260628T200000
DTSTAMP:20260423T215356
CREATED:20250703T171408Z
LAST-MODIFIED:20250703T171408Z
UID:10007367-1782666000-1782676800@eagle-ny.com
SUMMARY:CIGAR SOCIAL
DESCRIPTION:
URL:https://eagle-ny.com/calendarofevents/cigar-social/2026-06-28/
LOCATION:The Eagle NYC\, New York\, NY\, United States
GEO:40.751624;-74.004346
END:VEVENT
END:VCALENDAR