BEGIN:VCALENDAR
VERSION:2.0
PRODID:-//The Eagle NYC - ECPv6.15.20//NONSGML v1.0//EN
CALSCALE:GREGORIAN
METHOD:PUBLISH
X-ORIGINAL-URL:https://eagle-ny.com
X-WR-CALDESC:Events for The Eagle NYC
REFRESH-INTERVAL;VALUE=DURATION:PT1H
X-Robots-Tag:noindex
X-PUBLISHED-TTL:PT1H
BEGIN:VTIMEZONE
TZID:America/New_York
BEGIN:DAYLIGHT
TZOFFSETFROM:-0500
TZOFFSETTO:-0400
TZNAME:EDT
DTSTART:20250309T070000
END:DAYLIGHT
BEGIN:STANDARD
TZOFFSETFROM:-0400
TZOFFSETTO:-0500
TZNAME:EST
DTSTART:20251102T060000
END:STANDARD
BEGIN:DAYLIGHT
TZOFFSETFROM:-0500
TZOFFSETTO:-0400
TZNAME:EDT
DTSTART:20260308T070000
END:DAYLIGHT
BEGIN:STANDARD
TZOFFSETFROM:-0400
TZOFFSETTO:-0500
TZNAME:EST
DTSTART:20261101T060000
END:STANDARD
BEGIN:DAYLIGHT
TZOFFSETFROM:-0500
TZOFFSETTO:-0400
TZNAME:EDT
DTSTART:20270314T070000
END:DAYLIGHT
BEGIN:STANDARD
TZOFFSETFROM:-0400
TZOFFSETTO:-0500
TZNAME:EST
DTSTART:20271107T060000
END:STANDARD
END:VTIMEZONE
BEGIN:VEVENT
DTSTART;TZID=America/New_York:20260517T220000
DTEND;TZID=America/New_York:20260518T040000
DTSTAMP:20260423T201757
CREATED:20260401T181338Z
LAST-MODIFIED:20260401T181338Z
UID:10007647-1779055200-1779076800@eagle-ny.com
SUMMARY:🎧 AJ REDDY + 🎧 BOBBY DURON 💰20 CASH COVER
DESCRIPTION:
URL:https://eagle-ny.com/calendarofevents/%f0%9f%8e%a7-aj-reddy-%f0%9f%8e%a7-bobby-duron-%f0%9f%92%b020-cash-cover-13/
LOCATION:The Eagle NYC\, New York\, NY\, United States
GEO:40.751624;-74.004346
END:VEVENT
BEGIN:VEVENT
DTSTART;TZID=America/New_York:20260518T220000
DTEND;TZID=America/New_York:20260519T030000
DTSTAMP:20260423T201757
CREATED:20250522T164201Z
LAST-MODIFIED:20250522T164201Z
UID:10007202-1779141600-1779159600@eagle-ny.com
SUMMARY:MONDAY SINday 😊 NO COVER
DESCRIPTION:
URL:https://eagle-ny.com/calendarofevents/monday-sinday-%f0%9f%98%8a-no-cover/2026-05-18/
LOCATION:The Eagle NYC\, New York\, NY\, United States
GEO:40.751624;-74.004346
END:VEVENT
BEGIN:VEVENT
DTSTART;TZID=America/New_York:20260519T220000
DTEND;TZID=America/New_York:20260520T040000
DTSTAMP:20260423T201757
CREATED:20250522T165514Z
LAST-MODIFIED:20250522T165514Z
UID:10007284-1779228000-1779249600@eagle-ny.com
SUMMARY:TWISTED TUESDAY 😊 NO COVER
DESCRIPTION:
URL:https://eagle-ny.com/calendarofevents/twisted-tuesday-%f0%9f%98%8a-no-cover-3/2026-05-19/
LOCATION:The Eagle NYC\, New York\, NY\, United States
GEO:40.751624;-74.004346
END:VEVENT
BEGIN:VEVENT
DTSTART;TZID=America/New_York:20260520T220000
DTEND;TZID=America/New_York:20260521T040000
DTSTAMP:20260423T201757
CREATED:20260401T181721Z
LAST-MODIFIED:20260401T181721Z
UID:10007648-1779314400-1779336000@eagle-ny.com
SUMMARY:🩲 JOCKSTRAP WEDNESDAY 🎧 IPOK 💰 20 CASH COVER
DESCRIPTION:
URL:https://eagle-ny.com/calendarofevents/%f0%9f%a9%b2-jockstrap-wednesday-%f0%9f%8e%a7-ipok-%f0%9f%92%b0-20-cash-cover-4/
LOCATION:The Eagle NYC\, New York\, NY\, United States
GEO:40.751624;-74.004346
END:VEVENT
BEGIN:VEVENT
DTSTART;TZID=America/New_York:20260521T220000
DTEND;TZID=America/New_York:20260522T040000
DTSTAMP:20260423T201757
CREATED:20260407T181910Z
LAST-MODIFIED:20260407T181910Z
UID:10007652-1779400800-1779422400@eagle-ny.com
SUMMARY:🎧 LORANT 💰 10 CASH COVER
DESCRIPTION:
URL:https://eagle-ny.com/calendarofevents/%f0%9f%8e%a7-lorant-%f0%9f%92%b0-10-cash-cover-3/
LOCATION:The Eagle NYC\, New York\, NY\, United States
GEO:40.751624;-74.004346
END:VEVENT
BEGIN:VEVENT
DTSTART;TZID=America/New_York:20260522T220000
DTEND;TZID=America/New_York:20260523T040000
DTSTAMP:20260423T201757
CREATED:20260407T182040Z
LAST-MODIFIED:20260407T182040Z
UID:10007653-1779487200-1779508800@eagle-ny.com
SUMMARY:🎧 JEN DM + 🎧 MUSIKDAWG💰25 CASH COVER
DESCRIPTION:
URL:https://eagle-ny.com/calendarofevents/%f0%9f%8e%a7-jen-dm-%f0%9f%8e%a7-musikdawg%f0%9f%92%b025-cash-cover/
LOCATION:The Eagle NYC\, New York\, NY\, United States
GEO:40.751624;-74.004346
END:VEVENT
BEGIN:VEVENT
DTSTART;TZID=America/New_York:20260523T220000
DTEND;TZID=America/New_York:20260524T040000
DTSTAMP:20260423T201757
CREATED:20260408T181256Z
LAST-MODIFIED:20260412T011837Z
UID:10007654-1779573600-1779595200@eagle-ny.com
SUMMARY:🎧 BRETT OOSTERHAUS+ 🎧 MITCH FERRINO 💰25 CASH COVER
DESCRIPTION:
URL:https://eagle-ny.com/calendarofevents/%f0%9f%8e%a7-brett-oosterhaus-%f0%9f%8e%a7-james-andersen-%f0%9f%92%b025-cash-cover-2/
LOCATION:The Eagle NYC\, New York\, NY\, United States
GEO:40.751624;-74.004346
END:VEVENT
BEGIN:VEVENT
DTSTART;TZID=America/New_York:20260524T170000
DTEND;TZID=America/New_York:20260524T200000
DTSTAMP:20260423T201757
CREATED:20250703T171408Z
LAST-MODIFIED:20250703T171408Z
UID:10007362-1779642000-1779652800@eagle-ny.com
SUMMARY:CIGAR SOCIAL
DESCRIPTION:
URL:https://eagle-ny.com/calendarofevents/cigar-social/2026-05-24/
LOCATION:The Eagle NYC\, New York\, NY\, United States
GEO:40.751624;-74.004346
END:VEVENT
BEGIN:VEVENT
DTSTART;TZID=America/New_York:20260524T170000
DTEND;TZID=America/New_York:20260524T220000
DTSTAMP:20260423T201757
CREATED:20260408T181339Z
LAST-MODIFIED:20260408T181340Z
UID:10007028-1779642000-1779660000@eagle-ny.com
SUMMARY:🍺 BEER BLAST 🎧 CUNNINGHAM  😊 NO COVER TILL 9PM 💰20 COVER AT 9PM
DESCRIPTION:
URL:https://eagle-ny.com/calendarofevents/%f0%9f%8d%ba-beer-blast-%f0%9f%8e%a7-%f0%9f%98%8a-no-cover-till-9pm-%f0%9f%92%b020-cover-at-9pm-58/
LOCATION:The Eagle NYC\, New York\, NY\, United States
GEO:40.751624;-74.004346
END:VEVENT
BEGIN:VEVENT
DTSTART;TZID=America/New_York:20260524T220000
DTEND;TZID=America/New_York:20260525T040000
DTSTAMP:20260423T201757
CREATED:20260408T181923Z
LAST-MODIFIED:20260408T181954Z
UID:10007655-1779660000-1779681600@eagle-ny.com
SUMMARY:🎧 TWISTED DEE + 🎧 BOBBY DURON 💰20 CASH COVER
DESCRIPTION:
URL:https://eagle-ny.com/calendarofevents/%f0%9f%8e%a7-twisted-dee-%f0%9f%8e%a7-bobby-duron-%f0%9f%92%b020-cash-cover/
LOCATION:The Eagle NYC\, New York\, NY\, United States
GEO:40.751624;-74.004346
END:VEVENT
END:VCALENDAR