BEGIN:VCALENDAR
VERSION:2.0
PRODID:-//The Eagle NYC - ECPv6.15.20//NONSGML v1.0//EN
CALSCALE:GREGORIAN
METHOD:PUBLISH
X-WR-CALNAME:The Eagle NYC
X-ORIGINAL-URL:https://eagle-ny.com
X-WR-CALDESC:Events for The Eagle NYC
REFRESH-INTERVAL;VALUE=DURATION:PT1H
X-Robots-Tag:noindex
X-PUBLISHED-TTL:PT1H
BEGIN:VTIMEZONE
TZID:America/New_York
BEGIN:DAYLIGHT
TZOFFSETFROM:-0500
TZOFFSETTO:-0400
TZNAME:EDT
DTSTART:20250309T070000
END:DAYLIGHT
BEGIN:STANDARD
TZOFFSETFROM:-0400
TZOFFSETTO:-0500
TZNAME:EST
DTSTART:20251102T060000
END:STANDARD
BEGIN:DAYLIGHT
TZOFFSETFROM:-0500
TZOFFSETTO:-0400
TZNAME:EDT
DTSTART:20260308T070000
END:DAYLIGHT
BEGIN:STANDARD
TZOFFSETFROM:-0400
TZOFFSETTO:-0500
TZNAME:EST
DTSTART:20261101T060000
END:STANDARD
BEGIN:DAYLIGHT
TZOFFSETFROM:-0500
TZOFFSETTO:-0400
TZNAME:EDT
DTSTART:20270314T070000
END:DAYLIGHT
BEGIN:STANDARD
TZOFFSETFROM:-0400
TZOFFSETTO:-0500
TZNAME:EST
DTSTART:20271107T060000
END:STANDARD
END:VTIMEZONE
BEGIN:VEVENT
DTSTART;TZID=America/New_York:20260322T220000
DTEND;TZID=America/New_York:20260323T040000
DTSTAMP:20260423T201514
CREATED:20260205T042455Z
LAST-MODIFIED:20260205T042455Z
UID:10007565-1774216800-1774238400@eagle-ny.com
SUMMARY:🎧 SAM GEE + 🎧 BOBBY DURON 💰20 CASH COVER
DESCRIPTION:
URL:https://eagle-ny.com/calendarofevents/%f0%9f%8e%a7-sam-gee-%f0%9f%8e%a7-bobby-duron-%f0%9f%92%b020-cash-cover-12/
LOCATION:The Eagle NYC\, New York\, NY\, United States
GEO:40.751624;-74.004346
END:VEVENT
BEGIN:VEVENT
DTSTART;TZID=America/New_York:20260323T220000
DTEND;TZID=America/New_York:20260324T030000
DTSTAMP:20260423T201515
CREATED:20250522T164201Z
LAST-MODIFIED:20250522T164201Z
UID:10007194-1774303200-1774321200@eagle-ny.com
SUMMARY:MONDAY SINday 😊 NO COVER
DESCRIPTION:
URL:https://eagle-ny.com/calendarofevents/monday-sinday-%f0%9f%98%8a-no-cover/2026-03-23/
LOCATION:The Eagle NYC\, New York\, NY\, United States
GEO:40.751624;-74.004346
END:VEVENT
BEGIN:VEVENT
DTSTART;TZID=America/New_York:20260324T220000
DTEND;TZID=America/New_York:20260325T040000
DTSTAMP:20260423T201515
CREATED:20250522T165514Z
LAST-MODIFIED:20250522T165514Z
UID:10007276-1774389600-1774411200@eagle-ny.com
SUMMARY:TWISTED TUESDAY 😊 NO COVER
DESCRIPTION:
URL:https://eagle-ny.com/calendarofevents/twisted-tuesday-%f0%9f%98%8a-no-cover-3/2026-03-24/
LOCATION:The Eagle NYC\, New York\, NY\, United States
GEO:40.751624;-74.004346
END:VEVENT
BEGIN:VEVENT
DTSTART;TZID=America/New_York:20260325T220000
DTEND;TZID=America/New_York:20260326T040000
DTSTAMP:20260423T201515
CREATED:20260205T043021Z
LAST-MODIFIED:20260205T043022Z
UID:10006951-1774476000-1774497600@eagle-ny.com
SUMMARY:🩲 JOCKSTRAP WEDNESDAY 🎧 MITCH FERRINO 💰 20 CASH COVER
DESCRIPTION:
URL:https://eagle-ny.com/calendarofevents/%f0%9f%a9%b2-jockstrap-wednesday-%f0%9f%8e%a7-%f0%9f%92%b0-20-cash-cover-7-50/
LOCATION:The Eagle NYC\, New York\, NY\, United States
GEO:40.751624;-74.004346
END:VEVENT
BEGIN:VEVENT
DTSTART;TZID=America/New_York:20260326T220000
DTEND;TZID=America/New_York:20260327T000000
DTSTAMP:20260423T201515
CREATED:20250302T154613Z
LAST-MODIFIED:20260205T043954Z
UID:10007059-1774562400-1774569600@eagle-ny.com
SUMMARY:🎧 INTO
DESCRIPTION:
URL:https://eagle-ny.com/calendarofevents/%f0%9f%8e%a7-into-%f0%9f%92%b010-cash-cover/2026-03-26/
LOCATION:The Eagle NYC\, New York\, NY\, United States
GEO:40.751624;-74.004346
END:VEVENT
BEGIN:VEVENT
DTSTART;TZID=America/New_York:20260326T220000
DTEND;TZID=America/New_York:20260327T040000
DTSTAMP:20260423T201515
CREATED:20260205T043903Z
LAST-MODIFIED:20260205T043903Z
UID:10007566-1774562400-1774584000@eagle-ny.com
SUMMARY:🎧 CUNNINGHAM 💰 10 CASH COVER
DESCRIPTION:
URL:https://eagle-ny.com/calendarofevents/%f0%9f%8e%a7-cunningham-%f0%9f%92%b0-10-cash-cover-13/
LOCATION:The Eagle NYC\, New York\, NY\, United States
GEO:40.751624;-74.004346
END:VEVENT
BEGIN:VEVENT
DTSTART;TZID=America/New_York:20260327T220000
DTEND;TZID=America/New_York:20260328T040000
DTSTAMP:20260423T201515
CREATED:20260210T191034Z
LAST-MODIFIED:20260210T191034Z
UID:10007567-1774648800-1774670400@eagle-ny.com
SUMMARY:🎧 HECTOR FONSECA + 🎧 IPOK 💰25 CASH COVER
DESCRIPTION:
URL:https://eagle-ny.com/calendarofevents/%f0%9f%8e%a7-hector-fonseca-%f0%9f%8e%a7-ipok-%f0%9f%92%b025-cash-cover/
LOCATION:The Eagle NYC\, New York\, NY\, United States
GEO:40.751624;-74.004346
END:VEVENT
BEGIN:VEVENT
DTSTART;TZID=America/New_York:20260328T220000
DTEND;TZID=America/New_York:20260329T040000
DTSTAMP:20260423T201515
CREATED:20260210T191157Z
LAST-MODIFIED:20260210T191157Z
UID:10007568-1774735200-1774756800@eagle-ny.com
SUMMARY:🎧 KEVIN ANTHONY + 🎧 JAMES ANDERSEN 💰25 CASH COVER
DESCRIPTION:
URL:https://eagle-ny.com/calendarofevents/%f0%9f%8e%a7-kevin-anthony-%f0%9f%8e%a7-james-andersen-%f0%9f%92%b025-cash-cover-7/
LOCATION:The Eagle NYC\, New York\, NY\, United States
GEO:40.751624;-74.004346
END:VEVENT
BEGIN:VEVENT
DTSTART;TZID=America/New_York:20260329T170000
DTEND;TZID=America/New_York:20260329T200000
DTSTAMP:20260423T201515
CREATED:20250703T171408Z
LAST-MODIFIED:20250703T171408Z
UID:10007354-1774803600-1774814400@eagle-ny.com
SUMMARY:CIGAR SOCIAL
DESCRIPTION:
URL:https://eagle-ny.com/calendarofevents/cigar-social/2026-03-29/
LOCATION:The Eagle NYC\, New York\, NY\, United States
GEO:40.751624;-74.004346
END:VEVENT
BEGIN:VEVENT
DTSTART;TZID=America/New_York:20260329T170000
DTEND;TZID=America/New_York:20260329T220000
DTSTAMP:20260423T201515
CREATED:20260213T203602Z
LAST-MODIFIED:20260213T203604Z
UID:10007020-1774803600-1774821600@eagle-ny.com
SUMMARY:🍺 BEER BLAST 🎧 MATTHEW J.  😊 NO COVER TILL 9PM 💰20 COVER AT 9PM
DESCRIPTION:
URL:https://eagle-ny.com/calendarofevents/%f0%9f%8d%ba-beer-blast-%f0%9f%8e%a7-%f0%9f%98%8a-no-cover-till-9pm-%f0%9f%92%b020-cover-at-9pm-51/
LOCATION:The Eagle NYC\, New York\, NY\, United States
GEO:40.751624;-74.004346
END:VEVENT
BEGIN:VEVENT
DTSTART;TZID=America/New_York:20260329T220000
DTEND;TZID=America/New_York:20260330T040000
DTSTAMP:20260423T201515
CREATED:20260213T203725Z
LAST-MODIFIED:20260213T203725Z
UID:10007569-1774821600-1774843200@eagle-ny.com
SUMMARY:🎧 LE GRAND PHOENIX + 🎧 BOBBY DURON 💰20 CASH COVER
DESCRIPTION:
URL:https://eagle-ny.com/calendarofevents/%f0%9f%8e%a7-le-grand-phoenix-%f0%9f%8e%a7-bobby-duron-%f0%9f%92%b020-cash-cover-6/
LOCATION:The Eagle NYC\, New York\, NY\, United States
GEO:40.751624;-74.004346
END:VEVENT
END:VCALENDAR