BEGIN:VCALENDAR
VERSION:2.0
PRODID:-//The Eagle NYC - ECPv6.15.20//NONSGML v1.0//EN
CALSCALE:GREGORIAN
METHOD:PUBLISH
X-WR-CALNAME:The Eagle NYC
X-ORIGINAL-URL:https://eagle-ny.com
X-WR-CALDESC:Events for The Eagle NYC
REFRESH-INTERVAL;VALUE=DURATION:PT1H
X-Robots-Tag:noindex
X-PUBLISHED-TTL:PT1H
BEGIN:VTIMEZONE
TZID:America/New_York
BEGIN:DAYLIGHT
TZOFFSETFROM:-0500
TZOFFSETTO:-0400
TZNAME:EDT
DTSTART:20250309T070000
END:DAYLIGHT
BEGIN:STANDARD
TZOFFSETFROM:-0400
TZOFFSETTO:-0500
TZNAME:EST
DTSTART:20251102T060000
END:STANDARD
BEGIN:DAYLIGHT
TZOFFSETFROM:-0500
TZOFFSETTO:-0400
TZNAME:EDT
DTSTART:20260308T070000
END:DAYLIGHT
BEGIN:STANDARD
TZOFFSETFROM:-0400
TZOFFSETTO:-0500
TZNAME:EST
DTSTART:20261101T060000
END:STANDARD
BEGIN:DAYLIGHT
TZOFFSETFROM:-0500
TZOFFSETTO:-0400
TZNAME:EDT
DTSTART:20270314T070000
END:DAYLIGHT
BEGIN:STANDARD
TZOFFSETFROM:-0400
TZOFFSETTO:-0500
TZNAME:EST
DTSTART:20271107T060000
END:STANDARD
END:VTIMEZONE
BEGIN:VEVENT
DTSTART;TZID=America/New_York:20260301T220000
DTEND;TZID=America/New_York:20260302T040000
DTSTAMP:20260423T201428
CREATED:20260121T194317Z
LAST-MODIFIED:20260121T194317Z
UID:10007546-1772402400-1772424000@eagle-ny.com
SUMMARY:🎧 MITCH FERRINO + 🎧 BOBBY DURON 💰20 CASH COVER
DESCRIPTION:
URL:https://eagle-ny.com/calendarofevents/%f0%9f%8e%a7-mitch-ferrino-%f0%9f%8e%a7-bobby-duron-%f0%9f%92%b020-cash-cover-10/
LOCATION:The Eagle NYC\, New York\, NY\, United States
GEO:40.751624;-74.004346
END:VEVENT
BEGIN:VEVENT
DTSTART;TZID=America/New_York:20260302T220000
DTEND;TZID=America/New_York:20260303T030000
DTSTAMP:20260423T201428
CREATED:20250522T164201Z
LAST-MODIFIED:20250522T164201Z
UID:10007191-1772488800-1772506800@eagle-ny.com
SUMMARY:MONDAY SINday 😊 NO COVER
DESCRIPTION:
URL:https://eagle-ny.com/calendarofevents/monday-sinday-%f0%9f%98%8a-no-cover/2026-03-02/
LOCATION:The Eagle NYC\, New York\, NY\, United States
GEO:40.751624;-74.004346
END:VEVENT
BEGIN:VEVENT
DTSTART;TZID=America/New_York:20260303T220000
DTEND;TZID=America/New_York:20260304T040000
DTSTAMP:20260423T201428
CREATED:20250522T165514Z
LAST-MODIFIED:20250522T165514Z
UID:10007273-1772575200-1772596800@eagle-ny.com
SUMMARY:TWISTED TUESDAY 😊 NO COVER
DESCRIPTION:
URL:https://eagle-ny.com/calendarofevents/twisted-tuesday-%f0%9f%98%8a-no-cover-3/2026-03-03/
LOCATION:The Eagle NYC\, New York\, NY\, United States
GEO:40.751624;-74.004346
END:VEVENT
BEGIN:VEVENT
DTSTART;TZID=America/New_York:20260304T220000
DTEND;TZID=America/New_York:20260305T040000
DTSTAMP:20260423T201428
CREATED:20260121T194558Z
LAST-MODIFIED:20260121T194559Z
UID:10006948-1772661600-1772683200@eagle-ny.com
SUMMARY:🩲 JOCKSTRAP WEDNESDAY 🎧 IPOK  💰 20 CASH COVER
DESCRIPTION:
URL:https://eagle-ny.com/calendarofevents/%f0%9f%a9%b2-jockstrap-wednesday-%f0%9f%8e%a7-%f0%9f%92%b0-20-cash-cover-7-47/
LOCATION:The Eagle NYC\, New York\, NY\, United States
GEO:40.751624;-74.004346
END:VEVENT
BEGIN:VEVENT
DTSTART;TZID=America/New_York:20260305T220000
DTEND;TZID=America/New_York:20260306T040000
DTSTAMP:20260423T201428
CREATED:20260121T194704Z
LAST-MODIFIED:20260121T194704Z
UID:10007547-1772748000-1772769600@eagle-ny.com
SUMMARY:🎧 LORANT 💰 10 CASH COVER
DESCRIPTION:
URL:https://eagle-ny.com/calendarofevents/%f0%9f%8e%a7-lorant-%f0%9f%92%b0-10-cash-cover-2/
LOCATION:The Eagle NYC\, New York\, NY\, United States
GEO:40.751624;-74.004346
END:VEVENT
BEGIN:VEVENT
DTSTART;TZID=America/New_York:20260306T190000
DTEND;TZID=America/New_York:20260306T213000
DTSTAMP:20260423T201428
CREATED:20240617T125730Z
LAST-MODIFIED:20240703T005230Z
UID:10006264-1772823600-1772832600@eagle-ny.com
SUMMARY:JOCKSTRAP HAPPY HOUR 💰10 DONATION
DESCRIPTION:
URL:https://eagle-ny.com/calendarofevents/jockstrap-happy-hour/2026-03-06/
LOCATION:The Eagle NYC\, New York\, NY\, United States
GEO:40.751624;-74.004346
END:VEVENT
BEGIN:VEVENT
DTSTART;TZID=America/New_York:20260306T220000
DTEND;TZID=America/New_York:20260307T040000
DTSTAMP:20260423T201428
CREATED:20260123T180637Z
LAST-MODIFIED:20260123T180637Z
UID:10007549-1772834400-1772856000@eagle-ny.com
SUMMARY:🎧 JAMES ANTHONY + 🎧 STEVE CUNNINGHAM 💰25 CASH COVER
DESCRIPTION:
URL:https://eagle-ny.com/calendarofevents/%f0%9f%8e%a7-james-anthony-%f0%9f%8e%a7-steve-cunningham-%f0%9f%92%b025-cash-cover/
LOCATION:The Eagle NYC\, New York\, NY\, United States
GEO:40.751624;-74.004346
END:VEVENT
BEGIN:VEVENT
DTSTART;TZID=America/New_York:20260307T220000
DTEND;TZID=America/New_York:20260308T000000
DTSTAMP:20260423T201428
CREATED:20240103T093407Z
LAST-MODIFIED:20240103T093547Z
UID:10006074-1772920800-1772928000@eagle-ny.com
SUMMARY:CLUB NIGHT
DESCRIPTION:
URL:https://eagle-ny.com/calendarofevents/club-night-19-2/2026-03-07/
LOCATION:The Eagle NYC\, New York\, NY\, United States
GEO:40.751624;-74.004346
END:VEVENT
BEGIN:VEVENT
DTSTART;TZID=America/New_York:20260307T220000
DTEND;TZID=America/New_York:20260308T040000
DTSTAMP:20260423T201428
CREATED:20260130T181040Z
LAST-MODIFIED:20260130T181047Z
UID:10007550-1772920800-1772942400@eagle-ny.com
SUMMARY:🎧 LE GRAND PHOENIX + 🎧 JAMES ANDERSEN 💰25 CASH COVER
DESCRIPTION:
URL:https://eagle-ny.com/calendarofevents/%f0%9f%8e%a7-le-grand-phoenix-%f0%9f%8e%a7-james-andersen-%f0%9f%92%b025-cash-cover/
LOCATION:The Eagle NYC\, New York\, NY\, United States
GEO:40.751624;-74.004346
END:VEVENT
BEGIN:VEVENT
DTSTART;TZID=America/New_York:20260308T170000
DTEND;TZID=America/New_York:20260308T200000
DTSTAMP:20260423T201428
CREATED:20250703T171408Z
LAST-MODIFIED:20250703T171408Z
UID:10007351-1772989200-1773000000@eagle-ny.com
SUMMARY:CIGAR SOCIAL
DESCRIPTION:
URL:https://eagle-ny.com/calendarofevents/cigar-social/2026-03-08/
LOCATION:The Eagle NYC\, New York\, NY\, United States
GEO:40.751624;-74.004346
END:VEVENT
BEGIN:VEVENT
DTSTART;TZID=America/New_York:20260308T170000
DTEND;TZID=America/New_York:20260308T200000
DTSTAMP:20260423T201428
CREATED:20260205T023536Z
LAST-MODIFIED:20260205T023536Z
UID:10007552-1772989200-1773000000@eagle-ny.com
SUMMARY:INTO?
DESCRIPTION:
URL:https://eagle-ny.com/calendarofevents/into-4/
LOCATION:The Eagle NYC\, New York\, NY\, United States
GEO:40.751624;-74.004346
END:VEVENT
BEGIN:VEVENT
DTSTART;TZID=America/New_York:20260308T170000
DTEND;TZID=America/New_York:20260308T220000
DTSTAMP:20260423T201428
CREATED:20260205T023421Z
LAST-MODIFIED:20260205T023422Z
UID:10007017-1772989200-1773007200@eagle-ny.com
SUMMARY:🍺 BEER BLAST 🎧 STEVE CUNNINGHAM 😊 NO COVER TILL 9PM 💰20 COVER AT 9PM
DESCRIPTION:
URL:https://eagle-ny.com/calendarofevents/%f0%9f%8d%ba-beer-blast-%f0%9f%8e%a7-%f0%9f%98%8a-no-cover-till-9pm-%f0%9f%92%b020-cover-at-9pm-48/
LOCATION:The Eagle NYC\, New York\, NY\, United States
GEO:40.751624;-74.004346
END:VEVENT
BEGIN:VEVENT
DTSTART;TZID=America/New_York:20260308T220000
DTEND;TZID=America/New_York:20260309T040000
DTSTAMP:20260423T201428
CREATED:20260205T023740Z
LAST-MODIFIED:20260205T023810Z
UID:10007553-1773007200-1773028800@eagle-ny.com
SUMMARY:🎧 KRIS T0PH3R +  🎧 BOBBY DURON 💰20 CASH COVER
DESCRIPTION:
URL:https://eagle-ny.com/calendarofevents/%f0%9f%8e%a7-kris-t0ph3r-%f0%9f%8e%a7-bobby-duron-%f0%9f%92%b020-cover/
LOCATION:The Eagle NYC\, New York\, NY\, United States
GEO:40.751624;-74.004346
END:VEVENT
END:VCALENDAR