BEGIN:VCALENDAR
VERSION:2.0
PRODID:-//The Eagle NYC - ECPv6.15.20//NONSGML v1.0//EN
CALSCALE:GREGORIAN
METHOD:PUBLISH
X-ORIGINAL-URL:https://eagle-ny.com
X-WR-CALDESC:Events for The Eagle NYC
REFRESH-INTERVAL;VALUE=DURATION:PT1H
X-Robots-Tag:noindex
X-PUBLISHED-TTL:PT1H
BEGIN:VTIMEZONE
TZID:America/New_York
BEGIN:DAYLIGHT
TZOFFSETFROM:-0500
TZOFFSETTO:-0400
TZNAME:EDT
DTSTART:20250309T070000
END:DAYLIGHT
BEGIN:STANDARD
TZOFFSETFROM:-0400
TZOFFSETTO:-0500
TZNAME:EST
DTSTART:20251102T060000
END:STANDARD
BEGIN:DAYLIGHT
TZOFFSETFROM:-0500
TZOFFSETTO:-0400
TZNAME:EDT
DTSTART:20260308T070000
END:DAYLIGHT
BEGIN:STANDARD
TZOFFSETFROM:-0400
TZOFFSETTO:-0500
TZNAME:EST
DTSTART:20261101T060000
END:STANDARD
BEGIN:DAYLIGHT
TZOFFSETFROM:-0500
TZOFFSETTO:-0400
TZNAME:EDT
DTSTART:20270314T070000
END:DAYLIGHT
BEGIN:STANDARD
TZOFFSETFROM:-0400
TZOFFSETTO:-0500
TZNAME:EST
DTSTART:20271107T060000
END:STANDARD
END:VTIMEZONE
BEGIN:VEVENT
DTSTART;TZID=America/New_York:20260201T220000
DTEND;TZID=America/New_York:20260202T040000
DTSTAMP:20260423T214741
CREATED:20251219T001732Z
LAST-MODIFIED:20251219T001732Z
UID:10007524-1769983200-1770004800@eagle-ny.com
SUMMARY:🎧 LE GRAND PHOENIX + 🎧 BOBBY DURON 💰20 CASH COVER
DESCRIPTION:
URL:https://eagle-ny.com/calendarofevents/%f0%9f%8e%a7-le-grand-phoenix-%f0%9f%8e%a7-bobby-duron-%f0%9f%92%b020-cash-cover-5/
LOCATION:The Eagle NYC\, New York\, NY\, United States
GEO:40.751624;-74.004346
END:VEVENT
BEGIN:VEVENT
DTSTART;TZID=America/New_York:20260202T220000
DTEND;TZID=America/New_York:20260203T030000
DTSTAMP:20260423T214741
CREATED:20250522T164201Z
LAST-MODIFIED:20250522T164201Z
UID:10007187-1770069600-1770087600@eagle-ny.com
SUMMARY:MONDAY SINday 😊 NO COVER
DESCRIPTION:
URL:https://eagle-ny.com/calendarofevents/monday-sinday-%f0%9f%98%8a-no-cover/2026-02-02/
LOCATION:The Eagle NYC\, New York\, NY\, United States
GEO:40.751624;-74.004346
END:VEVENT
BEGIN:VEVENT
DTSTART;TZID=America/New_York:20260203T220000
DTEND;TZID=America/New_York:20260204T040000
DTSTAMP:20260423T214741
CREATED:20250522T165514Z
LAST-MODIFIED:20250522T165514Z
UID:10007269-1770156000-1770177600@eagle-ny.com
SUMMARY:TWISTED TUESDAY 😊 NO COVER
DESCRIPTION:
URL:https://eagle-ny.com/calendarofevents/twisted-tuesday-%f0%9f%98%8a-no-cover-3/2026-02-03/
LOCATION:The Eagle NYC\, New York\, NY\, United States
GEO:40.751624;-74.004346
END:VEVENT
BEGIN:VEVENT
DTSTART;TZID=America/New_York:20260204T220000
DTEND;TZID=America/New_York:20260205T040000
DTSTAMP:20260423T214741
CREATED:20260106T173317Z
LAST-MODIFIED:20260106T173344Z
UID:10006944-1770242400-1770264000@eagle-ny.com
SUMMARY:🩲 JOCKSTRAP WEDNESDAY 🎧 MITCH FERRINO 💰 20 CASH COVER
DESCRIPTION:
URL:https://eagle-ny.com/calendarofevents/%f0%9f%a9%b2-jockstrap-wednesday/
LOCATION:The Eagle NYC\, New York\, NY\, United States
GEO:40.751624;-74.004346
END:VEVENT
BEGIN:VEVENT
DTSTART;TZID=America/New_York:20260205T220000
DTEND;TZID=America/New_York:20260206T040000
DTSTAMP:20260423T214741
CREATED:20260106T173444Z
LAST-MODIFIED:20260106T173444Z
UID:10007525-1770328800-1770350400@eagle-ny.com
SUMMARY:🎧 CUNNINGHAM 💰 10 CASH COVER
DESCRIPTION:
URL:https://eagle-ny.com/calendarofevents/%f0%9f%8e%a7-cunningham-%f0%9f%92%b0-10-cash-cover-9/
LOCATION:The Eagle NYC\, New York\, NY\, United States
GEO:40.751624;-74.004346
END:VEVENT
BEGIN:VEVENT
DTSTART;TZID=America/New_York:20260206T190000
DTEND;TZID=America/New_York:20260206T213000
DTSTAMP:20260423T214741
CREATED:20240617T125730Z
LAST-MODIFIED:20240703T005230Z
UID:10006263-1770404400-1770413400@eagle-ny.com
SUMMARY:JOCKSTRAP HAPPY HOUR 💰10 DONATION
DESCRIPTION:
URL:https://eagle-ny.com/calendarofevents/jockstrap-happy-hour/2026-02-06/
LOCATION:The Eagle NYC\, New York\, NY\, United States
GEO:40.751624;-74.004346
END:VEVENT
BEGIN:VEVENT
DTSTART;TZID=America/New_York:20260206T220000
DTEND;TZID=America/New_York:20260207T040000
DTSTAMP:20260423T214741
CREATED:20260106T173610Z
LAST-MODIFIED:20260106T173610Z
UID:10007526-1770415200-1770436800@eagle-ny.com
SUMMARY:🎧 DEANNE + 🎧 CUNNINGHAM 💰25 CASH COVER
DESCRIPTION:
URL:https://eagle-ny.com/calendarofevents/%f0%9f%8e%a7-deanne-%f0%9f%8e%a7-cunningham-%f0%9f%92%b025-cash-cover/
LOCATION:The Eagle NYC\, New York\, NY\, United States
GEO:40.751624;-74.004346
END:VEVENT
BEGIN:VEVENT
DTSTART;TZID=America/New_York:20260207T220000
DTEND;TZID=America/New_York:20260208T000000
DTSTAMP:20260423T214741
CREATED:20240103T093407Z
LAST-MODIFIED:20240103T093547Z
UID:10006073-1770501600-1770508800@eagle-ny.com
SUMMARY:CLUB NIGHT
DESCRIPTION:
URL:https://eagle-ny.com/calendarofevents/club-night-19-2/2026-02-07/
LOCATION:The Eagle NYC\, New York\, NY\, United States
GEO:40.751624;-74.004346
END:VEVENT
BEGIN:VEVENT
DTSTART;TZID=America/New_York:20260207T220000
DTEND;TZID=America/New_York:20260208T040000
DTSTAMP:20260423T214741
CREATED:20260106T173800Z
LAST-MODIFIED:20260106T173800Z
UID:10007527-1770501600-1770523200@eagle-ny.com
SUMMARY:🎧 JAMES ANTHONY + 🎧 MUSIKDAWG 💰25 CASH COVER
DESCRIPTION:
URL:https://eagle-ny.com/calendarofevents/%f0%9f%8e%a7-james-anthony-%f0%9f%8e%a7-musikdawg-%f0%9f%92%b025-cash-cover-2/
LOCATION:The Eagle NYC\, New York\, NY\, United States
GEO:40.751624;-74.004346
END:VEVENT
BEGIN:VEVENT
DTSTART;TZID=America/New_York:20260208T170000
DTEND;TZID=America/New_York:20260208T200000
DTSTAMP:20260423T214741
CREATED:20250703T171408Z
LAST-MODIFIED:20250703T171408Z
UID:10007347-1770570000-1770580800@eagle-ny.com
SUMMARY:CIGAR SOCIAL
DESCRIPTION:
URL:https://eagle-ny.com/calendarofevents/cigar-social/2026-02-08/
LOCATION:The Eagle NYC\, New York\, NY\, United States
GEO:40.751624;-74.004346
END:VEVENT
BEGIN:VEVENT
DTSTART;TZID=America/New_York:20260208T170000
DTEND;TZID=America/New_York:20260208T220000
DTSTAMP:20260423T214741
CREATED:20260106T173947Z
LAST-MODIFIED:20260106T173948Z
UID:10007013-1770570000-1770588000@eagle-ny.com
SUMMARY:🍺 BEER BLAST 🎧 CUNNINGHAM   😊 NO COVER TILL 9PM 💰20 COVER AT 9PM
DESCRIPTION:
URL:https://eagle-ny.com/calendarofevents/%f0%9f%8d%ba-beer-blast-%f0%9f%8e%a7-%f0%9f%98%8a-no-cover-till-9pm-%f0%9f%92%b020-cover-at-9pm-44/
LOCATION:The Eagle NYC\, New York\, NY\, United States
GEO:40.751624;-74.004346
END:VEVENT
BEGIN:VEVENT
DTSTART;TZID=America/New_York:20260208T220000
DTEND;TZID=America/New_York:20260209T040000
DTSTAMP:20260423T214741
CREATED:20260106T174132Z
LAST-MODIFIED:20260106T174132Z
UID:10007528-1770588000-1770609600@eagle-ny.com
SUMMARY:🎧 MITCH FERRINO + 🎧 BOBBY DURON 💰20 CASH COVER
DESCRIPTION:
URL:https://eagle-ny.com/calendarofevents/%f0%9f%8e%a7-mitch-ferrino-%f0%9f%8e%a7-bobby-duron-%f0%9f%92%b020-cash-cover-9/
LOCATION:The Eagle NYC\, New York\, NY\, United States
GEO:40.751624;-74.004346
END:VEVENT
END:VCALENDAR