BEGIN:VCALENDAR
VERSION:2.0
PRODID:-//The Eagle NYC - ECPv6.15.20//NONSGML v1.0//EN
CALSCALE:GREGORIAN
METHOD:PUBLISH
X-WR-CALNAME:The Eagle NYC
X-ORIGINAL-URL:https://eagle-ny.com
X-WR-CALDESC:Events for The Eagle NYC
REFRESH-INTERVAL;VALUE=DURATION:PT1H
X-Robots-Tag:noindex
X-PUBLISHED-TTL:PT1H
BEGIN:VTIMEZONE
TZID:America/New_York
BEGIN:DAYLIGHT
TZOFFSETFROM:-0500
TZOFFSETTO:-0400
TZNAME:EDT
DTSTART:20250309T070000
END:DAYLIGHT
BEGIN:STANDARD
TZOFFSETFROM:-0400
TZOFFSETTO:-0500
TZNAME:EST
DTSTART:20251102T060000
END:STANDARD
BEGIN:DAYLIGHT
TZOFFSETFROM:-0500
TZOFFSETTO:-0400
TZNAME:EDT
DTSTART:20260308T070000
END:DAYLIGHT
BEGIN:STANDARD
TZOFFSETFROM:-0400
TZOFFSETTO:-0500
TZNAME:EST
DTSTART:20261101T060000
END:STANDARD
BEGIN:DAYLIGHT
TZOFFSETFROM:-0500
TZOFFSETTO:-0400
TZNAME:EDT
DTSTART:20270314T070000
END:DAYLIGHT
BEGIN:STANDARD
TZOFFSETFROM:-0400
TZOFFSETTO:-0500
TZNAME:EST
DTSTART:20271107T060000
END:STANDARD
END:VTIMEZONE
BEGIN:VEVENT
DTSTART;TZID=America/New_York:20260118T220000
DTEND;TZID=America/New_York:20260119T040000
DTSTAMP:20260423T232140
CREATED:20251210T231122Z
LAST-MODIFIED:20251210T231122Z
UID:10007515-1768773600-1768795200@eagle-ny.com
SUMMARY:🎧 TBA + 🎧 BOBBY DURON 💰20 CASH COVER
DESCRIPTION:
URL:https://eagle-ny.com/calendarofevents/%f0%9f%8e%a7-tba-%f0%9f%8e%a7-bobby-duron-%f0%9f%92%b020-cash-cover/
LOCATION:The Eagle NYC\, New York\, NY\, United States
GEO:40.751624;-74.004346
END:VEVENT
BEGIN:VEVENT
DTSTART;TZID=America/New_York:20260119T220000
DTEND;TZID=America/New_York:20260120T030000
DTSTAMP:20260423T232140
CREATED:20250522T164201Z
LAST-MODIFIED:20250522T164201Z
UID:10007185-1768860000-1768878000@eagle-ny.com
SUMMARY:MONDAY SINday 😊 NO COVER
DESCRIPTION:
URL:https://eagle-ny.com/calendarofevents/monday-sinday-%f0%9f%98%8a-no-cover/2026-01-19/
LOCATION:The Eagle NYC\, New York\, NY\, United States
GEO:40.751624;-74.004346
END:VEVENT
BEGIN:VEVENT
DTSTART;TZID=America/New_York:20260120T220000
DTEND;TZID=America/New_York:20260121T040000
DTSTAMP:20260423T232140
CREATED:20250522T165514Z
LAST-MODIFIED:20250522T165514Z
UID:10007267-1768946400-1768968000@eagle-ny.com
SUMMARY:TWISTED TUESDAY 😊 NO COVER
DESCRIPTION:
URL:https://eagle-ny.com/calendarofevents/twisted-tuesday-%f0%9f%98%8a-no-cover-3/2026-01-20/
LOCATION:The Eagle NYC\, New York\, NY\, United States
GEO:40.751624;-74.004346
END:VEVENT
BEGIN:VEVENT
DTSTART;TZID=America/New_York:20260121T220000
DTEND;TZID=America/New_York:20260122T040000
DTSTAMP:20260423T232140
CREATED:20251204T193057Z
LAST-MODIFIED:20251204T193059Z
UID:10006942-1769032800-1769054400@eagle-ny.com
SUMMARY:🩲 JOCKSTRAP WEDNESDAY 🎧 IPOK 💰 20 CASH COVER
DESCRIPTION:
URL:https://eagle-ny.com/calendarofevents/%f0%9f%a9%b2-jockstrap-wednesday-%f0%9f%8e%a7-%f0%9f%92%b0-20-cash-cover-7-42/
LOCATION:The Eagle NYC\, New York\, NY\, United States
GEO:40.751624;-74.004346
END:VEVENT
BEGIN:VEVENT
DTSTART;TZID=America/New_York:20260122T220000
DTEND;TZID=America/New_York:20260123T000000
DTSTAMP:20260423T232140
CREATED:20250302T154613Z
LAST-MODIFIED:20260205T043954Z
UID:10007057-1769119200-1769126400@eagle-ny.com
SUMMARY:🎧 INTO
DESCRIPTION:
URL:https://eagle-ny.com/calendarofevents/%f0%9f%8e%a7-into-%f0%9f%92%b010-cash-cover/2026-01-22/
LOCATION:The Eagle NYC\, New York\, NY\, United States
GEO:40.751624;-74.004346
END:VEVENT
BEGIN:VEVENT
DTSTART;TZID=America/New_York:20260122T220000
DTEND;TZID=America/New_York:20260123T040000
DTSTAMP:20260423T232140
CREATED:20251210T231338Z
LAST-MODIFIED:20251210T231338Z
UID:10007516-1769119200-1769140800@eagle-ny.com
SUMMARY:🎧 CUNNINGHAM 💰 10 CASH COVER
DESCRIPTION:
URL:https://eagle-ny.com/calendarofevents/%f0%9f%8e%a7-cunningham-%f0%9f%92%b0-10-cash-cover-8/
LOCATION:The Eagle NYC\, New York\, NY\, United States
GEO:40.751624;-74.004346
END:VEVENT
BEGIN:VEVENT
DTSTART;TZID=America/New_York:20260123T220000
DTEND;TZID=America/New_York:20260124T040000
DTSTAMP:20260423T232140
CREATED:20251216T210240Z
LAST-MODIFIED:20251216T210240Z
UID:10007517-1769205600-1769227200@eagle-ny.com
SUMMARY:🎧 MORABITO + 🎧 MARK CICERO 💰25 CASH COVER
DESCRIPTION:
URL:https://eagle-ny.com/calendarofevents/%f0%9f%8e%a7-morabito-%f0%9f%8e%a7-mark-cicero-%f0%9f%92%b025-cash-cover-8/
LOCATION:The Eagle NYC\, New York\, NY\, United States
GEO:40.751624;-74.004346
END:VEVENT
BEGIN:VEVENT
DTSTART;TZID=America/New_York:20260124T220000
DTEND;TZID=America/New_York:20260125T040000
DTSTAMP:20260423T232140
CREATED:20251216T210353Z
LAST-MODIFIED:20251216T210353Z
UID:10007518-1769292000-1769313600@eagle-ny.com
SUMMARY:🎧 JOSHUA RUIZ + 🎧 JAMES ANDERSEN 💰25 CASH COVER
DESCRIPTION:
URL:https://eagle-ny.com/calendarofevents/%f0%9f%8e%a7-joshua-ruiz-%f0%9f%8e%a7-james-andersen-%f0%9f%92%b025-cash-cover-2/
LOCATION:The Eagle NYC\, New York\, NY\, United States
GEO:40.751624;-74.004346
END:VEVENT
BEGIN:VEVENT
DTSTART;TZID=America/New_York:20260125T170000
DTEND;TZID=America/New_York:20260125T200000
DTSTAMP:20260423T232140
CREATED:20250703T171408Z
LAST-MODIFIED:20250703T171408Z
UID:10007345-1769360400-1769371200@eagle-ny.com
SUMMARY:CIGAR SOCIAL
DESCRIPTION:
URL:https://eagle-ny.com/calendarofevents/cigar-social/2026-01-25/
LOCATION:The Eagle NYC\, New York\, NY\, United States
GEO:40.751624;-74.004346
END:VEVENT
BEGIN:VEVENT
DTSTART;TZID=America/New_York:20260125T170000
DTEND;TZID=America/New_York:20260125T220000
DTSTAMP:20260423T232140
CREATED:20251216T210443Z
LAST-MODIFIED:20251216T210444Z
UID:10007011-1769360400-1769378400@eagle-ny.com
SUMMARY:🍺 BEER BLAST 🎧 CUNNINGHAM 😊 NO COVER TILL 9PM 💰20 COVER AT 9PM
DESCRIPTION:
URL:https://eagle-ny.com/calendarofevents/%f0%9f%8d%ba-beer-blast-%f0%9f%8e%a7-%f0%9f%98%8a-no-cover-till-9pm-%f0%9f%92%b020-cover-at-9pm-42/
LOCATION:The Eagle NYC\, New York\, NY\, United States
GEO:40.751624;-74.004346
END:VEVENT
BEGIN:VEVENT
DTSTART;TZID=America/New_York:20260125T220000
DTEND;TZID=America/New_York:20260126T040000
DTSTAMP:20260423T232140
CREATED:20251216T210606Z
LAST-MODIFIED:20251216T210647Z
UID:10007519-1769378400-1769400000@eagle-ny.com
SUMMARY:🎧 SAM GEE  + 🎧 BOBBY DURON 💰20 CASH COVER
DESCRIPTION:
URL:https://eagle-ny.com/calendarofevents/%f0%9f%8e%a7-sam-gee-%f0%9f%8e%a7-bobby-duron-%f0%9f%92%b020-cash-cover-10/
LOCATION:The Eagle NYC\, New York\, NY\, United States
GEO:40.751624;-74.004346
END:VEVENT
END:VCALENDAR