BEGIN:VCALENDAR
VERSION:2.0
PRODID:-//The Eagle NYC - ECPv6.15.20//NONSGML v1.0//EN
CALSCALE:GREGORIAN
METHOD:PUBLISH
X-ORIGINAL-URL:https://eagle-ny.com
X-WR-CALDESC:Events for The Eagle NYC
REFRESH-INTERVAL;VALUE=DURATION:PT1H
X-Robots-Tag:noindex
X-PUBLISHED-TTL:PT1H
BEGIN:VTIMEZONE
TZID:America/New_York
BEGIN:DAYLIGHT
TZOFFSETFROM:-0500
TZOFFSETTO:-0400
TZNAME:EDT
DTSTART:20240310T070000
END:DAYLIGHT
BEGIN:STANDARD
TZOFFSETFROM:-0400
TZOFFSETTO:-0500
TZNAME:EST
DTSTART:20241103T060000
END:STANDARD
BEGIN:DAYLIGHT
TZOFFSETFROM:-0500
TZOFFSETTO:-0400
TZNAME:EDT
DTSTART:20250309T070000
END:DAYLIGHT
BEGIN:STANDARD
TZOFFSETFROM:-0400
TZOFFSETTO:-0500
TZNAME:EST
DTSTART:20251102T060000
END:STANDARD
BEGIN:DAYLIGHT
TZOFFSETFROM:-0500
TZOFFSETTO:-0400
TZNAME:EDT
DTSTART:20260308T070000
END:DAYLIGHT
BEGIN:STANDARD
TZOFFSETFROM:-0400
TZOFFSETTO:-0500
TZNAME:EST
DTSTART:20261101T060000
END:STANDARD
END:VTIMEZONE
BEGIN:VEVENT
DTSTART;TZID=America/New_York:20251221T220000
DTEND;TZID=America/New_York:20251222T040000
DTSTAMP:20260424T012711
CREATED:20251102T173809Z
LAST-MODIFIED:20251102T173809Z
UID:10007497-1766354400-1766376000@eagle-ny.com
SUMMARY:🎧 IPOK + 🎧 BOBBY DURON 💰20 CASH COVER
DESCRIPTION:
URL:https://eagle-ny.com/calendarofevents/%f0%9f%8e%a7-ipok-%f0%9f%8e%a7-bobby-duron-%f0%9f%92%b020-cash-cover-2/
LOCATION:The Eagle NYC\, New York\, NY\, United States
GEO:40.751624;-74.004346
END:VEVENT
BEGIN:VEVENT
DTSTART;TZID=America/New_York:20251222T220000
DTEND;TZID=America/New_York:20251223T030000
DTSTAMP:20260424T012711
CREATED:20250522T164201Z
LAST-MODIFIED:20250522T164201Z
UID:10007181-1766440800-1766458800@eagle-ny.com
SUMMARY:MONDAY SINday 😊 NO COVER
DESCRIPTION:
URL:https://eagle-ny.com/calendarofevents/monday-sinday-%f0%9f%98%8a-no-cover/2025-12-22/
LOCATION:The Eagle NYC\, New York\, NY\, United States
GEO:40.751624;-74.004346
END:VEVENT
BEGIN:VEVENT
DTSTART;TZID=America/New_York:20251223T220000
DTEND;TZID=America/New_York:20251224T040000
DTSTAMP:20260424T012711
CREATED:20250522T165514Z
LAST-MODIFIED:20250522T165514Z
UID:10007263-1766527200-1766548800@eagle-ny.com
SUMMARY:TWISTED TUESDAY 😊 NO COVER
DESCRIPTION:
URL:https://eagle-ny.com/calendarofevents/twisted-tuesday-%f0%9f%98%8a-no-cover-3/2025-12-23/
LOCATION:The Eagle NYC\, New York\, NY\, United States
GEO:40.751624;-74.004346
END:VEVENT
BEGIN:VEVENT
DTSTART;TZID=America/New_York:20251224T220000
DTEND;TZID=America/New_York:20251225T040000
DTSTAMP:20260424T012711
CREATED:20251030T031810Z
LAST-MODIFIED:20251030T031811Z
UID:10006938-1766613600-1766635200@eagle-ny.com
SUMMARY:🩲 JOCKSTRAP WEDNESDAY 🎧 IPOK 💰 20 CASH COVER
DESCRIPTION:
URL:https://eagle-ny.com/calendarofevents/%f0%9f%a9%b2-jockstrap-wednesday-%f0%9f%8e%a7-%f0%9f%92%b0-20-cash-cover-7-41/
LOCATION:The Eagle NYC\, New York\, NY\, United States
GEO:40.751624;-74.004346
END:VEVENT
BEGIN:VEVENT
DTSTART;TZID=America/New_York:20251225T220000
DTEND;TZID=America/New_York:20251226T000000
DTSTAMP:20260424T012711
CREATED:20251030T031903Z
LAST-MODIFIED:20251030T031904Z
UID:10007056-1766700000-1766707200@eagle-ny.com
SUMMARY:CLOSED FOR 🎄CHRISTMAS
DESCRIPTION:
URL:https://eagle-ny.com/calendarofevents/%f0%9f%8e%a7-into-%f0%9f%92%b010-cash-cover-4/
LOCATION:The Eagle NYC\, New York\, NY\, United States
GEO:40.751624;-74.004346
END:VEVENT
BEGIN:VEVENT
DTSTART;TZID=America/New_York:20251226T220000
DTEND;TZID=America/New_York:20251227T040000
DTSTAMP:20260424T012711
CREATED:20251104T045741Z
LAST-MODIFIED:20251104T045741Z
UID:10007498-1766786400-1766808000@eagle-ny.com
SUMMARY:🎧 DAVID OHANA AVIANCE + 🎧 ERIK ELIAS💰25 CASH COVER
DESCRIPTION:
URL:https://eagle-ny.com/calendarofevents/%f0%9f%8e%a7-david-ohana-aviance-%f0%9f%8e%a7-erik-elias%f0%9f%92%b025-cash-cover/
LOCATION:The Eagle NYC\, New York\, NY\, United States
GEO:40.751624;-74.004346
END:VEVENT
BEGIN:VEVENT
DTSTART;TZID=America/New_York:20251227T220000
DTEND;TZID=America/New_York:20251228T040000
DTSTAMP:20260424T012711
CREATED:20251104T045917Z
LAST-MODIFIED:20251104T045917Z
UID:10007499-1766872800-1766894400@eagle-ny.com
SUMMARY:🎧 KEVIN ANTHONY+ 🎧 MUSIKDAWG 💰25 CASH COVER
DESCRIPTION:
URL:https://eagle-ny.com/calendarofevents/%f0%9f%8e%a7-kevin-anthony-%f0%9f%8e%a7-musikdawg-%f0%9f%92%b025-cash-cover-3/
LOCATION:The Eagle NYC\, New York\, NY\, United States
GEO:40.751624;-74.004346
END:VEVENT
BEGIN:VEVENT
DTSTART;TZID=America/New_York:20251228T170000
DTEND;TZID=America/New_York:20251228T200000
DTSTAMP:20260424T012711
CREATED:20250703T171408Z
LAST-MODIFIED:20250703T171408Z
UID:10007341-1766941200-1766952000@eagle-ny.com
SUMMARY:CIGAR SOCIAL
DESCRIPTION:
URL:https://eagle-ny.com/calendarofevents/cigar-social/2025-12-28/
LOCATION:The Eagle NYC\, New York\, NY\, United States
GEO:40.751624;-74.004346
END:VEVENT
BEGIN:VEVENT
DTSTART;TZID=America/New_York:20251228T170000
DTEND;TZID=America/New_York:20251228T220000
DTSTAMP:20260424T012711
CREATED:20251104T050034Z
LAST-MODIFIED:20251104T050035Z
UID:10007007-1766941200-1766959200@eagle-ny.com
SUMMARY:🍺 BEER BLAST 🎧 CUNNINGHAM  😊 NO COVER TILL 9PM 💰20 COVER AT 9PM
DESCRIPTION:
URL:https://eagle-ny.com/calendarofevents/%f0%9f%8d%ba-beer-blast-%f0%9f%8e%a7-%f0%9f%98%8a-no-cover-till-9pm-%f0%9f%92%b020-cover-at-9pm-40/
LOCATION:The Eagle NYC\, New York\, NY\, United States
GEO:40.751624;-74.004346
END:VEVENT
BEGIN:VEVENT
DTSTART;TZID=America/New_York:20251228T220000
DTEND;TZID=America/New_York:20251229T040000
DTSTAMP:20260424T012711
CREATED:20251104T050156Z
LAST-MODIFIED:20251104T050156Z
UID:10007500-1766959200-1766980800@eagle-ny.com
SUMMARY:🎧 SAM GEE + 🎧 BOBBY DURON 💰20 CASH COVER
DESCRIPTION:
URL:https://eagle-ny.com/calendarofevents/%f0%9f%8e%a7-sam-gee-%f0%9f%8e%a7-bobby-duron-%f0%9f%92%b020-cash-cover-9/
LOCATION:The Eagle NYC\, New York\, NY\, United States
GEO:40.751624;-74.004346
END:VEVENT
END:VCALENDAR