BEGIN:VCALENDAR
VERSION:2.0
PRODID:-//The Eagle NYC - ECPv6.15.20//NONSGML v1.0//EN
CALSCALE:GREGORIAN
METHOD:PUBLISH
X-WR-CALNAME:The Eagle NYC
X-ORIGINAL-URL:https://eagle-ny.com
X-WR-CALDESC:Events for The Eagle NYC
REFRESH-INTERVAL;VALUE=DURATION:PT1H
X-Robots-Tag:noindex
X-PUBLISHED-TTL:PT1H
BEGIN:VTIMEZONE
TZID:America/New_York
BEGIN:DAYLIGHT
TZOFFSETFROM:-0500
TZOFFSETTO:-0400
TZNAME:EDT
DTSTART:20240310T070000
END:DAYLIGHT
BEGIN:STANDARD
TZOFFSETFROM:-0400
TZOFFSETTO:-0500
TZNAME:EST
DTSTART:20241103T060000
END:STANDARD
BEGIN:DAYLIGHT
TZOFFSETFROM:-0500
TZOFFSETTO:-0400
TZNAME:EDT
DTSTART:20250309T070000
END:DAYLIGHT
BEGIN:STANDARD
TZOFFSETFROM:-0400
TZOFFSETTO:-0500
TZNAME:EST
DTSTART:20251102T060000
END:STANDARD
BEGIN:DAYLIGHT
TZOFFSETFROM:-0500
TZOFFSETTO:-0400
TZNAME:EDT
DTSTART:20260308T070000
END:DAYLIGHT
BEGIN:STANDARD
TZOFFSETFROM:-0400
TZOFFSETTO:-0500
TZNAME:EST
DTSTART:20261101T060000
END:STANDARD
END:VTIMEZONE
BEGIN:VEVENT
DTSTART;TZID=America/New_York:20251123T220000
DTEND;TZID=America/New_York:20251124T040000
DTSTAMP:20260424T015738
CREATED:20251017T201821Z
LAST-MODIFIED:20251017T201821Z
UID:10007479-1763935200-1763956800@eagle-ny.com
SUMMARY:🎧 SAM GEE + 🎧 BOBBY DURON 💰20 CASH COVER
DESCRIPTION:
URL:https://eagle-ny.com/calendarofevents/%f0%9f%8e%a7-sam-gee-%f0%9f%8e%a7-bobby-duron-%f0%9f%92%b020-cash-cover-8/
LOCATION:The Eagle NYC\, New York\, NY\, United States
GEO:40.751624;-74.004346
END:VEVENT
BEGIN:VEVENT
DTSTART;TZID=America/New_York:20251124T220000
DTEND;TZID=America/New_York:20251125T030000
DTSTAMP:20260424T015738
CREATED:20250522T164201Z
LAST-MODIFIED:20250522T164201Z
UID:10007177-1764021600-1764039600@eagle-ny.com
SUMMARY:MONDAY SINday 😊 NO COVER
DESCRIPTION:
URL:https://eagle-ny.com/calendarofevents/monday-sinday-%f0%9f%98%8a-no-cover/2025-11-24/
LOCATION:The Eagle NYC\, New York\, NY\, United States
GEO:40.751624;-74.004346
END:VEVENT
BEGIN:VEVENT
DTSTART;TZID=America/New_York:20251125T220000
DTEND;TZID=America/New_York:20251126T040000
DTSTAMP:20260424T015738
CREATED:20250522T165514Z
LAST-MODIFIED:20250522T165514Z
UID:10007259-1764108000-1764129600@eagle-ny.com
SUMMARY:TWISTED TUESDAY 😊 NO COVER
DESCRIPTION:
URL:https://eagle-ny.com/calendarofevents/twisted-tuesday-%f0%9f%98%8a-no-cover-3/2025-11-25/
LOCATION:The Eagle NYC\, New York\, NY\, United States
GEO:40.751624;-74.004346
END:VEVENT
BEGIN:VEVENT
DTSTART;TZID=America/New_York:20251126T220000
DTEND;TZID=America/New_York:20251127T040000
DTSTAMP:20260424T015738
CREATED:20251015T165704Z
LAST-MODIFIED:20251122T042757Z
UID:10006934-1764194400-1764216000@eagle-ny.com
SUMMARY:🦃 THANKSGIVING EVE 🎧 MITCH FERRINO + 🎧 MARK CICERO 💰 30 CASH COVER
DESCRIPTION:
URL:https://eagle-ny.com/calendarofevents/thanksgivingeve/
LOCATION:The Eagle NYC\, New York\, NY\, United States
GEO:40.751624;-74.004346
END:VEVENT
BEGIN:VEVENT
DTSTART;TZID=America/New_York:20251127T220000
DTEND;TZID=America/New_York:20251128T040000
DTSTAMP:20260424T015738
CREATED:20251017T201958Z
LAST-MODIFIED:20251017T201958Z
UID:10007480-1764280800-1764302400@eagle-ny.com
SUMMARY:🎧 STEVE CUNNINGHAM 💰 10 CASH COVER
DESCRIPTION:
URL:https://eagle-ny.com/calendarofevents/%f0%9f%8e%a7-steve-cunningham-%f0%9f%92%b0-10-cash-cover-3/
LOCATION:The Eagle NYC\, New York\, NY\, United States
GEO:40.751624;-74.004346
END:VEVENT
BEGIN:VEVENT
DTSTART;TZID=America/New_York:20251128T220000
DTEND;TZID=America/New_York:20251129T040000
DTSTAMP:20260424T015738
CREATED:20251017T202212Z
LAST-MODIFIED:20251017T202212Z
UID:10007481-1764367200-1764388800@eagle-ny.com
SUMMARY:🎧 ALFONSO TAN + 🎧 JAMES ANDERSEN 💰25 CASH COVER
DESCRIPTION:
URL:https://eagle-ny.com/calendarofevents/%f0%9f%8e%a7-alfonso-tan-%f0%9f%8e%a7-james-andersen-%f0%9f%92%b025-cash-cover/
LOCATION:The Eagle NYC\, New York\, NY\, United States
GEO:40.751624;-74.004346
END:VEVENT
BEGIN:VEVENT
DTSTART;TZID=America/New_York:20251129T220000
DTEND;TZID=America/New_York:20251130T040000
DTSTAMP:20260424T015738
CREATED:20251018T165217Z
LAST-MODIFIED:20251018T165217Z
UID:10007482-1764453600-1764475200@eagle-ny.com
SUMMARY:🎧 KEVIN ANTHONY + 🎧 MUSIKDAWG 💰25 CASH COVER
DESCRIPTION:
URL:https://eagle-ny.com/calendarofevents/%f0%9f%8e%a7-kevin-anthony-%f0%9f%8e%a7-musikdawg-%f0%9f%92%b025-cash-cover-2/
LOCATION:The Eagle NYC\, New York\, NY\, United States
GEO:40.751624;-74.004346
END:VEVENT
BEGIN:VEVENT
DTSTART;TZID=America/New_York:20251130T170000
DTEND;TZID=America/New_York:20251130T200000
DTSTAMP:20260424T015738
CREATED:20250703T171408Z
LAST-MODIFIED:20250703T171408Z
UID:10007337-1764522000-1764532800@eagle-ny.com
SUMMARY:CIGAR SOCIAL
DESCRIPTION:
URL:https://eagle-ny.com/calendarofevents/cigar-social/2025-11-30/
LOCATION:The Eagle NYC\, New York\, NY\, United States
GEO:40.751624;-74.004346
END:VEVENT
BEGIN:VEVENT
DTSTART;TZID=America/New_York:20251130T170000
DTEND;TZID=America/New_York:20251130T220000
DTSTAMP:20260424T015738
CREATED:20251018T165311Z
LAST-MODIFIED:20251018T165312Z
UID:10007003-1764522000-1764540000@eagle-ny.com
SUMMARY:🍺 BEER BLAST 🎧 ERIK ELIAS  😊 NO COVER TILL 9PM 💰20 COVER AT 9PM
DESCRIPTION:
URL:https://eagle-ny.com/calendarofevents/%f0%9f%8d%ba-beer-blast-%f0%9f%8e%a7-%f0%9f%98%8a-no-cover-till-9pm-%f0%9f%92%b020-cover-at-9pm-36/
LOCATION:The Eagle NYC\, New York\, NY\, United States
GEO:40.751624;-74.004346
END:VEVENT
BEGIN:VEVENT
DTSTART;TZID=America/New_York:20251130T220000
DTEND;TZID=America/New_York:20251201T040000
DTSTAMP:20260424T015738
CREATED:20251018T165430Z
LAST-MODIFIED:20251018T165430Z
UID:10007483-1764540000-1764561600@eagle-ny.com
SUMMARY:🎧 MITCH FERRINO + 🎧 BOBBY DURON 💰20 CASH COVER
DESCRIPTION:
URL:https://eagle-ny.com/calendarofevents/%f0%9f%8e%a7-mitch-ferrino-%f0%9f%8e%a7-bobby-duron-%f0%9f%92%b020-cash-cover-6/
LOCATION:The Eagle NYC\, New York\, NY\, United States
GEO:40.751624;-74.004346
END:VEVENT
END:VCALENDAR