BEGIN:VCALENDAR
VERSION:2.0
PRODID:-//The Eagle NYC - ECPv6.15.20//NONSGML v1.0//EN
CALSCALE:GREGORIAN
METHOD:PUBLISH
X-WR-CALNAME:The Eagle NYC
X-ORIGINAL-URL:https://eagle-ny.com
X-WR-CALDESC:Events for The Eagle NYC
REFRESH-INTERVAL;VALUE=DURATION:PT1H
X-Robots-Tag:noindex
X-PUBLISHED-TTL:PT1H
BEGIN:VTIMEZONE
TZID:America/New_York
BEGIN:DAYLIGHT
TZOFFSETFROM:-0500
TZOFFSETTO:-0400
TZNAME:EDT
DTSTART:20240310T070000
END:DAYLIGHT
BEGIN:STANDARD
TZOFFSETFROM:-0400
TZOFFSETTO:-0500
TZNAME:EST
DTSTART:20241103T060000
END:STANDARD
BEGIN:DAYLIGHT
TZOFFSETFROM:-0500
TZOFFSETTO:-0400
TZNAME:EDT
DTSTART:20250309T070000
END:DAYLIGHT
BEGIN:STANDARD
TZOFFSETFROM:-0400
TZOFFSETTO:-0500
TZNAME:EST
DTSTART:20251102T060000
END:STANDARD
BEGIN:DAYLIGHT
TZOFFSETFROM:-0500
TZOFFSETTO:-0400
TZNAME:EDT
DTSTART:20260308T070000
END:DAYLIGHT
BEGIN:STANDARD
TZOFFSETFROM:-0400
TZOFFSETTO:-0500
TZNAME:EST
DTSTART:20261101T060000
END:STANDARD
END:VTIMEZONE
BEGIN:VEVENT
DTSTART;TZID=America/New_York:20251116T220000
DTEND;TZID=America/New_York:20251117T040000
DTSTAMP:20260424T034041
CREATED:20251015T165400Z
LAST-MODIFIED:20251015T165400Z
UID:10007474-1763330400-1763352000@eagle-ny.com
SUMMARY:🎧 AJ REDDY + 🎧 BOBBY DURON 💰20 CASH COVER
DESCRIPTION:
URL:https://eagle-ny.com/calendarofevents/%f0%9f%8e%a7-aj-reddy-%f0%9f%8e%a7-bobby-duron-%f0%9f%92%b020-cash-cover-10/
LOCATION:The Eagle NYC\, New York\, NY\, United States
GEO:40.751624;-74.004346
END:VEVENT
BEGIN:VEVENT
DTSTART;TZID=America/New_York:20251117T220000
DTEND;TZID=America/New_York:20251118T030000
DTSTAMP:20260424T034041
CREATED:20250522T164201Z
LAST-MODIFIED:20250522T164201Z
UID:10007176-1763416800-1763434800@eagle-ny.com
SUMMARY:MONDAY SINday 😊 NO COVER
DESCRIPTION:
URL:https://eagle-ny.com/calendarofevents/monday-sinday-%f0%9f%98%8a-no-cover/2025-11-17/
LOCATION:The Eagle NYC\, New York\, NY\, United States
GEO:40.751624;-74.004346
END:VEVENT
BEGIN:VEVENT
DTSTART;TZID=America/New_York:20251118T220000
DTEND;TZID=America/New_York:20251119T040000
DTSTAMP:20260424T034041
CREATED:20250522T165514Z
LAST-MODIFIED:20250522T165514Z
UID:10007258-1763503200-1763524800@eagle-ny.com
SUMMARY:TWISTED TUESDAY 😊 NO COVER
DESCRIPTION:
URL:https://eagle-ny.com/calendarofevents/twisted-tuesday-%f0%9f%98%8a-no-cover-3/2025-11-18/
LOCATION:The Eagle NYC\, New York\, NY\, United States
GEO:40.751624;-74.004346
END:VEVENT
BEGIN:VEVENT
DTSTART;TZID=America/New_York:20251119T220000
DTEND;TZID=America/New_York:20251120T040000
DTSTAMP:20260424T034041
CREATED:20251015T165548Z
LAST-MODIFIED:20251015T165549Z
UID:10006933-1763589600-1763611200@eagle-ny.com
SUMMARY:🩲 JOCKSTRAP WEDNESDAY 🎧 IPOK 💰 20 CASH COVER
DESCRIPTION:
URL:https://eagle-ny.com/calendarofevents/%f0%9f%a9%b2-jockstrap-wednesday-%f0%9f%8e%a7-%f0%9f%92%b0-20-cash-cover-7-35/
LOCATION:The Eagle NYC\, New York\, NY\, United States
GEO:40.751624;-74.004346
END:VEVENT
BEGIN:VEVENT
DTSTART;TZID=America/New_York:20251120T220000
DTEND;TZID=America/New_York:20251121T000000
DTSTAMP:20260424T034041
CREATED:20251102T055405Z
LAST-MODIFIED:20251102T055405Z
UID:10007490-1763676000-1763683200@eagle-ny.com
SUMMARY:🎧 INTO 💰10 CASH COVER
DESCRIPTION:
URL:https://eagle-ny.com/calendarofevents/%f0%9f%8e%a7-into-%f0%9f%92%b010-cash-cover-5/
LOCATION:The Eagle NYC\, New York\, NY\, United States
GEO:40.751624;-74.004346
END:VEVENT
BEGIN:VEVENT
DTSTART;TZID=America/New_York:20251120T220000
DTEND;TZID=America/New_York:20251121T040000
DTSTAMP:20260424T034041
CREATED:20251015T165826Z
LAST-MODIFIED:20251015T165826Z
UID:10007475-1763676000-1763697600@eagle-ny.com
SUMMARY:🎧 DURON 💰 10 CASH COVER
DESCRIPTION:
URL:https://eagle-ny.com/calendarofevents/%f0%9f%8e%a7-duron-%f0%9f%92%b0-10-cash-cover-4/
LOCATION:The Eagle NYC\, New York\, NY\, United States
GEO:40.751624;-74.004346
END:VEVENT
BEGIN:VEVENT
DTSTART;TZID=America/New_York:20251121T220000
DTEND;TZID=America/New_York:20251122T040000
DTSTAMP:20260424T034041
CREATED:20251015T165956Z
LAST-MODIFIED:20251015T165956Z
UID:10007476-1763762400-1763784000@eagle-ny.com
SUMMARY:🎧 EDWARD FRAME + 🎧 MUSIKDAWG 💰25 CASH COVER
DESCRIPTION:
URL:https://eagle-ny.com/calendarofevents/%f0%9f%8e%a7-edward-frame-%f0%9f%8e%a7-musikdawg-%f0%9f%92%b025-cash-cover/
LOCATION:The Eagle NYC\, New York\, NY\, United States
GEO:40.751624;-74.004346
END:VEVENT
BEGIN:VEVENT
DTSTART;TZID=America/New_York:20251122T220000
DTEND;TZID=America/New_York:20251123T040000
DTSTAMP:20260424T034041
CREATED:20251015T170118Z
LAST-MODIFIED:20251015T170118Z
UID:10007477-1763848800-1763870400@eagle-ny.com
SUMMARY:🎧 T DON + 🎧 JAMES ANDERSEN 💰25 CASH COVER
DESCRIPTION:
URL:https://eagle-ny.com/calendarofevents/%f0%9f%8e%a7-t-don-%f0%9f%8e%a7-james-andersen-%f0%9f%92%b025-cash-cover/
LOCATION:The Eagle NYC\, New York\, NY\, United States
GEO:40.751624;-74.004346
END:VEVENT
BEGIN:VEVENT
DTSTART;TZID=America/New_York:20251123T140000
DTEND;TZID=America/New_York:20251123T180000
DTSTAMP:20260424T034041
CREATED:20251017T201635Z
LAST-MODIFIED:20251017T201706Z
UID:10007478-1763906400-1763920800@eagle-ny.com
SUMMARY:LEATHER MART
DESCRIPTION:
URL:https://eagle-ny.com/calendarofevents/leather-mart/
LOCATION:The Eagle NYC\, New York\, NY\, United States
GEO:40.751624;-74.004346
END:VEVENT
BEGIN:VEVENT
DTSTART;TZID=America/New_York:20251123T170000
DTEND;TZID=America/New_York:20251123T200000
DTSTAMP:20260424T034041
CREATED:20250703T171408Z
LAST-MODIFIED:20250703T171408Z
UID:10007336-1763917200-1763928000@eagle-ny.com
SUMMARY:CIGAR SOCIAL
DESCRIPTION:
URL:https://eagle-ny.com/calendarofevents/cigar-social/2025-11-23/
LOCATION:The Eagle NYC\, New York\, NY\, United States
GEO:40.751624;-74.004346
END:VEVENT
BEGIN:VEVENT
DTSTART;TZID=America/New_York:20251123T170000
DTEND;TZID=America/New_York:20251123T220000
DTSTAMP:20260424T034041
CREATED:20251017T201508Z
LAST-MODIFIED:20251017T201509Z
UID:10007002-1763917200-1763935200@eagle-ny.com
SUMMARY:🍺 BEER BLAST 🎧 CUNNINGHAM  😊 NO COVER TILL 9PM 💰20 COVER AT 9PM
DESCRIPTION:
URL:https://eagle-ny.com/calendarofevents/%f0%9f%8d%ba-beer-blast-%f0%9f%8e%a7-%f0%9f%98%8a-no-cover-till-9pm-%f0%9f%92%b020-cover-at-9pm-35/
LOCATION:The Eagle NYC\, New York\, NY\, United States
GEO:40.751624;-74.004346
END:VEVENT
BEGIN:VEVENT
DTSTART;TZID=America/New_York:20251123T220000
DTEND;TZID=America/New_York:20251124T040000
DTSTAMP:20260424T034041
CREATED:20251017T201821Z
LAST-MODIFIED:20251017T201821Z
UID:10007479-1763935200-1763956800@eagle-ny.com
SUMMARY:🎧 SAM GEE + 🎧 BOBBY DURON 💰20 CASH COVER
DESCRIPTION:
URL:https://eagle-ny.com/calendarofevents/%f0%9f%8e%a7-sam-gee-%f0%9f%8e%a7-bobby-duron-%f0%9f%92%b020-cash-cover-8/
LOCATION:The Eagle NYC\, New York\, NY\, United States
GEO:40.751624;-74.004346
END:VEVENT
END:VCALENDAR