BEGIN:VCALENDAR
VERSION:2.0
PRODID:-//The Eagle NYC - ECPv6.15.20//NONSGML v1.0//EN
CALSCALE:GREGORIAN
METHOD:PUBLISH
X-ORIGINAL-URL:https://eagle-ny.com
X-WR-CALDESC:Events for The Eagle NYC
REFRESH-INTERVAL;VALUE=DURATION:PT1H
X-Robots-Tag:noindex
X-PUBLISHED-TTL:PT1H
BEGIN:VTIMEZONE
TZID:America/New_York
BEGIN:DAYLIGHT
TZOFFSETFROM:-0500
TZOFFSETTO:-0400
TZNAME:EDT
DTSTART:20240310T070000
END:DAYLIGHT
BEGIN:STANDARD
TZOFFSETFROM:-0400
TZOFFSETTO:-0500
TZNAME:EST
DTSTART:20241103T060000
END:STANDARD
BEGIN:DAYLIGHT
TZOFFSETFROM:-0500
TZOFFSETTO:-0400
TZNAME:EDT
DTSTART:20250309T070000
END:DAYLIGHT
BEGIN:STANDARD
TZOFFSETFROM:-0400
TZOFFSETTO:-0500
TZNAME:EST
DTSTART:20251102T060000
END:STANDARD
BEGIN:DAYLIGHT
TZOFFSETFROM:-0500
TZOFFSETTO:-0400
TZNAME:EDT
DTSTART:20260308T070000
END:DAYLIGHT
BEGIN:STANDARD
TZOFFSETFROM:-0400
TZOFFSETTO:-0500
TZNAME:EST
DTSTART:20261101T060000
END:STANDARD
END:VTIMEZONE
BEGIN:VEVENT
DTSTART;TZID=America/New_York:20251026T220000
DTEND;TZID=America/New_York:20251027T040000
DTSTAMP:20260424T055824
CREATED:20250915T045331Z
LAST-MODIFIED:20250915T045331Z
UID:10007460-1761516000-1761537600@eagle-ny.com
SUMMARY:🎧 SAM GEE + 🎧 BOBBY DURON 💰20 CASH COVER
DESCRIPTION:
URL:https://eagle-ny.com/calendarofevents/%f0%9f%8e%a7-sam-gee-%f0%9f%8e%a7-bobby-duron-%f0%9f%92%b020-cash-cover-7/
LOCATION:The Eagle NYC\, New York\, NY\, United States
GEO:40.751624;-74.004346
END:VEVENT
BEGIN:VEVENT
DTSTART;TZID=America/New_York:20251027T220000
DTEND;TZID=America/New_York:20251028T030000
DTSTAMP:20260424T055824
CREATED:20250522T164201Z
LAST-MODIFIED:20250522T164201Z
UID:10007173-1761602400-1761620400@eagle-ny.com
SUMMARY:MONDAY SINday 😊 NO COVER
DESCRIPTION:
URL:https://eagle-ny.com/calendarofevents/monday-sinday-%f0%9f%98%8a-no-cover/2025-10-27/
LOCATION:The Eagle NYC\, New York\, NY\, United States
GEO:40.751624;-74.004346
END:VEVENT
BEGIN:VEVENT
DTSTART;TZID=America/New_York:20251028T220000
DTEND;TZID=America/New_York:20251029T040000
DTSTAMP:20260424T055824
CREATED:20250522T165514Z
LAST-MODIFIED:20250522T165514Z
UID:10007255-1761688800-1761710400@eagle-ny.com
SUMMARY:TWISTED TUESDAY 😊 NO COVER
DESCRIPTION:
URL:https://eagle-ny.com/calendarofevents/twisted-tuesday-%f0%9f%98%8a-no-cover-3/2025-10-28/
LOCATION:The Eagle NYC\, New York\, NY\, United States
GEO:40.751624;-74.004346
END:VEVENT
BEGIN:VEVENT
DTSTART;TZID=America/New_York:20251029T220000
DTEND;TZID=America/New_York:20251030T040000
DTSTAMP:20260424T055824
CREATED:20250910T201025Z
LAST-MODIFIED:20250925T172807Z
UID:10006930-1761775200-1761796800@eagle-ny.com
SUMMARY:🩲 JOCKSTRAP WEDNESDAY 🎧 IPOK 💰 20 CASH COVER
DESCRIPTION:
URL:https://eagle-ny.com/calendarofevents/%f0%9f%a9%b2-jockstrap-wednesday-%f0%9f%8e%a7-%f0%9f%92%b0-20-cash-cover-7-32/
LOCATION:The Eagle NYC\, New York\, NY\, United States
GEO:40.751624;-74.004346
END:VEVENT
BEGIN:VEVENT
DTSTART;TZID=America/New_York:20251030T220000
DTEND;TZID=America/New_York:20251031T040000
DTSTAMP:20260424T055824
CREATED:20250910T200708Z
LAST-MODIFIED:20250910T200708Z
UID:10007451-1761861600-1761883200@eagle-ny.com
SUMMARY:🎧 DURON 💰 10 CASH COVER
DESCRIPTION:
URL:https://eagle-ny.com/calendarofevents/%f0%9f%8e%a7-duron-%f0%9f%92%b0-10-cash-cover-2/
LOCATION:The Eagle NYC\, New York\, NY\, United States
GEO:40.751624;-74.004346
END:VEVENT
BEGIN:VEVENT
DTSTART;TZID=America/New_York:20251031T210000
DTEND;TZID=America/New_York:20251101T000000
DTSTAMP:20260424T055824
CREATED:20251007T185135Z
LAST-MODIFIED:20251007T185254Z
UID:10007464-1761944400-1761955200@eagle-ny.com
SUMMARY:EAGLE HALLOWEEN 2026 🎃 HOST - NANCY NOGOOD
DESCRIPTION:
URL:https://eagle-ny.com/calendarofevents/eagle-halloween-2026-%f0%9f%8e%83-host-nancy-nogood/
LOCATION:The Eagle NYC\, New York\, NY\, United States
GEO:40.751624;-74.004346
END:VEVENT
BEGIN:VEVENT
DTSTART;TZID=America/New_York:20251031T220000
DTEND;TZID=America/New_York:20251101T040000
DTSTAMP:20260424T055824
CREATED:20251003T194206Z
LAST-MODIFIED:20251003T194206Z
UID:10007462-1761948000-1761969600@eagle-ny.com
SUMMARY:🎧 MITCH FERRINO + 🎧 JAMES ANDERSEN 💰25 CASH COVER
DESCRIPTION:
URL:https://eagle-ny.com/calendarofevents/%f0%9f%8e%a7-mitch-ferrino-%f0%9f%8e%a7-james-andersen-%f0%9f%92%b025-cash-cover/
LOCATION:The Eagle NYC\, New York\, NY\, United States
GEO:40.751624;-74.004346
END:VEVENT
BEGIN:VEVENT
DTSTART;TZID=America/New_York:20251101T220000
DTEND;TZID=America/New_York:20251102T000000
DTSTAMP:20260424T055824
CREATED:20240103T093407Z
LAST-MODIFIED:20240103T093547Z
UID:10006070-1762034400-1762041600@eagle-ny.com
SUMMARY:CLUB NIGHT
DESCRIPTION:
URL:https://eagle-ny.com/calendarofevents/club-night-19-2/2025-11-01/
LOCATION:The Eagle NYC\, New York\, NY\, United States
GEO:40.751624;-74.004346
END:VEVENT
BEGIN:VEVENT
DTSTART;TZID=America/New_York:20251101T220000
DTEND;TZID=America/New_York:20251102T040000
DTSTAMP:20260424T055824
CREATED:20251003T194359Z
LAST-MODIFIED:20251003T194359Z
UID:10007463-1762034400-1762056000@eagle-ny.com
SUMMARY:🎧 JAMES ANTHONY + 🎧 JAMES ANDERSEN 💰25 CASH COVER
DESCRIPTION:
URL:https://eagle-ny.com/calendarofevents/%f0%9f%8e%a7-james-anthony-%f0%9f%8e%a7-james-andersen-%f0%9f%92%b025-cash-cover-4/
LOCATION:The Eagle NYC\, New York\, NY\, United States
GEO:40.751624;-74.004346
END:VEVENT
BEGIN:VEVENT
DTSTART;TZID=America/New_York:20251102T170000
DTEND;TZID=America/New_York:20251102T200000
DTSTAMP:20260424T055824
CREATED:20250703T171408Z
LAST-MODIFIED:20250703T171408Z
UID:10007333-1762102800-1762113600@eagle-ny.com
SUMMARY:CIGAR SOCIAL
DESCRIPTION:
URL:https://eagle-ny.com/calendarofevents/cigar-social/2025-11-02/
LOCATION:The Eagle NYC\, New York\, NY\, United States
GEO:40.751624;-74.004346
END:VEVENT
BEGIN:VEVENT
DTSTART;TZID=America/New_York:20251102T170000
DTEND;TZID=America/New_York:20251102T220000
DTSTAMP:20260424T055824
CREATED:20251012T221452Z
LAST-MODIFIED:20251012T221453Z
UID:10006999-1762102800-1762120800@eagle-ny.com
SUMMARY:🍺 BEER BLAST 🎧 ERIK ELIAS  😊 NO COVER TILL 9PM 💰20 COVER AT 9PM
DESCRIPTION:
URL:https://eagle-ny.com/calendarofevents/%f0%9f%8d%ba-beer-blast-%f0%9f%8e%a7-%f0%9f%98%8a-no-cover-till-9pm-%f0%9f%92%b020-cover-at-9pm-32/
LOCATION:The Eagle NYC\, New York\, NY\, United States
GEO:40.751624;-74.004346
END:VEVENT
BEGIN:VEVENT
DTSTART;TZID=America/New_York:20251102T220000
DTEND;TZID=America/New_York:20251103T040000
DTSTAMP:20260424T055824
CREATED:20251012T221648Z
LAST-MODIFIED:20251012T221648Z
UID:10007466-1762120800-1762142400@eagle-ny.com
SUMMARY:🎧 SHANE MARCUS + 🎧 BOBBY DURON 💰20 CASH COVER
DESCRIPTION:
URL:https://eagle-ny.com/calendarofevents/%f0%9f%8e%a7-shane-marcus-%f0%9f%8e%a7-bobby-duron-%f0%9f%92%b020-cash-cover-2/
LOCATION:The Eagle NYC\, New York\, NY\, United States
GEO:40.751624;-74.004346
END:VEVENT
END:VCALENDAR