BEGIN:VCALENDAR
VERSION:2.0
PRODID:-//The Eagle NYC - ECPv6.15.20//NONSGML v1.0//EN
CALSCALE:GREGORIAN
METHOD:PUBLISH
X-WR-CALNAME:The Eagle NYC
X-ORIGINAL-URL:https://eagle-ny.com
X-WR-CALDESC:Events for The Eagle NYC
REFRESH-INTERVAL;VALUE=DURATION:PT1H
X-Robots-Tag:noindex
X-PUBLISHED-TTL:PT1H
BEGIN:VTIMEZONE
TZID:America/New_York
BEGIN:DAYLIGHT
TZOFFSETFROM:-0500
TZOFFSETTO:-0400
TZNAME:EDT
DTSTART:20240310T070000
END:DAYLIGHT
BEGIN:STANDARD
TZOFFSETFROM:-0400
TZOFFSETTO:-0500
TZNAME:EST
DTSTART:20241103T060000
END:STANDARD
BEGIN:DAYLIGHT
TZOFFSETFROM:-0500
TZOFFSETTO:-0400
TZNAME:EDT
DTSTART:20250309T070000
END:DAYLIGHT
BEGIN:STANDARD
TZOFFSETFROM:-0400
TZOFFSETTO:-0500
TZNAME:EST
DTSTART:20251102T060000
END:STANDARD
BEGIN:DAYLIGHT
TZOFFSETFROM:-0500
TZOFFSETTO:-0400
TZNAME:EDT
DTSTART:20260308T070000
END:DAYLIGHT
BEGIN:STANDARD
TZOFFSETFROM:-0400
TZOFFSETTO:-0500
TZNAME:EST
DTSTART:20261101T060000
END:STANDARD
END:VTIMEZONE
BEGIN:VEVENT
DTSTART;TZID=America/New_York:20250914T220000
DTEND;TZID=America/New_York:20250915T040000
DTSTAMP:20260424T080008
CREATED:20250819T161816Z
LAST-MODIFIED:20250819T161816Z
UID:10007418-1757887200-1757908800@eagle-ny.com
SUMMARY:🎧 SAM GEE + 🎧 BOBBY DURON 💰20 CASH COVER
DESCRIPTION:
URL:https://eagle-ny.com/calendarofevents/%f0%9f%8e%a7-sam-gee-%f0%9f%8e%a7-bobby-duron-%f0%9f%92%b020-cash-cover-6/
LOCATION:The Eagle NYC\, New York\, NY\, United States
GEO:40.751624;-74.004346
END:VEVENT
BEGIN:VEVENT
DTSTART;TZID=America/New_York:20250915T220000
DTEND;TZID=America/New_York:20250916T030000
DTSTAMP:20260424T080008
CREATED:20250522T164201Z
LAST-MODIFIED:20250522T164201Z
UID:10007167-1757973600-1757991600@eagle-ny.com
SUMMARY:MONDAY SINday 😊 NO COVER
DESCRIPTION:
URL:https://eagle-ny.com/calendarofevents/monday-sinday-%f0%9f%98%8a-no-cover/2025-09-15/
LOCATION:The Eagle NYC\, New York\, NY\, United States
GEO:40.751624;-74.004346
END:VEVENT
BEGIN:VEVENT
DTSTART;TZID=America/New_York:20250915T220000
DTEND;TZID=America/New_York:20250916T040000
DTSTAMP:20260424T080008
CREATED:20250819T161602Z
LAST-MODIFIED:20250819T161602Z
UID:10007417-1757973600-1757995200@eagle-ny.com
SUMMARY:🎧 SAM GEE + 🎧 BOBBY DURON 💰20 CASH COVER
DESCRIPTION:
URL:https://eagle-ny.com/calendarofevents/%f0%9f%8e%a7-sam-gee-%f0%9f%8e%a7-bobby-duron-%f0%9f%92%b020-cash-cover-5/
LOCATION:The Eagle NYC\, New York\, NY\, United States
GEO:40.751624;-74.004346
END:VEVENT
BEGIN:VEVENT
DTSTART;TZID=America/New_York:20250916T220000
DTEND;TZID=America/New_York:20250917T040000
DTSTAMP:20260424T080008
CREATED:20250522T165514Z
LAST-MODIFIED:20250522T165514Z
UID:10007249-1758060000-1758081600@eagle-ny.com
SUMMARY:TWISTED TUESDAY 😊 NO COVER
DESCRIPTION:
URL:https://eagle-ny.com/calendarofevents/twisted-tuesday-%f0%9f%98%8a-no-cover-3/2025-09-16/
LOCATION:The Eagle NYC\, New York\, NY\, United States
GEO:40.751624;-74.004346
END:VEVENT
BEGIN:VEVENT
DTSTART;TZID=America/New_York:20250917T220000
DTEND;TZID=America/New_York:20250918T040000
DTSTAMP:20260424T080008
CREATED:20250815T171753Z
LAST-MODIFIED:20250815T171754Z
UID:10006924-1758146400-1758168000@eagle-ny.com
SUMMARY:🩲 JOCKSTRAP WEDNESDAY 🎧 BARE NAKED  💰 20 CASH COVER
DESCRIPTION:
URL:https://eagle-ny.com/calendarofevents/%f0%9f%a9%b2-jockstrap-wednesday-%f0%9f%8e%a7-%f0%9f%92%b0-20-cash-cover-7-26/
LOCATION:The Eagle NYC\, New York\, NY\, United States
GEO:40.751624;-74.004346
END:VEVENT
BEGIN:VEVENT
DTSTART;TZID=America/New_York:20250918T220000
DTEND;TZID=America/New_York:20250919T040000
DTSTAMP:20260424T080008
CREATED:20250817T025311Z
LAST-MODIFIED:20250817T025311Z
UID:10007413-1758232800-1758254400@eagle-ny.com
SUMMARY:🎧 BOBBY DURON 💰 10 CASH COVER
DESCRIPTION:
URL:https://eagle-ny.com/calendarofevents/%f0%9f%8e%a7-bobby-duron-%f0%9f%92%b0-10-cash-cover-3/
LOCATION:The Eagle NYC\, New York\, NY\, United States
GEO:40.751624;-74.004346
END:VEVENT
BEGIN:VEVENT
DTSTART;TZID=America/New_York:20250919T220000
DTEND;TZID=America/New_York:20250920T040000
DTSTAMP:20260424T080008
CREATED:20250819T162018Z
LAST-MODIFIED:20250819T162018Z
UID:10007419-1758319200-1758340800@eagle-ny.com
SUMMARY:🎧 CALAGNA + 🎧 LORANT 💰25 CASH COVER
DESCRIPTION:
URL:https://eagle-ny.com/calendarofevents/%f0%9f%8e%a7-calagna-%f0%9f%8e%a7-lorant-%f0%9f%92%b025-cash-cover-3/
LOCATION:The Eagle NYC\, New York\, NY\, United States
GEO:40.751624;-74.004346
END:VEVENT
BEGIN:VEVENT
DTSTART;TZID=America/New_York:20250920T220000
DTEND;TZID=America/New_York:20250921T040000
DTSTAMP:20260424T080008
CREATED:20250819T162546Z
LAST-MODIFIED:20250923T221622Z
UID:10007421-1758405600-1758427200@eagle-ny.com
SUMMARY:🎧 SHANE MARCUS + 🎧 MUSIKDAWG 💰25 CASH COVER
DESCRIPTION:
URL:https://eagle-ny.com/calendarofevents/%f0%9f%8e%a7-sean-marcus-%f0%9f%8e%a7-musikdawg-%f0%9f%92%b025-cash-cover/
LOCATION:The Eagle NYC\, New York\, NY\, United States
GEO:40.751624;-74.004346
END:VEVENT
BEGIN:VEVENT
DTSTART;TZID=America/New_York:20250921T170000
DTEND;TZID=America/New_York:20250921T200000
DTSTAMP:20260424T080008
CREATED:20230701T200441Z
LAST-MODIFIED:20230701T200441Z
UID:10005258-1758474000-1758484800@eagle-ny.com
SUMMARY:BLUF NEW YORK
DESCRIPTION:
URL:https://eagle-ny.com/calendarofevents/bluf-new-york-19/2025-09-21/
LOCATION:The Eagle NYC\, New York\, NY\, United States
GEO:40.751624;-74.004346
END:VEVENT
BEGIN:VEVENT
DTSTART;TZID=America/New_York:20250921T170000
DTEND;TZID=America/New_York:20250921T200000
DTSTAMP:20260424T080008
CREATED:20250703T171408Z
LAST-MODIFIED:20250703T171408Z
UID:10007327-1758474000-1758484800@eagle-ny.com
SUMMARY:CIGAR SOCIAL
DESCRIPTION:
URL:https://eagle-ny.com/calendarofevents/cigar-social/2025-09-21/
LOCATION:The Eagle NYC\, New York\, NY\, United States
GEO:40.751624;-74.004346
END:VEVENT
BEGIN:VEVENT
DTSTART;TZID=America/New_York:20250921T170000
DTEND;TZID=America/New_York:20250921T220000
DTSTAMP:20260424T080008
CREATED:20250825T064651Z
LAST-MODIFIED:20250825T064652Z
UID:10006993-1758474000-1758492000@eagle-ny.com
SUMMARY:🍺 BEER BLAST 🎧 MATTHEW J.  😊 NO COVER TILL 9PM 💰20 COVER AT 9PM
DESCRIPTION:
URL:https://eagle-ny.com/calendarofevents/%f0%9f%8d%ba-beer-blast-%f0%9f%8e%a7-%f0%9f%98%8a-no-cover-till-9pm-%f0%9f%92%b020-cover-at-9pm-27/
LOCATION:The Eagle NYC\, New York\, NY\, United States
GEO:40.751624;-74.004346
END:VEVENT
BEGIN:VEVENT
DTSTART;TZID=America/New_York:20250921T220000
DTEND;TZID=America/New_York:20250922T040000
DTSTAMP:20260424T080008
CREATED:20250819T162353Z
LAST-MODIFIED:20250819T162353Z
UID:10007420-1758492000-1758513600@eagle-ny.com
SUMMARY:🎧 AJ REDDY + 🎧 BOBBY DURON 💰20 CASH COVER
DESCRIPTION:
URL:https://eagle-ny.com/calendarofevents/%f0%9f%8e%a7-aj-reddy-%f0%9f%8e%a7-bobby-duron-%f0%9f%92%b020-cash-cover-8/
LOCATION:The Eagle NYC\, New York\, NY\, United States
GEO:40.751624;-74.004346
END:VEVENT
END:VCALENDAR