BEGIN:VCALENDAR
VERSION:2.0
PRODID:-//The Eagle NYC - ECPv6.15.20//NONSGML v1.0//EN
CALSCALE:GREGORIAN
METHOD:PUBLISH
X-ORIGINAL-URL:https://eagle-ny.com
X-WR-CALDESC:Events for The Eagle NYC
REFRESH-INTERVAL;VALUE=DURATION:PT1H
X-Robots-Tag:noindex
X-PUBLISHED-TTL:PT1H
BEGIN:VTIMEZONE
TZID:America/New_York
BEGIN:DAYLIGHT
TZOFFSETFROM:-0500
TZOFFSETTO:-0400
TZNAME:EDT
DTSTART:20240310T070000
END:DAYLIGHT
BEGIN:STANDARD
TZOFFSETFROM:-0400
TZOFFSETTO:-0500
TZNAME:EST
DTSTART:20241103T060000
END:STANDARD
BEGIN:DAYLIGHT
TZOFFSETFROM:-0500
TZOFFSETTO:-0400
TZNAME:EDT
DTSTART:20250309T070000
END:DAYLIGHT
BEGIN:STANDARD
TZOFFSETFROM:-0400
TZOFFSETTO:-0500
TZNAME:EST
DTSTART:20251102T060000
END:STANDARD
BEGIN:DAYLIGHT
TZOFFSETFROM:-0500
TZOFFSETTO:-0400
TZNAME:EDT
DTSTART:20260308T070000
END:DAYLIGHT
BEGIN:STANDARD
TZOFFSETFROM:-0400
TZOFFSETTO:-0500
TZNAME:EST
DTSTART:20261101T060000
END:STANDARD
END:VTIMEZONE
BEGIN:VEVENT
DTSTART;TZID=America/New_York:20250817T220000
DTEND;TZID=America/New_York:20250818T040000
DTSTAMP:20260424T095602
CREATED:20250723T205208Z
LAST-MODIFIED:20250723T205208Z
UID:10007394-1755468000-1755489600@eagle-ny.com
SUMMARY:🎧 BARE NAKED + 🎧 BOBBY DURON 💰20 CASH COVER
DESCRIPTION:
URL:https://eagle-ny.com/calendarofevents/%f0%9f%8e%a7-bare-naked-%f0%9f%8e%a7-bobby-duron-%f0%9f%92%b020-cash-cover/
LOCATION:The Eagle NYC\, New York\, NY\, United States
GEO:40.751624;-74.004346
END:VEVENT
BEGIN:VEVENT
DTSTART;TZID=America/New_York:20250818T220000
DTEND;TZID=America/New_York:20250819T030000
DTSTAMP:20260424T095602
CREATED:20250522T164201Z
LAST-MODIFIED:20250522T164201Z
UID:10007163-1755554400-1755572400@eagle-ny.com
SUMMARY:MONDAY SINday 😊 NO COVER
DESCRIPTION:
URL:https://eagle-ny.com/calendarofevents/monday-sinday-%f0%9f%98%8a-no-cover/2025-08-18/
LOCATION:The Eagle NYC\, New York\, NY\, United States
GEO:40.751624;-74.004346
END:VEVENT
BEGIN:VEVENT
DTSTART;TZID=America/New_York:20250819T220000
DTEND;TZID=America/New_York:20250820T040000
DTSTAMP:20260424T095602
CREATED:20250522T165514Z
LAST-MODIFIED:20250522T165514Z
UID:10007245-1755640800-1755662400@eagle-ny.com
SUMMARY:TWISTED TUESDAY 😊 NO COVER
DESCRIPTION:
URL:https://eagle-ny.com/calendarofevents/twisted-tuesday-%f0%9f%98%8a-no-cover-3/2025-08-19/
LOCATION:The Eagle NYC\, New York\, NY\, United States
GEO:40.751624;-74.004346
END:VEVENT
BEGIN:VEVENT
DTSTART;TZID=America/New_York:20250820T220000
DTEND;TZID=America/New_York:20250821T040000
DTSTAMP:20260424T095602
CREATED:20250723T205758Z
LAST-MODIFIED:20250723T205759Z
UID:10006920-1755727200-1755748800@eagle-ny.com
SUMMARY:🩲 JOCKSTRAP WEDNESDAY 🎧 BARE NAKED 💰 20 CASH COVER
DESCRIPTION:
URL:https://eagle-ny.com/calendarofevents/%f0%9f%a9%b2-jockstrap-wednesday-%f0%9f%8e%a7-%f0%9f%92%b0-20-cash-cover-7-22/
LOCATION:The Eagle NYC\, New York\, NY\, United States
GEO:40.751624;-74.004346
END:VEVENT
BEGIN:VEVENT
DTSTART;TZID=America/New_York:20250821T220000
DTEND;TZID=America/New_York:20250822T000000
DTSTAMP:20260424T095602
CREATED:20250731T232225Z
LAST-MODIFIED:20250801T181335Z
UID:10007403-1755813600-1755820800@eagle-ny.com
SUMMARY:🎧 INTO 💰10 CASH COVER
DESCRIPTION:
URL:https://eagle-ny.com/calendarofevents/%f0%9f%8e%a7-into-%f0%9f%92%b010-cash-cover-2/
LOCATION:The Eagle NYC\, New York\, NY\, United States
GEO:40.751624;-74.004346
END:VEVENT
BEGIN:VEVENT
DTSTART;TZID=America/New_York:20250821T220000
DTEND;TZID=America/New_York:20250822T040000
DTSTAMP:20260424T095602
CREATED:20250723T205905Z
LAST-MODIFIED:20250723T205905Z
UID:10007397-1755813600-1755835200@eagle-ny.com
SUMMARY:🎧 STEVE CUNNINGHAM 💰10 CASH COVER
DESCRIPTION:
URL:https://eagle-ny.com/calendarofevents/%f0%9f%8e%a7-steve-cunningham-%f0%9f%92%b010-cash-cover-6/
LOCATION:The Eagle NYC\, New York\, NY\, United States
GEO:40.751624;-74.004346
END:VEVENT
BEGIN:VEVENT
DTSTART;TZID=America/New_York:20250822T220000
DTEND;TZID=America/New_York:20250823T040000
DTSTAMP:20260424T095602
CREATED:20250723T210156Z
LAST-MODIFIED:20250723T210156Z
UID:10007401-1755900000-1755921600@eagle-ny.com
SUMMARY:🎧 SEAN PARKS + 🎧 LORANT 💰25 CASH COVER
DESCRIPTION:
URL:https://eagle-ny.com/calendarofevents/%f0%9f%8e%a7-sean-parks-%f0%9f%8e%a7-lorant-%f0%9f%92%b025-cash-cover/
LOCATION:The Eagle NYC\, New York\, NY\, United States
GEO:40.751624;-74.004346
END:VEVENT
BEGIN:VEVENT
DTSTART;TZID=America/New_York:20250823T220000
DTEND;TZID=America/New_York:20250824T040000
DTSTAMP:20260424T095602
CREATED:20250723T210322Z
LAST-MODIFIED:20250723T210322Z
UID:10007402-1755986400-1756008000@eagle-ny.com
SUMMARY:🎧 FERRINO + 🎧 ERIK ELIAS 💰25 CASH COVER
DESCRIPTION:
URL:https://eagle-ny.com/calendarofevents/%f0%9f%8e%a7-ferrino-%f0%9f%8e%a7-erik-elias-%f0%9f%92%b025-cash-cover/
LOCATION:The Eagle NYC\, New York\, NY\, United States
GEO:40.751624;-74.004346
END:VEVENT
BEGIN:VEVENT
DTSTART;TZID=America/New_York:20250824T170000
DTEND;TZID=America/New_York:20250824T200000
DTSTAMP:20260424T095602
CREATED:20250703T171408Z
LAST-MODIFIED:20250703T171408Z
UID:10007323-1756054800-1756065600@eagle-ny.com
SUMMARY:CIGAR SOCIAL
DESCRIPTION:
URL:https://eagle-ny.com/calendarofevents/cigar-social/2025-08-24/
LOCATION:The Eagle NYC\, New York\, NY\, United States
GEO:40.751624;-74.004346
END:VEVENT
BEGIN:VEVENT
DTSTART;TZID=America/New_York:20250824T170000
DTEND;TZID=America/New_York:20250824T220000
DTSTAMP:20260424T095602
CREATED:20250801T180730Z
LAST-MODIFIED:20250801T180731Z
UID:10006989-1756054800-1756072800@eagle-ny.com
SUMMARY:🍺 BEER BLAST 🎧 CUNNINGHAM 😊 NO COVER TILL 9PM 💰20 COVER AT 9PM
DESCRIPTION:
URL:https://eagle-ny.com/calendarofevents/%f0%9f%8d%ba-beer-blast-%f0%9f%8e%a7-%f0%9f%98%8a-no-cover-till-9pm-%f0%9f%92%b020-cover-at-9pm-23/
LOCATION:The Eagle NYC\, New York\, NY\, United States
GEO:40.751624;-74.004346
END:VEVENT
BEGIN:VEVENT
DTSTART;TZID=America/New_York:20250824T220000
DTEND;TZID=America/New_York:20250825T040000
DTSTAMP:20260424T095602
CREATED:20250801T180842Z
LAST-MODIFIED:20250801T180842Z
UID:10007405-1756072800-1756094400@eagle-ny.com
SUMMARY:🎧 SAM GEE + 🎧 BOBBY DURON 💰20 CASH COVER
DESCRIPTION:
URL:https://eagle-ny.com/calendarofevents/%f0%9f%8e%a7-sam-gee-%f0%9f%8e%a7-bobby-duron-%f0%9f%92%b020-cash-cover-4/
LOCATION:The Eagle NYC\, New York\, NY\, United States
GEO:40.751624;-74.004346
END:VEVENT
END:VCALENDAR