BEGIN:VCALENDAR
VERSION:2.0
PRODID:-//The Eagle NYC - ECPv6.15.20//NONSGML v1.0//EN
CALSCALE:GREGORIAN
METHOD:PUBLISH
X-ORIGINAL-URL:https://eagle-ny.com
X-WR-CALDESC:Events for The Eagle NYC
REFRESH-INTERVAL;VALUE=DURATION:PT1H
X-Robots-Tag:noindex
X-PUBLISHED-TTL:PT1H
BEGIN:VTIMEZONE
TZID:America/New_York
BEGIN:DAYLIGHT
TZOFFSETFROM:-0500
TZOFFSETTO:-0400
TZNAME:EDT
DTSTART:20240310T070000
END:DAYLIGHT
BEGIN:STANDARD
TZOFFSETFROM:-0400
TZOFFSETTO:-0500
TZNAME:EST
DTSTART:20241103T060000
END:STANDARD
BEGIN:DAYLIGHT
TZOFFSETFROM:-0500
TZOFFSETTO:-0400
TZNAME:EDT
DTSTART:20250309T070000
END:DAYLIGHT
BEGIN:STANDARD
TZOFFSETFROM:-0400
TZOFFSETTO:-0500
TZNAME:EST
DTSTART:20251102T060000
END:STANDARD
BEGIN:DAYLIGHT
TZOFFSETFROM:-0500
TZOFFSETTO:-0400
TZNAME:EDT
DTSTART:20260308T070000
END:DAYLIGHT
BEGIN:STANDARD
TZOFFSETFROM:-0400
TZOFFSETTO:-0500
TZNAME:EST
DTSTART:20261101T060000
END:STANDARD
END:VTIMEZONE
BEGIN:VEVENT
DTSTART;TZID=America/New_York:20250608T220000
DTEND;TZID=America/New_York:20250609T040000
DTSTAMP:20260424T151918
CREATED:20250503T111102Z
LAST-MODIFIED:20250503T111102Z
UID:10007113-1749420000-1749441600@eagle-ny.com
SUMMARY:🎧 MUSIKDAWG + 🎧 BOBBY DURON 💰20 CASH COVER
DESCRIPTION:
URL:https://eagle-ny.com/calendarofevents/%f0%9f%8e%a7-musikdawg-%f0%9f%8e%a7-bobby-duron-%f0%9f%92%b020-cash-cover-3/
LOCATION:The Eagle NYC\, New York\, NY\, United States
GEO:40.751624;-74.004346
END:VEVENT
BEGIN:VEVENT
DTSTART;TZID=America/New_York:20250609T220000
DTEND;TZID=America/New_York:20250610T030000
DTSTAMP:20260424T151918
CREATED:20250522T164201Z
LAST-MODIFIED:20250522T164201Z
UID:10007154-1749506400-1749524400@eagle-ny.com
SUMMARY:MONDAY SINday 😊 NO COVER
DESCRIPTION:
URL:https://eagle-ny.com/calendarofevents/monday-sinday-%f0%9f%98%8a-no-cover/2025-06-09/
LOCATION:The Eagle NYC\, New York\, NY\, United States
GEO:40.751624;-74.004346
END:VEVENT
BEGIN:VEVENT
DTSTART;TZID=America/New_York:20250610T220000
DTEND;TZID=America/New_York:20250611T040000
DTSTAMP:20260424T151918
CREATED:20250522T165514Z
LAST-MODIFIED:20250522T165514Z
UID:10007236-1749592800-1749614400@eagle-ny.com
SUMMARY:TWISTED TUESDAY 😊 NO COVER
DESCRIPTION:
URL:https://eagle-ny.com/calendarofevents/twisted-tuesday-%f0%9f%98%8a-no-cover-3/2025-06-10/
LOCATION:The Eagle NYC\, New York\, NY\, United States
GEO:40.751624;-74.004346
END:VEVENT
BEGIN:VEVENT
DTSTART;TZID=America/New_York:20250611T220000
DTEND;TZID=America/New_York:20250612T040000
DTSTAMP:20260424T151918
CREATED:20250503T111341Z
LAST-MODIFIED:20250503T111342Z
UID:10006910-1749679200-1749700800@eagle-ny.com
SUMMARY:🩲 JOCKSTRAP WEDNESDAY 🎧 MITCH FERRINO  💰 20 CASH COVER
DESCRIPTION:
URL:https://eagle-ny.com/calendarofevents/%f0%9f%a9%b2-jockstrap-wednesday-%f0%9f%8e%a7-%f0%9f%92%b0-20-cash-cover-7-13/
LOCATION:The Eagle NYC\, New York\, NY\, United States
GEO:40.751624;-74.004346
END:VEVENT
BEGIN:VEVENT
DTSTART;TZID=America/New_York:20250612T220000
DTEND;TZID=America/New_York:20250613T000000
DTSTAMP:20260424T151918
CREATED:20250606T191113Z
LAST-MODIFIED:20250606T191159Z
UID:10007303-1749765600-1749772800@eagle-ny.com
SUMMARY:INTO? 💰10 CASH COVER
DESCRIPTION:
URL:https://eagle-ny.com/calendarofevents/into-3/
LOCATION:The Eagle NYC\, New York\, NY\, United States
GEO:40.751624;-74.004346
END:VEVENT
BEGIN:VEVENT
DTSTART;TZID=America/New_York:20250612T220000
DTEND;TZID=America/New_York:20250613T040000
DTSTAMP:20260424T151918
CREATED:20250507T102010Z
LAST-MODIFIED:20250507T102010Z
UID:10007116-1749765600-1749787200@eagle-ny.com
SUMMARY:🎧 STEVE CUNNINGHAM 💰10 CASH COVER
DESCRIPTION:
URL:https://eagle-ny.com/calendarofevents/%f0%9f%8e%a7-steve-cunningham-%f0%9f%92%b010-cash-cover-4/
LOCATION:The Eagle NYC\, New York\, NY\, United States
GEO:40.751624;-74.004346
END:VEVENT
BEGIN:VEVENT
DTSTART;TZID=America/New_York:20250613T220000
DTEND;TZID=America/New_York:20250614T040000
DTSTAMP:20260424T151918
CREATED:20250507T102426Z
LAST-MODIFIED:20250507T102515Z
UID:10007119-1749852000-1749873600@eagle-ny.com
SUMMARY:🎧 DEANNE + 🎧 ERIK ELIAS 💰25 CASH COVER
DESCRIPTION:
URL:https://eagle-ny.com/calendarofevents/%f0%9f%8e%a7-deanne-%f0%9f%8e%a7-erik-elias-%f0%9f%92%b025-cash-cover/
LOCATION:The Eagle NYC\, New York\, NY\, United States
GEO:40.751624;-74.004346
END:VEVENT
BEGIN:VEVENT
DTSTART;TZID=America/New_York:20250614T220000
DTEND;TZID=America/New_York:20250615T040000
DTSTAMP:20260424T151918
CREATED:20250507T102638Z
LAST-MODIFIED:20250507T102638Z
UID:10007120-1749938400-1749960000@eagle-ny.com
SUMMARY:🎧 JOSHUA RUIZ + 🎧 JAMES ANDERSEN 💰25 CASH COVER
DESCRIPTION:
URL:https://eagle-ny.com/calendarofevents/%f0%9f%8e%a7-joshua-ruiz-%f0%9f%8e%a7-james-andersen-%f0%9f%92%b025-cash-cover/
LOCATION:The Eagle NYC\, New York\, NY\, United States
GEO:40.751624;-74.004346
END:VEVENT
BEGIN:VEVENT
DTSTART;TZID=America/New_York:20250615T140000
DTEND;TZID=America/New_York:20250615T210000
DTSTAMP:20260424T151918
CREATED:20250507T102750Z
LAST-MODIFIED:20250603T051856Z
UID:10006979-1749996000-1750021200@eagle-ny.com
SUMMARY:⚙️ LEATHER & KINK ⚙️  💰20 COVER AT 2PM 💰30 AT 9PM 🎧 ERIK ELIAS + 🎧 BOBBY DURON
DESCRIPTION:
URL:https://eagle-ny.com/calendarofevents/%f0%9f%8d%ba-beer-blast-%f0%9f%8e%a7-%f0%9f%98%8a-no-cover-till-9pm-%f0%9f%92%b020-cover-at-9pm-14/
LOCATION:The Eagle NYC\, New York\, NY\, United States
GEO:40.751624;-74.004346
END:VEVENT
BEGIN:VEVENT
DTSTART;TZID=America/New_York:20250615T210000
DTEND;TZID=America/New_York:20250616T040000
DTSTAMP:20260424T151918
CREATED:20250507T102910Z
LAST-MODIFIED:20250603T051744Z
UID:10007121-1750021200-1750046400@eagle-ny.com
SUMMARY:🎧 AJ REDDY + 🎧 BOBBY DURON 💰30 CASH COVER
DESCRIPTION:
URL:https://eagle-ny.com/calendarofevents/%f0%9f%8e%a7-aj-reddy-%f0%9f%8e%a7-bobby-duron-%f0%9f%92%b020-cash-cover-5/
LOCATION:The Eagle NYC\, New York\, NY\, United States
GEO:40.751624;-74.004346
END:VEVENT
END:VCALENDAR