BEGIN:VCALENDAR
VERSION:2.0
PRODID:-//The Eagle NYC - ECPv6.15.20//NONSGML v1.0//EN
CALSCALE:GREGORIAN
METHOD:PUBLISH
X-WR-CALNAME:The Eagle NYC
X-ORIGINAL-URL:https://eagle-ny.com
X-WR-CALDESC:Events for The Eagle NYC
REFRESH-INTERVAL;VALUE=DURATION:PT1H
X-Robots-Tag:noindex
X-PUBLISHED-TTL:PT1H
BEGIN:VTIMEZONE
TZID:America/New_York
BEGIN:DAYLIGHT
TZOFFSETFROM:-0500
TZOFFSETTO:-0400
TZNAME:EDT
DTSTART:20240310T070000
END:DAYLIGHT
BEGIN:STANDARD
TZOFFSETFROM:-0400
TZOFFSETTO:-0500
TZNAME:EST
DTSTART:20241103T060000
END:STANDARD
BEGIN:DAYLIGHT
TZOFFSETFROM:-0500
TZOFFSETTO:-0400
TZNAME:EDT
DTSTART:20250309T070000
END:DAYLIGHT
BEGIN:STANDARD
TZOFFSETFROM:-0400
TZOFFSETTO:-0500
TZNAME:EST
DTSTART:20251102T060000
END:STANDARD
BEGIN:DAYLIGHT
TZOFFSETFROM:-0500
TZOFFSETTO:-0400
TZNAME:EDT
DTSTART:20260308T070000
END:DAYLIGHT
BEGIN:STANDARD
TZOFFSETFROM:-0400
TZOFFSETTO:-0500
TZNAME:EST
DTSTART:20261101T060000
END:STANDARD
END:VTIMEZONE
BEGIN:VEVENT
DTSTART;TZID=America/New_York:20250525T220000
DTEND;TZID=America/New_York:20250526T040000
DTSTAMP:20260424T115653
CREATED:20250414T132311Z
LAST-MODIFIED:20250414T132311Z
UID:10007106-1748210400-1748232000@eagle-ny.com
SUMMARY:🎧 DANI TORO + 🎧 MUSIKDAWG 💰20 CASH COVER
DESCRIPTION:
URL:https://eagle-ny.com/calendarofevents/%f0%9f%8e%a7-dani-toro-%f0%9f%8e%a7-musikdawg-%f0%9f%92%b020-cash-cover/
LOCATION:The Eagle NYC\, New York\, NY\, United States
GEO:40.751624;-74.004346
END:VEVENT
BEGIN:VEVENT
DTSTART;TZID=America/New_York:20250526T220000
DTEND;TZID=America/New_York:20250527T030000
DTSTAMP:20260424T115653
CREATED:20250522T164201Z
LAST-MODIFIED:20250522T164201Z
UID:10007152-1748296800-1748314800@eagle-ny.com
SUMMARY:MONDAY SINday 😊 NO COVER
DESCRIPTION:
URL:https://eagle-ny.com/calendarofevents/monday-sinday-%f0%9f%98%8a-no-cover/2025-05-26/
LOCATION:The Eagle NYC\, New York\, NY\, United States
GEO:40.751624;-74.004346
END:VEVENT
BEGIN:VEVENT
DTSTART;TZID=America/New_York:20250527T220000
DTEND;TZID=America/New_York:20250528T040000
DTSTAMP:20260424T115653
CREATED:20250522T165514Z
LAST-MODIFIED:20250522T165514Z
UID:10007234-1748383200-1748404800@eagle-ny.com
SUMMARY:TWISTED TUESDAY 😊 NO COVER
DESCRIPTION:
URL:https://eagle-ny.com/calendarofevents/twisted-tuesday-%f0%9f%98%8a-no-cover-3/2025-05-27/
LOCATION:The Eagle NYC\, New York\, NY\, United States
GEO:40.751624;-74.004346
END:VEVENT
BEGIN:VEVENT
DTSTART;TZID=America/New_York:20250528T220000
DTEND;TZID=America/New_York:20250529T040000
DTSTAMP:20260424T115653
CREATED:20250404T095739Z
LAST-MODIFIED:20250404T095740Z
UID:10006908-1748469600-1748491200@eagle-ny.com
SUMMARY:🩲 JOCKSTRAP WEDNESDAY 🎧 MITCH FERRINO  💰 20 CASH COVER
DESCRIPTION:
URL:https://eagle-ny.com/calendarofevents/%f0%9f%a9%b2-jockstrap-wednesday-%f0%9f%8e%a7-%f0%9f%92%b0-20-cash-cover-7-11/
LOCATION:The Eagle NYC\, New York\, NY\, United States
GEO:40.751624;-74.004346
END:VEVENT
BEGIN:VEVENT
DTSTART;TZID=America/New_York:20250529T220000
DTEND;TZID=America/New_York:20250530T040000
DTSTAMP:20260424T115653
CREATED:20250414T132059Z
LAST-MODIFIED:20250414T132059Z
UID:10007105-1748556000-1748577600@eagle-ny.com
SUMMARY:🎧 GREG BRAM 💰10 CASH COVER
DESCRIPTION:
URL:https://eagle-ny.com/calendarofevents/%f0%9f%8e%a7-greg-bram-%f0%9f%92%b010-cash-cover/
LOCATION:The Eagle NYC\, New York\, NY\, United States
GEO:40.751624;-74.004346
END:VEVENT
BEGIN:VEVENT
DTSTART;TZID=America/New_York:20250530T220000
DTEND;TZID=America/New_York:20250531T040000
DTSTAMP:20260424T115653
CREATED:20250417T123537Z
LAST-MODIFIED:20250417T123537Z
UID:10007108-1748642400-1748664000@eagle-ny.com
SUMMARY:🎧 CALAGNA + 🎧 LORANT 💰25 CASH COVER
DESCRIPTION:
URL:https://eagle-ny.com/calendarofevents/%f0%9f%8e%a7-calagna-%f0%9f%8e%a7-lorant-%f0%9f%92%b025-cash-cover-2/
LOCATION:The Eagle NYC\, New York\, NY\, United States
GEO:40.751624;-74.004346
END:VEVENT
BEGIN:VEVENT
DTSTART;TZID=America/New_York:20250531T220000
DTEND;TZID=America/New_York:20250601T040000
DTSTAMP:20260424T115653
CREATED:20250417T123709Z
LAST-MODIFIED:20250417T123709Z
UID:10007109-1748728800-1748750400@eagle-ny.com
SUMMARY:🎧 KEVIN ANTHONY + 🎧 MUSIKDAWG 💰25 CASH COVER
DESCRIPTION:
URL:https://eagle-ny.com/calendarofevents/%f0%9f%8e%a7-kevin-anthony-%f0%9f%8e%a7-musikdawg-%f0%9f%92%b025-cash-cover/
LOCATION:The Eagle NYC\, New York\, NY\, United States
GEO:40.751624;-74.004346
END:VEVENT
BEGIN:VEVENT
DTSTART;TZID=America/New_York:20250601T170000
DTEND;TZID=America/New_York:20250601T220000
DTSTAMP:20260424T115653
CREATED:20250503T102627Z
LAST-MODIFIED:20250503T102628Z
UID:10006977-1748797200-1748815200@eagle-ny.com
SUMMARY:🍺 BEER BLAST 🎧 ERIK ELIAS  😊 NO COVER TILL 9PM 💰20 COVER AT 9PM
DESCRIPTION:
URL:https://eagle-ny.com/calendarofevents/%f0%9f%8d%ba-beer-blast-%f0%9f%8e%a7-%f0%9f%98%8a-no-cover-till-9pm-%f0%9f%92%b020-cover-at-9pm-12/
LOCATION:The Eagle NYC\, New York\, NY\, United States
GEO:40.751624;-74.004346
END:VEVENT
BEGIN:VEVENT
DTSTART;TZID=America/New_York:20250601T220000
DTEND;TZID=America/New_York:20250602T040000
DTSTAMP:20260424T115653
CREATED:20250503T111211Z
LAST-MODIFIED:20250503T111211Z
UID:10007114-1748815200-1748836800@eagle-ny.com
SUMMARY:🎧 MITCH FERRINO + 🎧 BOBBY DURON 💰20 CASH COVER
DESCRIPTION:
URL:https://eagle-ny.com/calendarofevents/%f0%9f%8e%a7-mitch-ferrino-%f0%9f%8e%a7-bobby-duron-%f0%9f%92%b020-cash-cover/
LOCATION:The Eagle NYC\, New York\, NY\, United States
GEO:40.751624;-74.004346
END:VEVENT
END:VCALENDAR