BEGIN:VCALENDAR
VERSION:2.0
PRODID:-//The Eagle NYC - ECPv6.15.20//NONSGML v1.0//EN
CALSCALE:GREGORIAN
METHOD:PUBLISH
X-ORIGINAL-URL:https://eagle-ny.com
X-WR-CALDESC:Events for The Eagle NYC
REFRESH-INTERVAL;VALUE=DURATION:PT1H
X-Robots-Tag:noindex
X-PUBLISHED-TTL:PT1H
BEGIN:VTIMEZONE
TZID:America/New_York
BEGIN:DAYLIGHT
TZOFFSETFROM:-0500
TZOFFSETTO:-0400
TZNAME:EDT
DTSTART:20240310T070000
END:DAYLIGHT
BEGIN:STANDARD
TZOFFSETFROM:-0400
TZOFFSETTO:-0500
TZNAME:EST
DTSTART:20241103T060000
END:STANDARD
BEGIN:DAYLIGHT
TZOFFSETFROM:-0500
TZOFFSETTO:-0400
TZNAME:EDT
DTSTART:20250309T070000
END:DAYLIGHT
BEGIN:STANDARD
TZOFFSETFROM:-0400
TZOFFSETTO:-0500
TZNAME:EST
DTSTART:20251102T060000
END:STANDARD
BEGIN:DAYLIGHT
TZOFFSETFROM:-0500
TZOFFSETTO:-0400
TZNAME:EDT
DTSTART:20260308T070000
END:DAYLIGHT
BEGIN:STANDARD
TZOFFSETFROM:-0400
TZOFFSETTO:-0500
TZNAME:EST
DTSTART:20261101T060000
END:STANDARD
END:VTIMEZONE
BEGIN:VEVENT
DTSTART;TZID=America/New_York:20250518T220000
DTEND;TZID=America/New_York:20250519T040000
DTSTAMP:20260424T153024
CREATED:20250414T114617Z
LAST-MODIFIED:20250414T114657Z
UID:10007102-1747605600-1747627200@eagle-ny.com
SUMMARY:🎧 AJ REDDY + 🎧 BOBBY DURON 💰20 CASH COVER
DESCRIPTION:
URL:https://eagle-ny.com/calendarofevents/%f0%9f%8e%a7-aj-reddy-%f0%9f%8e%a7-bobby-duron-%f0%9f%92%b020-cash-cover-4/
LOCATION:The Eagle NYC\, New York\, NY\, United States
GEO:40.751624;-74.004346
END:VEVENT
BEGIN:VEVENT
DTSTART;TZID=America/New_York:20250519T220000
DTEND;TZID=America/New_York:20250520T030000
DTSTAMP:20260424T153024
CREATED:20250522T164201Z
LAST-MODIFIED:20250522T164201Z
UID:10007151-1747692000-1747710000@eagle-ny.com
SUMMARY:MONDAY SINday 😊 NO COVER
DESCRIPTION:
URL:https://eagle-ny.com/calendarofevents/monday-sinday-%f0%9f%98%8a-no-cover/2025-05-19/
LOCATION:The Eagle NYC\, New York\, NY\, United States
GEO:40.751624;-74.004346
END:VEVENT
BEGIN:VEVENT
DTSTART;TZID=America/New_York:20250520T220000
DTEND;TZID=America/New_York:20250521T040000
DTSTAMP:20260424T153024
CREATED:20250522T165514Z
LAST-MODIFIED:20250522T165514Z
UID:10007233-1747778400-1747800000@eagle-ny.com
SUMMARY:TWISTED TUESDAY 😊 NO COVER
DESCRIPTION:
URL:https://eagle-ny.com/calendarofevents/twisted-tuesday-%f0%9f%98%8a-no-cover-3/2025-05-20/
LOCATION:The Eagle NYC\, New York\, NY\, United States
GEO:40.751624;-74.004346
END:VEVENT
BEGIN:VEVENT
DTSTART;TZID=America/New_York:20250521T220000
DTEND;TZID=America/New_York:20250522T040000
DTSTAMP:20260424T153024
CREATED:20250404T095641Z
LAST-MODIFIED:20250404T095643Z
UID:10006907-1747864800-1747886400@eagle-ny.com
SUMMARY:🩲 JOCKSTRAP WEDNESDAY 🎧 BARE NAKED  💰 20 CASH COVER
DESCRIPTION:
URL:https://eagle-ny.com/calendarofevents/%f0%9f%a9%b2-jockstrap-wednesday-%f0%9f%8e%a7-%f0%9f%92%b0-20-cash-cover-7-10/
LOCATION:The Eagle NYC\, New York\, NY\, United States
GEO:40.751624;-74.004346
END:VEVENT
BEGIN:VEVENT
DTSTART;TZID=America/New_York:20250522T220000
DTEND;TZID=America/New_York:20250523T040000
DTSTAMP:20260424T153024
CREATED:20250410T000852Z
LAST-MODIFIED:20250410T000852Z
UID:10007077-1747951200-1747972800@eagle-ny.com
SUMMARY:🎧 STEVE CUNNINGHAM 💰10 CASH COVER
DESCRIPTION:
URL:https://eagle-ny.com/calendarofevents/%f0%9f%8e%a7-steve-cunningham-%f0%9f%92%b010-cash-cover-3/
LOCATION:The Eagle NYC\, New York\, NY\, United States
GEO:40.751624;-74.004346
END:VEVENT
BEGIN:VEVENT
DTSTART;TZID=America/New_York:20250523T220000
DTEND;TZID=America/New_York:20250524T040000
DTSTAMP:20260424T153024
CREATED:20250414T114841Z
LAST-MODIFIED:20250414T114841Z
UID:10007103-1748037600-1748059200@eagle-ny.com
SUMMARY:🎧 TWISTED DEE + 🎧 MATTHEW J. 💰25 CASH COVER
DESCRIPTION:
URL:https://eagle-ny.com/calendarofevents/%f0%9f%8e%a7-twisted-dee-%f0%9f%8e%a7-matthew-j-%f0%9f%92%b025-cash-cover/
LOCATION:The Eagle NYC\, New York\, NY\, United States
GEO:40.751624;-74.004346
END:VEVENT
BEGIN:VEVENT
DTSTART;TZID=America/New_York:20250524T220000
DTEND;TZID=America/New_York:20250525T040000
DTSTAMP:20260424T153024
CREATED:20250414T115031Z
LAST-MODIFIED:20250414T115031Z
UID:10007104-1748124000-1748145600@eagle-ny.com
SUMMARY:🎧 BRADY PRINCE + 🎧 JAMES ANDERSEN 💰25 CASH COVER
DESCRIPTION:
URL:https://eagle-ny.com/calendarofevents/%f0%9f%8e%a7-brady-prince-%f0%9f%8e%a7-james-andersen-%f0%9f%92%b025-cash-cover/
LOCATION:The Eagle NYC\, New York\, NY\, United States
GEO:40.751624;-74.004346
END:VEVENT
BEGIN:VEVENT
DTSTART;TZID=America/New_York:20250525T170000
DTEND;TZID=America/New_York:20250525T220000
DTSTAMP:20260424T153024
CREATED:20250414T115138Z
LAST-MODIFIED:20250414T115241Z
UID:10006976-1748192400-1748210400@eagle-ny.com
SUMMARY:🍺 BEER BLAST 🎧 CUNNINGHAM 😊 NO COVER TILL 9PM 💰20 COVER AT 9PM
DESCRIPTION:
URL:https://eagle-ny.com/calendarofevents/%f0%9f%8d%ba-beer-blast-%f0%9f%8e%a7-%f0%9f%98%8a-no-cover-till-9pm-%f0%9f%92%b020-cover-at-9pm-11/
LOCATION:The Eagle NYC\, New York\, NY\, United States
GEO:40.751624;-74.004346
END:VEVENT
BEGIN:VEVENT
DTSTART;TZID=America/New_York:20250525T220000
DTEND;TZID=America/New_York:20250526T040000
DTSTAMP:20260424T153024
CREATED:20250414T132311Z
LAST-MODIFIED:20250414T132311Z
UID:10007106-1748210400-1748232000@eagle-ny.com
SUMMARY:🎧 DANI TORO + 🎧 MUSIKDAWG 💰20 CASH COVER
DESCRIPTION:
URL:https://eagle-ny.com/calendarofevents/%f0%9f%8e%a7-dani-toro-%f0%9f%8e%a7-musikdawg-%f0%9f%92%b020-cash-cover/
LOCATION:The Eagle NYC\, New York\, NY\, United States
GEO:40.751624;-74.004346
END:VEVENT
END:VCALENDAR