BEGIN:VCALENDAR
VERSION:2.0
PRODID:-//The Eagle NYC - ECPv6.15.20//NONSGML v1.0//EN
CALSCALE:GREGORIAN
METHOD:PUBLISH
X-ORIGINAL-URL:https://eagle-ny.com
X-WR-CALDESC:Events for The Eagle NYC
REFRESH-INTERVAL;VALUE=DURATION:PT1H
X-Robots-Tag:noindex
X-PUBLISHED-TTL:PT1H
BEGIN:VTIMEZONE
TZID:America/New_York
BEGIN:DAYLIGHT
TZOFFSETFROM:-0500
TZOFFSETTO:-0400
TZNAME:EDT
DTSTART:20240310T070000
END:DAYLIGHT
BEGIN:STANDARD
TZOFFSETFROM:-0400
TZOFFSETTO:-0500
TZNAME:EST
DTSTART:20241103T060000
END:STANDARD
BEGIN:DAYLIGHT
TZOFFSETFROM:-0500
TZOFFSETTO:-0400
TZNAME:EDT
DTSTART:20250309T070000
END:DAYLIGHT
BEGIN:STANDARD
TZOFFSETFROM:-0400
TZOFFSETTO:-0500
TZNAME:EST
DTSTART:20251102T060000
END:STANDARD
BEGIN:DAYLIGHT
TZOFFSETFROM:-0500
TZOFFSETTO:-0400
TZNAME:EDT
DTSTART:20260308T070000
END:DAYLIGHT
BEGIN:STANDARD
TZOFFSETFROM:-0400
TZOFFSETTO:-0500
TZNAME:EST
DTSTART:20261101T060000
END:STANDARD
END:VTIMEZONE
BEGIN:VEVENT
DTSTART;TZID=America/New_York:20250511T220000
DTEND;TZID=America/New_York:20250512T040000
DTSTAMP:20260424T152929
CREATED:20250410T000528Z
LAST-MODIFIED:20250410T000528Z
UID:10007076-1747000800-1747022400@eagle-ny.com
SUMMARY:🎧 MUSIKDAWG + 🎧 BOBBY DURON 💰20 CASH COVER
DESCRIPTION:
URL:https://eagle-ny.com/calendarofevents/%f0%9f%8e%a7-musikdawg-%f0%9f%8e%a7-bobby-duron-%f0%9f%92%b020-cash-cover-2/
LOCATION:The Eagle NYC\, New York\, NY\, United States
GEO:40.751624;-74.004346
END:VEVENT
BEGIN:VEVENT
DTSTART;TZID=America/New_York:20250512T220000
DTEND;TZID=America/New_York:20250513T030000
DTSTAMP:20260424T152929
CREATED:20250522T164201Z
LAST-MODIFIED:20250522T164201Z
UID:10007150-1747087200-1747105200@eagle-ny.com
SUMMARY:MONDAY SINday 😊 NO COVER
DESCRIPTION:
URL:https://eagle-ny.com/calendarofevents/monday-sinday-%f0%9f%98%8a-no-cover/2025-05-12/
LOCATION:The Eagle NYC\, New York\, NY\, United States
GEO:40.751624;-74.004346
END:VEVENT
BEGIN:VEVENT
DTSTART;TZID=America/New_York:20250513T220000
DTEND;TZID=America/New_York:20250514T040000
DTSTAMP:20260424T152929
CREATED:20250522T165514Z
LAST-MODIFIED:20250522T165514Z
UID:10007232-1747173600-1747195200@eagle-ny.com
SUMMARY:TWISTED TUESDAY 😊 NO COVER
DESCRIPTION:
URL:https://eagle-ny.com/calendarofevents/twisted-tuesday-%f0%9f%98%8a-no-cover-3/2025-05-13/
LOCATION:The Eagle NYC\, New York\, NY\, United States
GEO:40.751624;-74.004346
END:VEVENT
BEGIN:VEVENT
DTSTART;TZID=America/New_York:20250514T220000
DTEND;TZID=America/New_York:20250515T040000
DTSTAMP:20260424T152929
CREATED:20250404T095547Z
LAST-MODIFIED:20250404T095548Z
UID:10006906-1747260000-1747281600@eagle-ny.com
SUMMARY:🩲 JOCKSTRAP WEDNESDAY 🎧 MITCH FERRINO  💰 20 CASH COVER
DESCRIPTION:
URL:https://eagle-ny.com/calendarofevents/%f0%9f%a9%b2-jockstrap-wednesday-%f0%9f%8e%a7-%f0%9f%92%b0-20-cash-cover-7-9/
LOCATION:The Eagle NYC\, New York\, NY\, United States
GEO:40.751624;-74.004346
END:VEVENT
BEGIN:VEVENT
DTSTART;TZID=America/New_York:20250515T220000
DTEND;TZID=America/New_York:20250516T040000
DTSTAMP:20260424T152929
CREATED:20250410T000239Z
LAST-MODIFIED:20250410T000240Z
UID:10005049-1747346400-1747368000@eagle-ny.com
SUMMARY:🎧 BOBBY DURON 💰10 CASH COVER
DESCRIPTION:
URL:https://eagle-ny.com/calendarofevents/%f0%9f%8e%a7-2-19/
LOCATION:The Eagle NYC\, New York\, NY\, United States
GEO:40.751624;-74.004346
END:VEVENT
BEGIN:VEVENT
DTSTART;TZID=America/New_York:20250516T220000
DTEND;TZID=America/New_York:20250517T040000
DTSTAMP:20260424T152929
CREATED:20250414T114127Z
LAST-MODIFIED:20250414T114127Z
UID:10007100-1747432800-1747454400@eagle-ny.com
SUMMARY:🎧 MIKE TROTTER + 🎧 BARE NAKED 💰25 CASH COVER
DESCRIPTION:
URL:https://eagle-ny.com/calendarofevents/%f0%9f%8e%a7-mike-trotter-%f0%9f%8e%a7-bare-naked-%f0%9f%92%b025-cash-cover/
LOCATION:The Eagle NYC\, New York\, NY\, United States
GEO:40.751624;-74.004346
END:VEVENT
BEGIN:VEVENT
DTSTART;TZID=America/New_York:20250517T220000
DTEND;TZID=America/New_York:20250518T040000
DTSTAMP:20260424T152929
CREATED:20250414T114249Z
LAST-MODIFIED:20250414T114249Z
UID:10007101-1747519200-1747540800@eagle-ny.com
SUMMARY:🎧 MORABITO + 🎧 MARK CICERO 💰25 CASH COVER
DESCRIPTION:
URL:https://eagle-ny.com/calendarofevents/%f0%9f%8e%a7-morabito-%f0%9f%8e%a7-mark-cicero-%f0%9f%92%b025-cash-cover-3/
LOCATION:The Eagle NYC\, New York\, NY\, United States
GEO:40.751624;-74.004346
END:VEVENT
BEGIN:VEVENT
DTSTART;TZID=America/New_York:20250518T170000
DTEND;TZID=America/New_York:20250518T200000
DTSTAMP:20260424T152929
CREATED:20230701T200441Z
LAST-MODIFIED:20230701T200441Z
UID:10005254-1747587600-1747598400@eagle-ny.com
SUMMARY:BLUF NEW YORK
DESCRIPTION:
URL:https://eagle-ny.com/calendarofevents/bluf-new-york-19/2025-05-18/
LOCATION:The Eagle NYC\, New York\, NY\, United States
GEO:40.751624;-74.004346
END:VEVENT
BEGIN:VEVENT
DTSTART;TZID=America/New_York:20250518T170000
DTEND;TZID=America/New_York:20250518T220000
DTSTAMP:20260424T152929
CREATED:20250414T114012Z
LAST-MODIFIED:20250414T114013Z
UID:10006975-1747587600-1747605600@eagle-ny.com
SUMMARY:🍺 BEER BLAST 🎧 ERIK ELIAS  😊 NO COVER TILL 9PM 💰20 COVER AT 9PM
DESCRIPTION:
URL:https://eagle-ny.com/calendarofevents/%f0%9f%8d%ba-beer-blast-%f0%9f%8e%a7-%f0%9f%98%8a-no-cover-till-9pm-%f0%9f%92%b020-cover-at-9pm-10/
LOCATION:The Eagle NYC\, New York\, NY\, United States
GEO:40.751624;-74.004346
END:VEVENT
BEGIN:VEVENT
DTSTART;TZID=America/New_York:20250518T220000
DTEND;TZID=America/New_York:20250519T040000
DTSTAMP:20260424T152929
CREATED:20250414T114617Z
LAST-MODIFIED:20250414T114657Z
UID:10007102-1747605600-1747627200@eagle-ny.com
SUMMARY:🎧 AJ REDDY + 🎧 BOBBY DURON 💰20 CASH COVER
DESCRIPTION:
URL:https://eagle-ny.com/calendarofevents/%f0%9f%8e%a7-aj-reddy-%f0%9f%8e%a7-bobby-duron-%f0%9f%92%b020-cash-cover-4/
LOCATION:The Eagle NYC\, New York\, NY\, United States
GEO:40.751624;-74.004346
END:VEVENT
END:VCALENDAR