BEGIN:VCALENDAR
VERSION:2.0
PRODID:-//The Eagle NYC - ECPv6.15.20//NONSGML v1.0//EN
CALSCALE:GREGORIAN
METHOD:PUBLISH
X-ORIGINAL-URL:https://eagle-ny.com
X-WR-CALDESC:Events for The Eagle NYC
REFRESH-INTERVAL;VALUE=DURATION:PT1H
X-Robots-Tag:noindex
X-PUBLISHED-TTL:PT1H
BEGIN:VTIMEZONE
TZID:America/New_York
BEGIN:DAYLIGHT
TZOFFSETFROM:-0500
TZOFFSETTO:-0400
TZNAME:EDT
DTSTART:20240310T070000
END:DAYLIGHT
BEGIN:STANDARD
TZOFFSETFROM:-0400
TZOFFSETTO:-0500
TZNAME:EST
DTSTART:20241103T060000
END:STANDARD
BEGIN:DAYLIGHT
TZOFFSETFROM:-0500
TZOFFSETTO:-0400
TZNAME:EDT
DTSTART:20250309T070000
END:DAYLIGHT
BEGIN:STANDARD
TZOFFSETFROM:-0400
TZOFFSETTO:-0500
TZNAME:EST
DTSTART:20251102T060000
END:STANDARD
BEGIN:DAYLIGHT
TZOFFSETFROM:-0500
TZOFFSETTO:-0400
TZNAME:EDT
DTSTART:20260308T070000
END:DAYLIGHT
BEGIN:STANDARD
TZOFFSETFROM:-0400
TZOFFSETTO:-0500
TZNAME:EST
DTSTART:20261101T060000
END:STANDARD
END:VTIMEZONE
BEGIN:VEVENT
DTSTART;TZID=America/New_York:20250427T220000
DTEND;TZID=America/New_York:20250428T040000
DTSTAMP:20260424T152846
CREATED:20250324T225103Z
LAST-MODIFIED:20250324T225103Z
UID:10007067-1745791200-1745812800@eagle-ny.com
SUMMARY:🎧 EDWARD FRAME + 🎧 BOBBY DURON 💰20 CASH COVER
DESCRIPTION:
URL:https://eagle-ny.com/calendarofevents/%f0%9f%8e%a7-edward-frame-%f0%9f%8e%a7-bobby-duron-%f0%9f%92%b020-cash-cover/
LOCATION:The Eagle NYC\, New York\, NY\, United States
GEO:40.751624;-74.004346
END:VEVENT
BEGIN:VEVENT
DTSTART;TZID=America/New_York:20250428T220000
DTEND;TZID=America/New_York:20250429T030000
DTSTAMP:20260424T152846
CREATED:20250522T164201Z
LAST-MODIFIED:20250522T164201Z
UID:10007148-1745877600-1745895600@eagle-ny.com
SUMMARY:MONDAY SINday 😊 NO COVER
DESCRIPTION:
URL:https://eagle-ny.com/calendarofevents/monday-sinday-%f0%9f%98%8a-no-cover/2025-04-28/
LOCATION:The Eagle NYC\, New York\, NY\, United States
GEO:40.751624;-74.004346
END:VEVENT
BEGIN:VEVENT
DTSTART;TZID=America/New_York:20250429T220000
DTEND;TZID=America/New_York:20250430T040000
DTSTAMP:20260424T152846
CREATED:20250522T165514Z
LAST-MODIFIED:20250522T165514Z
UID:10007230-1745964000-1745985600@eagle-ny.com
SUMMARY:TWISTED TUESDAY 😊 NO COVER
DESCRIPTION:
URL:https://eagle-ny.com/calendarofevents/twisted-tuesday-%f0%9f%98%8a-no-cover-3/2025-04-29/
LOCATION:The Eagle NYC\, New York\, NY\, United States
GEO:40.751624;-74.004346
END:VEVENT
BEGIN:VEVENT
DTSTART;TZID=America/New_York:20250430T220000
DTEND;TZID=America/New_York:20250501T040000
DTSTAMP:20260424T152846
CREATED:20250302T154716Z
LAST-MODIFIED:20250302T154716Z
UID:10006904-1746050400-1746072000@eagle-ny.com
SUMMARY:🩲 JOCKSTRAP WEDNESDAY 🎧 MITCH FERRINO  💰 20 CASH COVER
DESCRIPTION:
URL:https://eagle-ny.com/calendarofevents/%f0%9f%a9%b2-jockstrap-wednesday-%f0%9f%8e%a7-%f0%9f%92%b0-20-cash-cover-7-6/
LOCATION:The Eagle NYC\, New York\, NY\, United States
GEO:40.751624;-74.004346
END:VEVENT
BEGIN:VEVENT
DTSTART;TZID=America/New_York:20250501T220000
DTEND;TZID=America/New_York:20250502T040000
DTSTAMP:20260424T152846
CREATED:20250403T230030Z
LAST-MODIFIED:20250403T230030Z
UID:10007068-1746136800-1746158400@eagle-ny.com
SUMMARY:🎧 LORANT 💰10 CASH COVER
DESCRIPTION:
URL:https://eagle-ny.com/calendarofevents/%f0%9f%8e%a7-lorant-%f0%9f%92%b010-cash-cover/
LOCATION:The Eagle NYC\, New York\, NY\, United States
GEO:40.751624;-74.004346
END:VEVENT
BEGIN:VEVENT
DTSTART;TZID=America/New_York:20250502T190000
DTEND;TZID=America/New_York:20250502T213000
DTSTAMP:20260424T152846
CREATED:20240617T125730Z
LAST-MODIFIED:20240703T005230Z
UID:10006254-1746212400-1746221400@eagle-ny.com
SUMMARY:JOCKSTRAP HAPPY HOUR 💰10 DONATION
DESCRIPTION:
URL:https://eagle-ny.com/calendarofevents/jockstrap-happy-hour/2025-05-02/
LOCATION:The Eagle NYC\, New York\, NY\, United States
GEO:40.751624;-74.004346
END:VEVENT
BEGIN:VEVENT
DTSTART;TZID=America/New_York:20250502T220000
DTEND;TZID=America/New_York:20250503T040000
DTSTAMP:20260424T152846
CREATED:20250404T094859Z
LAST-MODIFIED:20250404T094859Z
UID:10007069-1746223200-1746244800@eagle-ny.com
SUMMARY:🎧ALFONSO TAN + 🎧 STEVE CUNNINGHAM 💰25 CASH COVER
DESCRIPTION:
URL:https://eagle-ny.com/calendarofevents/%f0%9f%8e%a7alfonso-tan-%f0%9f%8e%a7-steve-cunningham-%f0%9f%92%b025-cash-cover/
LOCATION:The Eagle NYC\, New York\, NY\, United States
GEO:40.751624;-74.004346
END:VEVENT
BEGIN:VEVENT
DTSTART;TZID=America/New_York:20250503T220000
DTEND;TZID=America/New_York:20250504T000000
DTSTAMP:20260424T152846
CREATED:20240103T093407Z
LAST-MODIFIED:20240103T093547Z
UID:10006064-1746309600-1746316800@eagle-ny.com
SUMMARY:CLUB NIGHT
DESCRIPTION:
URL:https://eagle-ny.com/calendarofevents/club-night-19-2/2025-05-03/
LOCATION:The Eagle NYC\, New York\, NY\, United States
GEO:40.751624;-74.004346
END:VEVENT
BEGIN:VEVENT
DTSTART;TZID=America/New_York:20250503T220000
DTEND;TZID=America/New_York:20250504T040000
DTSTAMP:20260424T152846
CREATED:20250404T095042Z
LAST-MODIFIED:20250404T095042Z
UID:10007070-1746309600-1746331200@eagle-ny.com
SUMMARY:🎧 JAMES ANTHONY + 🎧 JAMES ANDERSEN 💰25 CASH COVER
DESCRIPTION:
URL:https://eagle-ny.com/calendarofevents/%f0%9f%8e%a7-james-anthony-%f0%9f%8e%a7-james-andersen-%f0%9f%92%b025-cash-cover/
LOCATION:The Eagle NYC\, New York\, NY\, United States
GEO:40.751624;-74.004346
END:VEVENT
BEGIN:VEVENT
DTSTART;TZID=America/New_York:20250504T170000
DTEND;TZID=America/New_York:20250504T220000
DTSTAMP:20260424T152846
CREATED:20250404T095141Z
LAST-MODIFIED:20250404T095142Z
UID:10006973-1746378000-1746396000@eagle-ny.com
SUMMARY:🍺 BEER BLAST 🎧 MATTHEW J.  😊 NO COVER TILL 9PM 💰20 COVER AT 9PM
DESCRIPTION:
URL:https://eagle-ny.com/calendarofevents/%f0%9f%8d%ba-beer-blast-%f0%9f%8e%a7-%f0%9f%98%8a-no-cover-till-9pm-%f0%9f%92%b020-cover-at-9pm-8/
LOCATION:The Eagle NYC\, New York\, NY\, United States
GEO:40.751624;-74.004346
END:VEVENT
BEGIN:VEVENT
DTSTART;TZID=America/New_York:20250504T220000
DTEND;TZID=America/New_York:20250505T040000
DTSTAMP:20260424T152846
CREATED:20250404T095402Z
LAST-MODIFIED:20250422T135238Z
UID:10007071-1746396000-1746417600@eagle-ny.com
SUMMARY:🎧 LE GRAND PHOENIX + 🎧BOBBY DURON 💰20 CASH COVER
DESCRIPTION:
URL:https://eagle-ny.com/calendarofevents/%f0%9f%8e%a7-mitch-ferrino-%f0%9f%8e%a7bobby-duron-%f0%9f%92%b020-cash-cover/
LOCATION:The Eagle NYC\, New York\, NY\, United States
GEO:40.751624;-74.004346
END:VEVENT
END:VCALENDAR