BEGIN:VCALENDAR
VERSION:2.0
PRODID:-//The Eagle NYC - ECPv6.15.20//NONSGML v1.0//EN
CALSCALE:GREGORIAN
METHOD:PUBLISH
X-ORIGINAL-URL:https://eagle-ny.com
X-WR-CALDESC:Events for The Eagle NYC
REFRESH-INTERVAL;VALUE=DURATION:PT1H
X-Robots-Tag:noindex
X-PUBLISHED-TTL:PT1H
BEGIN:VTIMEZONE
TZID:America/New_York
BEGIN:DAYLIGHT
TZOFFSETFROM:-0500
TZOFFSETTO:-0400
TZNAME:EDT
DTSTART:20240310T070000
END:DAYLIGHT
BEGIN:STANDARD
TZOFFSETFROM:-0400
TZOFFSETTO:-0500
TZNAME:EST
DTSTART:20241103T060000
END:STANDARD
BEGIN:DAYLIGHT
TZOFFSETFROM:-0500
TZOFFSETTO:-0400
TZNAME:EDT
DTSTART:20250309T070000
END:DAYLIGHT
BEGIN:STANDARD
TZOFFSETFROM:-0400
TZOFFSETTO:-0500
TZNAME:EST
DTSTART:20251102T060000
END:STANDARD
BEGIN:DAYLIGHT
TZOFFSETFROM:-0500
TZOFFSETTO:-0400
TZNAME:EDT
DTSTART:20260308T070000
END:DAYLIGHT
BEGIN:STANDARD
TZOFFSETFROM:-0400
TZOFFSETTO:-0500
TZNAME:EST
DTSTART:20261101T060000
END:STANDARD
END:VTIMEZONE
BEGIN:VEVENT
DTSTART;TZID=America/New_York:20250406T220000
DTEND;TZID=America/New_York:20250407T040000
DTSTAMP:20260424T172747
CREATED:20250302T111719Z
LAST-MODIFIED:20250302T111719Z
UID:10007040-1743976800-1743998400@eagle-ny.com
SUMMARY:🎧 TWISTED DEE + 🎧BOBBY DURON 💰20 CASH COVER
DESCRIPTION:
URL:https://eagle-ny.com/calendarofevents/%f0%9f%8e%a7-twisted-dee-%f0%9f%8e%a7bobby-duron-%f0%9f%92%b020-cash-cover/
LOCATION:The Eagle NYC\, New York\, NY\, United States
GEO:40.751624;-74.004346
END:VEVENT
BEGIN:VEVENT
DTSTART;TZID=America/New_York:20250407T220000
DTEND;TZID=America/New_York:20250408T030000
DTSTAMP:20260424T172747
CREATED:20250522T164201Z
LAST-MODIFIED:20250522T164201Z
UID:10007145-1744063200-1744081200@eagle-ny.com
SUMMARY:MONDAY SINday 😊 NO COVER
DESCRIPTION:
URL:https://eagle-ny.com/calendarofevents/monday-sinday-%f0%9f%98%8a-no-cover/2025-04-07/
LOCATION:The Eagle NYC\, New York\, NY\, United States
GEO:40.751624;-74.004346
END:VEVENT
BEGIN:VEVENT
DTSTART;TZID=America/New_York:20250408T220000
DTEND;TZID=America/New_York:20250409T040000
DTSTAMP:20260424T172747
CREATED:20250522T165514Z
LAST-MODIFIED:20250522T165514Z
UID:10007227-1744149600-1744171200@eagle-ny.com
SUMMARY:TWISTED TUESDAY 😊 NO COVER
DESCRIPTION:
URL:https://eagle-ny.com/calendarofevents/twisted-tuesday-%f0%9f%98%8a-no-cover-3/2025-04-08/
LOCATION:The Eagle NYC\, New York\, NY\, United States
GEO:40.751624;-74.004346
END:VEVENT
BEGIN:VEVENT
DTSTART;TZID=America/New_York:20250409T220000
DTEND;TZID=America/New_York:20250410T040000
DTSTAMP:20260424T172747
CREATED:20250302T111802Z
LAST-MODIFIED:20250302T111803Z
UID:10006901-1744236000-1744257600@eagle-ny.com
SUMMARY:🩲 JOCKSTRAP WEDNESDAY 🎧 BARE NAKED  💰 20 CASH COVER
DESCRIPTION:
URL:https://eagle-ny.com/calendarofevents/%f0%9f%a9%b2-jockstrap-wednesday-%f0%9f%8e%a7-%f0%9f%92%b0-20-cash-cover-7-5/
LOCATION:The Eagle NYC\, New York\, NY\, United States
GEO:40.751624;-74.004346
END:VEVENT
BEGIN:VEVENT
DTSTART;TZID=America/New_York:20250410T220000
DTEND;TZID=America/New_York:20250411T040000
DTSTAMP:20260424T172747
CREATED:20250302T111908Z
LAST-MODIFIED:20250302T111908Z
UID:10007041-1744322400-1744344000@eagle-ny.com
SUMMARY:🎧 BOBBY DURON 💰10 CASH COVER
DESCRIPTION:
URL:https://eagle-ny.com/calendarofevents/%f0%9f%8e%a7-bobby-duron-%f0%9f%92%b010-cash-cover-2/
LOCATION:The Eagle NYC\, New York\, NY\, United States
GEO:40.751624;-74.004346
END:VEVENT
BEGIN:VEVENT
DTSTART;TZID=America/New_York:20250411T220000
DTEND;TZID=America/New_York:20250412T040000
DTSTAMP:20260424T172747
CREATED:20250302T112321Z
LAST-MODIFIED:20250302T112321Z
UID:10007043-1744408800-1744430400@eagle-ny.com
SUMMARY:🎧 T DON + 🎧 LORANT 💰25 CASH COVER
DESCRIPTION:
URL:https://eagle-ny.com/calendarofevents/%f0%9f%8e%a7-t-don-%f0%9f%8e%a7-lorant-%f0%9f%92%b025-cash-cover/
LOCATION:The Eagle NYC\, New York\, NY\, United States
GEO:40.751624;-74.004346
END:VEVENT
BEGIN:VEVENT
DTSTART;TZID=America/New_York:20250412T220000
DTEND;TZID=America/New_York:20250413T040000
DTSTAMP:20260424T172747
CREATED:20250302T153819Z
LAST-MODIFIED:20250302T153819Z
UID:10007045-1744495200-1744516800@eagle-ny.com
SUMMARY:🎧 DEANNE + 🎧 MUSIKDAWG 💰25 CASH COVER
DESCRIPTION:
URL:https://eagle-ny.com/calendarofevents/%f0%9f%8e%a7-deanne-%f0%9f%8e%a7-musikdawg-%f0%9f%92%b025-cash-cover/
LOCATION:The Eagle NYC\, New York\, NY\, United States
GEO:40.751624;-74.004346
END:VEVENT
BEGIN:VEVENT
DTSTART;TZID=America/New_York:20250413T170000
DTEND;TZID=America/New_York:20250413T200000
DTSTAMP:20260424T172747
CREATED:20240620T214308Z
LAST-MODIFIED:20240620T215534Z
UID:10006338-1744563600-1744574400@eagle-ny.com
SUMMARY:INTO?
DESCRIPTION:
URL:https://eagle-ny.com/calendarofevents/intosunday/2025-04-13/
LOCATION:The Eagle NYC\, New York\, NY\, United States
GEO:40.751624;-74.004346
END:VEVENT
BEGIN:VEVENT
DTSTART;TZID=America/New_York:20250413T170000
DTEND;TZID=America/New_York:20250413T220000
DTSTAMP:20260424T172747
CREATED:20250302T153914Z
LAST-MODIFIED:20250302T153915Z
UID:10006970-1744563600-1744581600@eagle-ny.com
SUMMARY:🍺 BEER BLAST 🎧CUNNINGHAM  😊 NO COVER TILL 9PM 💰20 COVER AT 9PM
DESCRIPTION:
URL:https://eagle-ny.com/calendarofevents/%f0%9f%8d%ba-beer-blast-%f0%9f%8e%a7-%f0%9f%98%8a-no-cover-till-9pm-%f0%9f%92%b020-cover-at-9pm-5/
LOCATION:The Eagle NYC\, New York\, NY\, United States
GEO:40.751624;-74.004346
END:VEVENT
BEGIN:VEVENT
DTSTART;TZID=America/New_York:20250413T220000
DTEND;TZID=America/New_York:20250414T040000
DTSTAMP:20260424T172747
CREATED:20250302T154112Z
LAST-MODIFIED:20250302T154112Z
UID:10007046-1744581600-1744603200@eagle-ny.com
SUMMARY:🎧LE GRAND PHOENIX + 🎧BOBBY DURON 💰20 CASH COVER
DESCRIPTION:
URL:https://eagle-ny.com/calendarofevents/%f0%9f%8e%a7le-grand-phoenix-%f0%9f%8e%a7bobby-duron-%f0%9f%92%b020-cash-cover-3/
LOCATION:The Eagle NYC\, New York\, NY\, United States
GEO:40.751624;-74.004346
END:VEVENT
END:VCALENDAR