BEGIN:VCALENDAR
VERSION:2.0
PRODID:-//The Eagle NYC - ECPv6.15.20//NONSGML v1.0//EN
CALSCALE:GREGORIAN
METHOD:PUBLISH
X-WR-CALNAME:The Eagle NYC
X-ORIGINAL-URL:https://eagle-ny.com
X-WR-CALDESC:Events for The Eagle NYC
REFRESH-INTERVAL;VALUE=DURATION:PT1H
X-Robots-Tag:noindex
X-PUBLISHED-TTL:PT1H
BEGIN:VTIMEZONE
TZID:America/New_York
BEGIN:DAYLIGHT
TZOFFSETFROM:-0500
TZOFFSETTO:-0400
TZNAME:EDT
DTSTART:20240310T070000
END:DAYLIGHT
BEGIN:STANDARD
TZOFFSETFROM:-0400
TZOFFSETTO:-0500
TZNAME:EST
DTSTART:20241103T060000
END:STANDARD
BEGIN:DAYLIGHT
TZOFFSETFROM:-0500
TZOFFSETTO:-0400
TZNAME:EDT
DTSTART:20250309T070000
END:DAYLIGHT
BEGIN:STANDARD
TZOFFSETFROM:-0400
TZOFFSETTO:-0500
TZNAME:EST
DTSTART:20251102T060000
END:STANDARD
BEGIN:DAYLIGHT
TZOFFSETFROM:-0500
TZOFFSETTO:-0400
TZNAME:EDT
DTSTART:20260308T070000
END:DAYLIGHT
BEGIN:STANDARD
TZOFFSETFROM:-0400
TZOFFSETTO:-0500
TZNAME:EST
DTSTART:20261101T060000
END:STANDARD
END:VTIMEZONE
BEGIN:VEVENT
DTSTART;TZID=America/New_York:20250330T220000
DTEND;TZID=America/New_York:20250331T040000
DTSTAMP:20260424T172648
CREATED:20250217T082716Z
LAST-MODIFIED:20250217T082716Z
UID:10007032-1743372000-1743393600@eagle-ny.com
SUMMARY:🎧 LORANT + 🎧 BOBBY DURON 💰20 CASH COVER
DESCRIPTION:
URL:https://eagle-ny.com/calendarofevents/%f0%9f%8e%a7-lorant-%f0%9f%8e%a7-bobby-duron-%f0%9f%92%b020-cash-cover-2/
LOCATION:The Eagle NYC\, New York\, NY\, United States
GEO:40.751624;-74.004346
END:VEVENT
BEGIN:VEVENT
DTSTART;TZID=America/New_York:20250331T220000
DTEND;TZID=America/New_York:20250401T030000
DTSTAMP:20260424T172648
CREATED:20250522T164201Z
LAST-MODIFIED:20250522T164201Z
UID:10007144-1743458400-1743476400@eagle-ny.com
SUMMARY:MONDAY SINday 😊 NO COVER
DESCRIPTION:
URL:https://eagle-ny.com/calendarofevents/monday-sinday-%f0%9f%98%8a-no-cover/2025-03-31/
LOCATION:The Eagle NYC\, New York\, NY\, United States
GEO:40.751624;-74.004346
END:VEVENT
BEGIN:VEVENT
DTSTART;TZID=America/New_York:20250401T220000
DTEND;TZID=America/New_York:20250402T040000
DTSTAMP:20260424T172648
CREATED:20250522T165514Z
LAST-MODIFIED:20250522T165514Z
UID:10007226-1743544800-1743566400@eagle-ny.com
SUMMARY:TWISTED TUESDAY 😊 NO COVER
DESCRIPTION:
URL:https://eagle-ny.com/calendarofevents/twisted-tuesday-%f0%9f%98%8a-no-cover-3/2025-04-01/
LOCATION:The Eagle NYC\, New York\, NY\, United States
GEO:40.751624;-74.004346
END:VEVENT
BEGIN:VEVENT
DTSTART;TZID=America/New_York:20250402T220000
DTEND;TZID=America/New_York:20250403T040000
DTSTAMP:20260424T172648
CREATED:20250302T105816Z
LAST-MODIFIED:20250302T105818Z
UID:10006900-1743631200-1743652800@eagle-ny.com
SUMMARY:🩲 JOCKSTRAP WEDNESDAY 🎧 FERRINO  💰 20 CASH COVER
DESCRIPTION:
URL:https://eagle-ny.com/calendarofevents/%f0%9f%a9%b2-jockstrap-wednesday-%f0%9f%8e%a7-%f0%9f%92%b0-20-cash-cover-7-4/
LOCATION:The Eagle NYC\, New York\, NY\, United States
GEO:40.751624;-74.004346
END:VEVENT
BEGIN:VEVENT
DTSTART;TZID=America/New_York:20250403T220000
DTEND;TZID=America/New_York:20250404T040000
DTSTAMP:20260424T172648
CREATED:20250212T205240Z
LAST-MODIFIED:20250212T205240Z
UID:10006964-1743717600-1743739200@eagle-ny.com
SUMMARY:🎧BARE NAKED 💰10 CASH COVER
DESCRIPTION:
URL:https://eagle-ny.com/calendarofevents/%f0%9f%8e%a7bare-naked-%f0%9f%92%b010-cash-cover/
LOCATION:The Eagle NYC\, New York\, NY\, United States
GEO:40.751624;-74.004346
END:VEVENT
BEGIN:VEVENT
DTSTART;TZID=America/New_York:20250404T190000
DTEND;TZID=America/New_York:20250404T213000
DTSTAMP:20260424T172648
CREATED:20240617T125730Z
LAST-MODIFIED:20240703T005230Z
UID:10006253-1743793200-1743802200@eagle-ny.com
SUMMARY:JOCKSTRAP HAPPY HOUR 💰10 DONATION
DESCRIPTION:
URL:https://eagle-ny.com/calendarofevents/jockstrap-happy-hour/2025-04-04/
LOCATION:The Eagle NYC\, New York\, NY\, United States
GEO:40.751624;-74.004346
END:VEVENT
BEGIN:VEVENT
DTSTART;TZID=America/New_York:20250404T220000
DTEND;TZID=America/New_York:20250405T040000
DTSTAMP:20260424T172648
CREATED:20250302T110057Z
LAST-MODIFIED:20250302T110057Z
UID:10007038-1743804000-1743825600@eagle-ny.com
SUMMARY:🎧DAVID OHANA AVIANCE + 🎧 STEVE CUNNINGHAM 💰25 CASH COVER
DESCRIPTION:
URL:https://eagle-ny.com/calendarofevents/%f0%9f%8e%a7david-ohana-aviance-%f0%9f%8e%a7-steve-cunningham-%f0%9f%92%b025-cash-cover-2/
LOCATION:The Eagle NYC\, New York\, NY\, United States
GEO:40.751624;-74.004346
END:VEVENT
BEGIN:VEVENT
DTSTART;TZID=America/New_York:20250405T220000
DTEND;TZID=America/New_York:20250406T000000
DTSTAMP:20260424T172648
CREATED:20240103T093407Z
LAST-MODIFIED:20240103T093547Z
UID:10006063-1743890400-1743897600@eagle-ny.com
SUMMARY:CLUB NIGHT
DESCRIPTION:
URL:https://eagle-ny.com/calendarofevents/club-night-19-2/2025-04-05/
LOCATION:The Eagle NYC\, New York\, NY\, United States
GEO:40.751624;-74.004346
END:VEVENT
BEGIN:VEVENT
DTSTART;TZID=America/New_York:20250405T220000
DTEND;TZID=America/New_York:20250406T040000
DTSTAMP:20260424T172648
CREATED:20250302T110307Z
LAST-MODIFIED:20250302T110307Z
UID:10007039-1743890400-1743912000@eagle-ny.com
SUMMARY:🎧JAMES ANTHONY + 🎧JAMES ANDERSEN 💰25 CASH COVER
DESCRIPTION:
URL:https://eagle-ny.com/calendarofevents/%f0%9f%8e%a7james-anthony-%f0%9f%8e%a7james-andersen-%f0%9f%92%b025-cash-cover-3/
LOCATION:The Eagle NYC\, New York\, NY\, United States
GEO:40.751624;-74.004346
END:VEVENT
BEGIN:VEVENT
DTSTART;TZID=America/New_York:20250406T170000
DTEND;TZID=America/New_York:20250406T220000
DTSTAMP:20260424T172648
CREATED:20250302T110456Z
LAST-MODIFIED:20250302T110457Z
UID:10006969-1743958800-1743976800@eagle-ny.com
SUMMARY:🍺 BEER BLAST 🎧 ERIK ELIAS  😊 NO COVER TILL 9PM 💰20 COVER AT 9PM
DESCRIPTION:
URL:https://eagle-ny.com/calendarofevents/%f0%9f%8d%ba-beer-blast-%f0%9f%8e%a7-%f0%9f%98%8a-no-cover-till-9pm-%f0%9f%92%b020-cover-at-9pm-4/
LOCATION:The Eagle NYC\, New York\, NY\, United States
GEO:40.751624;-74.004346
END:VEVENT
BEGIN:VEVENT
DTSTART;TZID=America/New_York:20250406T220000
DTEND;TZID=America/New_York:20250407T040000
DTSTAMP:20260424T172648
CREATED:20250302T111719Z
LAST-MODIFIED:20250302T111719Z
UID:10007040-1743976800-1743998400@eagle-ny.com
SUMMARY:🎧 TWISTED DEE + 🎧BOBBY DURON 💰20 CASH COVER
DESCRIPTION:
URL:https://eagle-ny.com/calendarofevents/%f0%9f%8e%a7-twisted-dee-%f0%9f%8e%a7bobby-duron-%f0%9f%92%b020-cash-cover/
LOCATION:The Eagle NYC\, New York\, NY\, United States
GEO:40.751624;-74.004346
END:VEVENT
END:VCALENDAR