BEGIN:VCALENDAR
VERSION:2.0
PRODID:-//The Eagle NYC - ECPv6.15.20//NONSGML v1.0//EN
CALSCALE:GREGORIAN
METHOD:PUBLISH
X-WR-CALNAME:The Eagle NYC
X-ORIGINAL-URL:https://eagle-ny.com
X-WR-CALDESC:Events for The Eagle NYC
REFRESH-INTERVAL;VALUE=DURATION:PT1H
X-Robots-Tag:noindex
X-PUBLISHED-TTL:PT1H
BEGIN:VTIMEZONE
TZID:America/New_York
BEGIN:DAYLIGHT
TZOFFSETFROM:-0500
TZOFFSETTO:-0400
TZNAME:EDT
DTSTART:20240310T070000
END:DAYLIGHT
BEGIN:STANDARD
TZOFFSETFROM:-0400
TZOFFSETTO:-0500
TZNAME:EST
DTSTART:20241103T060000
END:STANDARD
BEGIN:DAYLIGHT
TZOFFSETFROM:-0500
TZOFFSETTO:-0400
TZNAME:EDT
DTSTART:20250309T070000
END:DAYLIGHT
BEGIN:STANDARD
TZOFFSETFROM:-0400
TZOFFSETTO:-0500
TZNAME:EST
DTSTART:20251102T060000
END:STANDARD
BEGIN:DAYLIGHT
TZOFFSETFROM:-0500
TZOFFSETTO:-0400
TZNAME:EDT
DTSTART:20260308T070000
END:DAYLIGHT
BEGIN:STANDARD
TZOFFSETFROM:-0400
TZOFFSETTO:-0500
TZNAME:EST
DTSTART:20261101T060000
END:STANDARD
END:VTIMEZONE
BEGIN:VEVENT
DTSTART;TZID=America/New_York:20250316T220000
DTEND;TZID=America/New_York:20250317T040000
DTSTAMP:20260424T190910
CREATED:20250212T192907Z
LAST-MODIFIED:20250212T192907Z
UID:10006962-1742162400-1742184000@eagle-ny.com
SUMMARY:🎧 AJ REDDY + 🎧 BOBBY DURON 💰20 CASH COVER
DESCRIPTION:
URL:https://eagle-ny.com/calendarofevents/%f0%9f%8e%a7-aj-reddy-%f0%9f%8e%a7-bobby-duron-%f0%9f%92%b020-cash-cover-2/
LOCATION:The Eagle NYC\, New York\, NY\, United States
GEO:40.751624;-74.004346
END:VEVENT
BEGIN:VEVENT
DTSTART;TZID=America/New_York:20250317T220000
DTEND;TZID=America/New_York:20250318T030000
DTSTAMP:20260424T190910
CREATED:20250522T164201Z
LAST-MODIFIED:20250522T164201Z
UID:10007142-1742248800-1742266800@eagle-ny.com
SUMMARY:MONDAY SINday 😊 NO COVER
DESCRIPTION:
URL:https://eagle-ny.com/calendarofevents/monday-sinday-%f0%9f%98%8a-no-cover/2025-03-17/
LOCATION:The Eagle NYC\, New York\, NY\, United States
GEO:40.751624;-74.004346
END:VEVENT
BEGIN:VEVENT
DTSTART;TZID=America/New_York:20250318T220000
DTEND;TZID=America/New_York:20250319T040000
DTSTAMP:20260424T190910
CREATED:20250522T165514Z
LAST-MODIFIED:20250522T165514Z
UID:10007224-1742335200-1742356800@eagle-ny.com
SUMMARY:TWISTED TUESDAY 😊 NO COVER
DESCRIPTION:
URL:https://eagle-ny.com/calendarofevents/twisted-tuesday-%f0%9f%98%8a-no-cover-3/2025-03-18/
LOCATION:The Eagle NYC\, New York\, NY\, United States
GEO:40.751624;-74.004346
END:VEVENT
BEGIN:VEVENT
DTSTART;TZID=America/New_York:20250319T220000
DTEND;TZID=America/New_York:20250320T040000
DTSTAMP:20260424T190910
CREATED:20250209T211440Z
LAST-MODIFIED:20250209T211441Z
UID:10006898-1742421600-1742443200@eagle-ny.com
SUMMARY:🩲 JOCKSTRAP WEDNESDAY 🎧MITCH FERRINO  💰 20 CASH COVER
DESCRIPTION:
URL:https://eagle-ny.com/calendarofevents/%f0%9f%a9%b2-jockstrap-wednesday-%f0%9f%8e%a7-%f0%9f%92%b0-20-cash-cover-7-2/
LOCATION:The Eagle NYC\, New York\, NY\, United States
GEO:40.751624;-74.004346
END:VEVENT
BEGIN:VEVENT
DTSTART;TZID=America/New_York:20250320T220000
DTEND;TZID=America/New_York:20250321T040000
DTSTAMP:20260424T190910
CREATED:20250208T122907Z
LAST-MODIFIED:20250208T122908Z
UID:10005047-1742508000-1742529600@eagle-ny.com
SUMMARY:🎧BOBBY DURON 💰10 CASH COVER
DESCRIPTION:
URL:https://eagle-ny.com/calendarofevents/%f0%9f%8e%a7-2-17/
LOCATION:The Eagle NYC\, New York\, NY\, United States
GEO:40.751624;-74.004346
END:VEVENT
BEGIN:VEVENT
DTSTART;TZID=America/New_York:20250321T220000
DTEND;TZID=America/New_York:20250322T040000
DTSTAMP:20260424T190910
CREATED:20250217T081720Z
LAST-MODIFIED:20250217T081729Z
UID:10006965-1742594400-1742616000@eagle-ny.com
SUMMARY:🎧GUY SCHEIMAN + 🎧MUSIKDAWG 💰25 CASH COVER
DESCRIPTION:
URL:https://eagle-ny.com/calendarofevents/%f0%9f%8e%a7guy-scheiman-%f0%9f%8e%a7musikdawg-%f0%9f%92%b025-cash-cover-2/
LOCATION:The Eagle NYC\, New York\, NY\, United States
GEO:40.751624;-74.004346
END:VEVENT
BEGIN:VEVENT
DTSTART;TZID=America/New_York:20250322T220000
DTEND;TZID=America/New_York:20250323T040000
DTSTAMP:20260424T190910
CREATED:20250217T081920Z
LAST-MODIFIED:20250217T083506Z
UID:10006966-1742680800-1742702400@eagle-ny.com
SUMMARY:🎧 BRADY PRINCE + 🎧 JAMES ANDERSEN 💰25 CASH COVER
DESCRIPTION:
URL:https://eagle-ny.com/calendarofevents/%f0%9f%8e%a7-kevin-anthony-%f0%9f%8e%a7-james-andersen-%f0%9f%92%b025-cash-cover-2/
LOCATION:The Eagle NYC\, New York\, NY\, United States
GEO:40.751624;-74.004346
END:VEVENT
BEGIN:VEVENT
DTSTART;TZID=America/New_York:20250323T170000
DTEND;TZID=America/New_York:20250323T220000
DTSTAMP:20260424T190910
CREATED:20250217T082230Z
LAST-MODIFIED:20250217T082231Z
UID:10006967-1742749200-1742767200@eagle-ny.com
SUMMARY:🍺 BEER BLAST 🎧 CUNNINGHAM 😊 NO COVER TILL 9PM 💰20 COVER AT 9PM
DESCRIPTION:
URL:https://eagle-ny.com/calendarofevents/%f0%9f%8d%ba-beer-blast-%f0%9f%8e%a7-%f0%9f%98%8a-no-cover-till-9pm-%f0%9f%92%b020-cover-at-9pm-2/
LOCATION:The Eagle NYC\, New York\, NY\, United States
GEO:40.751624;-74.004346
END:VEVENT
BEGIN:VEVENT
DTSTART;TZID=America/New_York:20250323T220000
DTEND;TZID=America/New_York:20250324T040000
DTSTAMP:20260424T190910
CREATED:20250217T082551Z
LAST-MODIFIED:20250217T082551Z
UID:10007031-1742767200-1742788800@eagle-ny.com
SUMMARY:🎧 SAM GEE + 🎧 BOBBY DURON 💰20 CASH COVER
DESCRIPTION:
URL:https://eagle-ny.com/calendarofevents/%f0%9f%8e%a7-sam-gee-%f0%9f%8e%a7-bobby-duron-%f0%9f%92%b020-cash-cover-2/
LOCATION:The Eagle NYC\, New York\, NY\, United States
GEO:40.751624;-74.004346
END:VEVENT
END:VCALENDAR