BEGIN:VCALENDAR
VERSION:2.0
PRODID:-//The Eagle NYC - ECPv6.15.20//NONSGML v1.0//EN
CALSCALE:GREGORIAN
METHOD:PUBLISH
X-ORIGINAL-URL:https://eagle-ny.com
X-WR-CALDESC:Events for The Eagle NYC
REFRESH-INTERVAL;VALUE=DURATION:PT1H
X-Robots-Tag:noindex
X-PUBLISHED-TTL:PT1H
BEGIN:VTIMEZONE
TZID:America/New_York
BEGIN:DAYLIGHT
TZOFFSETFROM:-0500
TZOFFSETTO:-0400
TZNAME:EDT
DTSTART:20240310T070000
END:DAYLIGHT
BEGIN:STANDARD
TZOFFSETFROM:-0400
TZOFFSETTO:-0500
TZNAME:EST
DTSTART:20241103T060000
END:STANDARD
BEGIN:DAYLIGHT
TZOFFSETFROM:-0500
TZOFFSETTO:-0400
TZNAME:EDT
DTSTART:20250309T070000
END:DAYLIGHT
BEGIN:STANDARD
TZOFFSETFROM:-0400
TZOFFSETTO:-0500
TZNAME:EST
DTSTART:20251102T060000
END:STANDARD
BEGIN:DAYLIGHT
TZOFFSETFROM:-0500
TZOFFSETTO:-0400
TZNAME:EDT
DTSTART:20260308T070000
END:DAYLIGHT
BEGIN:STANDARD
TZOFFSETFROM:-0400
TZOFFSETTO:-0500
TZNAME:EST
DTSTART:20261101T060000
END:STANDARD
END:VTIMEZONE
BEGIN:VEVENT
DTSTART;TZID=America/New_York:20250126T220000
DTEND;TZID=America/New_York:20250127T040000
DTSTAMP:20260424T205810
CREATED:20241202T190840Z
LAST-MODIFIED:20241202T190840Z
UID:10006623-1737928800-1737950400@eagle-ny.com
SUMMARY:🎧 SAM GEE + 🎧 BOBBY DURON 💰20 CASH COVER
DESCRIPTION:
URL:https://eagle-ny.com/calendarofevents/%f0%9f%8e%a7-sam-gee-%f0%9f%8e%a7-bobby-duron-%f0%9f%92%b020-cash-cover/
LOCATION:The Eagle NYC\, New York\, NY\, United States
GEO:40.751624;-74.004346
END:VEVENT
BEGIN:VEVENT
DTSTART;TZID=America/New_York:20250127T220000
DTEND;TZID=America/New_York:20250128T030000
DTSTAMP:20260424T205810
CREATED:20250522T164201Z
LAST-MODIFIED:20250522T164201Z
UID:10007135-1738015200-1738033200@eagle-ny.com
SUMMARY:MONDAY SINday 😊 NO COVER
DESCRIPTION:
URL:https://eagle-ny.com/calendarofevents/monday-sinday-%f0%9f%98%8a-no-cover/2025-01-27/
LOCATION:The Eagle NYC\, New York\, NY\, United States
GEO:40.751624;-74.004346
END:VEVENT
BEGIN:VEVENT
DTSTART;TZID=America/New_York:20250128T220000
DTEND;TZID=America/New_York:20250129T040000
DTSTAMP:20260424T205810
CREATED:20250112T174140Z
LAST-MODIFIED:20250112T174141Z
UID:10006800-1738101600-1738123200@eagle-ny.com
SUMMARY:CLOSED FOR STAFF PARTY 🎉
DESCRIPTION:
URL:https://eagle-ny.com/calendarofevents/twisted-tuesday-%f0%9f%98%8a-no-cover-2/
LOCATION:The Eagle NYC\, New York\, NY\, United States
GEO:40.751624;-74.004346
END:VEVENT
BEGIN:VEVENT
DTSTART;TZID=America/New_York:20250128T220000
DTEND;TZID=America/New_York:20250129T040000
DTSTAMP:20260424T205810
CREATED:20250522T165514Z
LAST-MODIFIED:20250522T165514Z
UID:10007217-1738101600-1738123200@eagle-ny.com
SUMMARY:TWISTED TUESDAY 😊 NO COVER
DESCRIPTION:
URL:https://eagle-ny.com/calendarofevents/twisted-tuesday-%f0%9f%98%8a-no-cover-3/2025-01-28/
LOCATION:The Eagle NYC\, New York\, NY\, United States
GEO:40.751624;-74.004346
END:VEVENT
BEGIN:VEVENT
DTSTART;TZID=America/New_York:20250129T220000
DTEND;TZID=America/New_York:20250130T040000
DTSTAMP:20260424T205810
CREATED:20241231T194603Z
LAST-MODIFIED:20241231T194604Z
UID:10006706-1738188000-1738209600@eagle-ny.com
SUMMARY:🩲 JOCKSTRAP WEDNESDAY 🎧 MITCH FERRINO 💰 20 CASH COVER
DESCRIPTION:
URL:https://eagle-ny.com/calendarofevents/%f0%9f%a9%b2-jockstrap-wednesday-%f0%9f%8e%a7-%f0%9f%92%b0-20-cash-cover-2/
LOCATION:The Eagle NYC\, New York\, NY\, United States
GEO:40.751624;-74.004346
END:VEVENT
BEGIN:VEVENT
DTSTART;TZID=America/New_York:20250130T220000
DTEND;TZID=America/New_York:20250131T040000
DTSTAMP:20260424T205810
CREATED:20241202T190534Z
LAST-MODIFIED:20241202T190534Z
UID:10006622-1738274400-1738296000@eagle-ny.com
SUMMARY:🎧 BOBBY DURON 💰10 CASH COVER
DESCRIPTION:
URL:https://eagle-ny.com/calendarofevents/%f0%9f%8e%a7-bobby-duron-%f0%9f%92%b010-cash-cover/
LOCATION:The Eagle NYC\, New York\, NY\, United States
GEO:40.751624;-74.004346
END:VEVENT
BEGIN:VEVENT
DTSTART;TZID=America/New_York:20250131T220000
DTEND;TZID=America/New_York:20250201T040000
DTSTAMP:20260424T205810
CREATED:20241202T192156Z
LAST-MODIFIED:20241202T192156Z
UID:10006630-1738360800-1738382400@eagle-ny.com
SUMMARY:🎧 MORABITO + 🎧 STEVE CUNNINGHAM 💰25 CASH COVER
DESCRIPTION:
URL:https://eagle-ny.com/calendarofevents/%f0%9f%8e%a7-morabito-%f0%9f%8e%a7-steve-cunningham-%f0%9f%92%b025-cash-cover/
LOCATION:The Eagle NYC\, New York\, NY\, United States
GEO:40.751624;-74.004346
END:VEVENT
BEGIN:VEVENT
DTSTART;TZID=America/New_York:20250201T220000
DTEND;TZID=America/New_York:20250202T000000
DTSTAMP:20260424T205810
CREATED:20240103T093407Z
LAST-MODIFIED:20240103T093547Z
UID:10006061-1738447200-1738454400@eagle-ny.com
SUMMARY:CLUB NIGHT
DESCRIPTION:
URL:https://eagle-ny.com/calendarofevents/club-night-19-2/2025-02-01/
LOCATION:The Eagle NYC\, New York\, NY\, United States
GEO:40.751624;-74.004346
END:VEVENT
BEGIN:VEVENT
DTSTART;TZID=America/New_York:20250201T220000
DTEND;TZID=America/New_York:20250202T040000
DTSTAMP:20260424T205810
CREATED:20241231T191407Z
LAST-MODIFIED:20241231T191549Z
UID:10006632-1738447200-1738468800@eagle-ny.com
SUMMARY:🎧JAMES ANTHONY + 🎧CICERO 💰25 CASH COVER
DESCRIPTION:
URL:https://eagle-ny.com/calendarofevents/%f0%9f%8e%a7morabito-%f0%9f%8e%a7cunningham/
LOCATION:The Eagle NYC\, New York\, NY\, United States
GEO:40.751624;-74.004346
END:VEVENT
BEGIN:VEVENT
DTSTART;TZID=America/New_York:20250202T170000
DTEND;TZID=America/New_York:20250202T220000
DTSTAMP:20260424T205810
CREATED:20241231T193623Z
LAST-MODIFIED:20241231T193624Z
UID:10006635-1738515600-1738533600@eagle-ny.com
SUMMARY:🍺 BEER BLAST 🎧 ERIK ELIAS 😊 NO COVER TILL 9PM 💰20 COVER AT 9PM
DESCRIPTION:
URL:https://eagle-ny.com/calendarofevents/%f0%9f%8d%ba-beer-blast-%f0%9f%8e%a7%f0%9f%98%8a-no-cover-till-9pm-%f0%9f%92%b020-cover-at-9pm-2/
LOCATION:The Eagle NYC\, New York\, NY\, United States
GEO:40.751624;-74.004346
END:VEVENT
BEGIN:VEVENT
DTSTART;TZID=America/New_York:20250202T220000
DTEND;TZID=America/New_York:20250203T040000
DTSTAMP:20260424T205810
CREATED:20241231T191839Z
LAST-MODIFIED:20241231T192022Z
UID:10006633-1738533600-1738555200@eagle-ny.com
SUMMARY:🎧MITCH FERRINO +  🎧BOBBY DURON 💰20 CASH COVER
DESCRIPTION:
URL:https://eagle-ny.com/calendarofevents/%f0%9f%8e%a7mitch-ferrino-%f0%9f%8e%a7bobby-duron-%f0%9f%92%b020-cash-cover/
LOCATION:The Eagle NYC\, New York\, NY\, United States
GEO:40.751624;-74.004346
END:VEVENT
END:VCALENDAR