BEGIN:VCALENDAR
VERSION:2.0
PRODID:-//The Eagle NYC - ECPv6.15.20//NONSGML v1.0//EN
CALSCALE:GREGORIAN
METHOD:PUBLISH
X-ORIGINAL-URL:https://eagle-ny.com
X-WR-CALDESC:Events for The Eagle NYC
REFRESH-INTERVAL;VALUE=DURATION:PT1H
X-Robots-Tag:noindex
X-PUBLISHED-TTL:PT1H
BEGIN:VTIMEZONE
TZID:America/New_York
BEGIN:DAYLIGHT
TZOFFSETFROM:-0500
TZOFFSETTO:-0400
TZNAME:EDT
DTSTART:20240310T070000
END:DAYLIGHT
BEGIN:STANDARD
TZOFFSETFROM:-0400
TZOFFSETTO:-0500
TZNAME:EST
DTSTART:20241103T060000
END:STANDARD
BEGIN:DAYLIGHT
TZOFFSETFROM:-0500
TZOFFSETTO:-0400
TZNAME:EDT
DTSTART:20250309T070000
END:DAYLIGHT
BEGIN:STANDARD
TZOFFSETFROM:-0400
TZOFFSETTO:-0500
TZNAME:EST
DTSTART:20251102T060000
END:STANDARD
BEGIN:DAYLIGHT
TZOFFSETFROM:-0500
TZOFFSETTO:-0400
TZNAME:EDT
DTSTART:20260308T070000
END:DAYLIGHT
BEGIN:STANDARD
TZOFFSETFROM:-0400
TZOFFSETTO:-0500
TZNAME:EST
DTSTART:20261101T060000
END:STANDARD
END:VTIMEZONE
BEGIN:VEVENT
DTSTART;TZID=America/New_York:20250112T220000
DTEND;TZID=America/New_York:20250113T040000
DTSTAMP:20260424T224049
CREATED:20241202T185622Z
LAST-MODIFIED:20241202T185622Z
UID:10006617-1736719200-1736740800@eagle-ny.com
SUMMARY:🎧 FRAME + 🎧 BOBBY DURON 💰20 CASH COVER
DESCRIPTION:
URL:https://eagle-ny.com/calendarofevents/%f0%9f%8e%a7-frame-%f0%9f%8e%a7-bobby-duron-%f0%9f%92%b020-cash-cover/
LOCATION:The Eagle NYC\, New York\, NY\, United States
GEO:40.751624;-74.004346
END:VEVENT
BEGIN:VEVENT
DTSTART;TZID=America/New_York:20250113T220000
DTEND;TZID=America/New_York:20250114T030000
DTSTAMP:20260424T224049
CREATED:20250522T164201Z
LAST-MODIFIED:20250522T164201Z
UID:10007133-1736805600-1736823600@eagle-ny.com
SUMMARY:MONDAY SINday 😊 NO COVER
DESCRIPTION:
URL:https://eagle-ny.com/calendarofevents/monday-sinday-%f0%9f%98%8a-no-cover/2025-01-13/
LOCATION:The Eagle NYC\, New York\, NY\, United States
GEO:40.751624;-74.004346
END:VEVENT
BEGIN:VEVENT
DTSTART;TZID=America/New_York:20250114T220000
DTEND;TZID=America/New_York:20250115T040000
DTSTAMP:20260424T224049
CREATED:20250522T165514Z
LAST-MODIFIED:20250522T165514Z
UID:10007215-1736892000-1736913600@eagle-ny.com
SUMMARY:TWISTED TUESDAY 😊 NO COVER
DESCRIPTION:
URL:https://eagle-ny.com/calendarofevents/twisted-tuesday-%f0%9f%98%8a-no-cover-3/2025-01-14/
LOCATION:The Eagle NYC\, New York\, NY\, United States
GEO:40.751624;-74.004346
END:VEVENT
BEGIN:VEVENT
DTSTART;TZID=America/New_York:20250115T220000
DTEND;TZID=America/New_York:20250116T040000
DTSTAMP:20260424T224049
CREATED:20241202T184801Z
LAST-MODIFIED:20241202T184802Z
UID:10006556-1736978400-1737000000@eagle-ny.com
SUMMARY:🩲 JOCKSTRAP WEDNESDAY  🎧MITCH FERRINO  💰 20 CASH COVER
DESCRIPTION:
URL:https://eagle-ny.com/calendarofevents/%f0%9f%a9%b2-jockstrap-wednesday-%f0%9f%8e%a7-bare-naked-%f0%9f%92%b0-20-cash-cover-3/
LOCATION:The Eagle NYC\, New York\, NY\, United States
GEO:40.751624;-74.004346
END:VEVENT
BEGIN:VEVENT
DTSTART;TZID=America/New_York:20250116T220000
DTEND;TZID=America/New_York:20250117T040000
DTSTAMP:20260424T224049
CREATED:20241202T190036Z
LAST-MODIFIED:20241202T190036Z
UID:10006619-1737064800-1737086400@eagle-ny.com
SUMMARY:BDSM THURSDAY 🎧 DURON 💰10 CASH COVER
DESCRIPTION:
URL:https://eagle-ny.com/calendarofevents/bdsm-thursday-%f0%9f%8e%a7-duron-%f0%9f%92%b010-cash-cover/
LOCATION:The Eagle NYC\, New York\, NY\, United States
GEO:40.751624;-74.004346
END:VEVENT
BEGIN:VEVENT
DTSTART;TZID=America/New_York:20250117T220000
DTEND;TZID=America/New_York:20250118T040000
DTSTAMP:20260424T224049
CREATED:20241202T191329Z
LAST-MODIFIED:20241202T191329Z
UID:10006626-1737151200-1737172800@eagle-ny.com
SUMMARY:🎧 JEN DM + 🎧 ERIK ELIAS 💰25 CASH COVER
DESCRIPTION:
URL:https://eagle-ny.com/calendarofevents/%f0%9f%8e%a7-jen-dm-%f0%9f%8e%a7-erik-elias-%f0%9f%92%b025-cash-cover/
LOCATION:The Eagle NYC\, New York\, NY\, United States
GEO:40.751624;-74.004346
END:VEVENT
BEGIN:VEVENT
DTSTART;TZID=America/New_York:20250118T220000
DTEND;TZID=America/New_York:20250119T040000
DTSTAMP:20260424T224049
CREATED:20241202T191558Z
LAST-MODIFIED:20241202T191558Z
UID:10006627-1737237600-1737259200@eagle-ny.com
SUMMARY:🎧 ALEX RAMOS + 🎧 MARK CICERO 💰25 CASH COVER
DESCRIPTION:
URL:https://eagle-ny.com/calendarofevents/%f0%9f%8e%a7-alex-ramos-%f0%9f%8e%a7-mark-cicero-%f0%9f%92%b025-cash-cover/
LOCATION:The Eagle NYC\, New York\, NY\, United States
GEO:40.751624;-74.004346
END:VEVENT
BEGIN:VEVENT
DTSTART;TZID=America/New_York:20250119T170000
DTEND;TZID=America/New_York:20250119T200000
DTSTAMP:20260424T224049
CREATED:20230701T200441Z
LAST-MODIFIED:20230701T200441Z
UID:10005250-1737306000-1737316800@eagle-ny.com
SUMMARY:BLUF NEW YORK
DESCRIPTION:
URL:https://eagle-ny.com/calendarofevents/bluf-new-york-19/2025-01-19/
LOCATION:The Eagle NYC\, New York\, NY\, United States
GEO:40.751624;-74.004346
END:VEVENT
BEGIN:VEVENT
DTSTART;TZID=America/New_York:20250119T170000
DTEND;TZID=America/New_York:20250119T220000
DTSTAMP:20260424T224049
CREATED:20241231T192923Z
LAST-MODIFIED:20241231T193033Z
UID:10006634-1737306000-1737324000@eagle-ny.com
SUMMARY:🍺 BEER BLAST 🎧MATTHEW J. 😊 NO COVER TILL 9PM 💰20 COVER AT 9PM
DESCRIPTION:
URL:https://eagle-ny.com/calendarofevents/%f0%9f%8d%ba-beer-blast-%f0%9f%8e%a7matthew-j-%f0%9f%98%8a-no-cover-till-9pm-%f0%9f%92%b020-cover-at-9pm/
LOCATION:The Eagle NYC\, New York\, NY\, United States
GEO:40.751624;-74.004346
END:VEVENT
BEGIN:VEVENT
DTSTART;TZID=America/New_York:20250119T220000
DTEND;TZID=America/New_York:20250120T040000
DTSTAMP:20260424T224049
CREATED:20241202T185720Z
LAST-MODIFIED:20241202T185720Z
UID:10006618-1737324000-1737345600@eagle-ny.com
SUMMARY:🎧 FONSECA + 🎧 BOBBY DURON 💰20 CASH COVER
DESCRIPTION:
URL:https://eagle-ny.com/calendarofevents/%f0%9f%8e%a7-fonseca-%f0%9f%8e%a7-bobby-duron-%f0%9f%92%b020-cash-cover/
LOCATION:The Eagle NYC\, New York\, NY\, United States
GEO:40.751624;-74.004346
END:VEVENT
END:VCALENDAR