BEGIN:VCALENDAR
VERSION:2.0
PRODID:-//The Eagle NYC - ECPv6.15.20//NONSGML v1.0//EN
CALSCALE:GREGORIAN
METHOD:PUBLISH
X-ORIGINAL-URL:https://eagle-ny.com
X-WR-CALDESC:Events for The Eagle NYC
REFRESH-INTERVAL;VALUE=DURATION:PT1H
X-Robots-Tag:noindex
X-PUBLISHED-TTL:PT1H
BEGIN:VTIMEZONE
TZID:America/New_York
BEGIN:DAYLIGHT
TZOFFSETFROM:-0500
TZOFFSETTO:-0400
TZNAME:EDT
DTSTART:20230312T070000
END:DAYLIGHT
BEGIN:STANDARD
TZOFFSETFROM:-0400
TZOFFSETTO:-0500
TZNAME:EST
DTSTART:20231105T060000
END:STANDARD
BEGIN:DAYLIGHT
TZOFFSETFROM:-0500
TZOFFSETTO:-0400
TZNAME:EDT
DTSTART:20240310T070000
END:DAYLIGHT
BEGIN:STANDARD
TZOFFSETFROM:-0400
TZOFFSETTO:-0500
TZNAME:EST
DTSTART:20241103T060000
END:STANDARD
BEGIN:DAYLIGHT
TZOFFSETFROM:-0500
TZOFFSETTO:-0400
TZNAME:EDT
DTSTART:20250309T070000
END:DAYLIGHT
BEGIN:STANDARD
TZOFFSETFROM:-0400
TZOFFSETTO:-0500
TZNAME:EST
DTSTART:20251102T060000
END:STANDARD
BEGIN:DAYLIGHT
TZOFFSETFROM:-0500
TZOFFSETTO:-0400
TZNAME:EDT
DTSTART:20260308T070000
END:DAYLIGHT
BEGIN:STANDARD
TZOFFSETFROM:-0400
TZOFFSETTO:-0500
TZNAME:EST
DTSTART:20261101T060000
END:STANDARD
END:VTIMEZONE
BEGIN:VEVENT
DTSTART;TZID=America/New_York:20241229T220000
DTEND;TZID=America/New_York:20241230T040000
DTSTAMP:20260424T224043
CREATED:20241121T035530Z
LAST-MODIFIED:20241121T035530Z
UID:10006552-1735509600-1735531200@eagle-ny.com
SUMMARY:🎧SCHEIMAN + 🎧CUNNINGHAM 💰20 CASH COVER
DESCRIPTION:
URL:https://eagle-ny.com/calendarofevents/%f0%9f%8e%a7scheiman-%f0%9f%8e%a7cunningham-%f0%9f%92%b020-cash-cover/
LOCATION:The Eagle NYC\, New York\, NY\, United States
GEO:40.751624;-74.004346
END:VEVENT
BEGIN:VEVENT
DTSTART;TZID=America/New_York:20241230T220000
DTEND;TZID=America/New_York:20241231T030000
DTSTAMP:20260424T224043
CREATED:20240703T093846Z
LAST-MODIFIED:20240719T145339Z
UID:10005370-1735596000-1735614000@eagle-ny.com
SUMMARY:😊  NO COVER
DESCRIPTION:
URL:https://eagle-ny.com/calendarofevents/%f0%9f%98%8a-2-4/2024-12-30/
LOCATION:The Eagle NYC\, New York\, NY\, United States
GEO:40.751624;-74.004346
END:VEVENT
BEGIN:VEVENT
DTSTART;TZID=America/New_York:20241231T220000
DTEND;TZID=America/New_York:20250101T040000
DTSTAMP:20260424T224043
CREATED:20241123T063749Z
LAST-MODIFIED:20241202T195347Z
UID:10006553-1735682400-1735704000@eagle-ny.com
SUMMARY:🎧BRETT OOSTERHAUS  + 🎧LORANT💰 40
DESCRIPTION:
URL:https://eagle-ny.com/calendarofevents/%f0%9f%8e%a7brett-oosterhaus-%f0%9f%92%b0-tba/
LOCATION:The Eagle NYC\, New York\, NY\, United States
GEO:40.751624;-74.004346
END:VEVENT
BEGIN:VEVENT
DTSTART;TZID=America/New_York:20250101T220000
DTEND;TZID=America/New_York:20250102T040000
DTSTAMP:20260424T224043
CREATED:20241202T184522Z
LAST-MODIFIED:20241231T195008Z
UID:10006554-1735768800-1735790400@eagle-ny.com
SUMMARY:🩲 JOCKSTRAP WEDNESDAY 🎧BARE NAKED  💰 20 CASH COVER
DESCRIPTION:
URL:https://eagle-ny.com/calendarofevents/%f0%9f%a9%b2-jockstrap-wednesday-%f0%9f%8e%a7-bare-naked-%f0%9f%92%b0-20-cash-cover/
LOCATION:The Eagle NYC\, New York\, NY\, United States
GEO:40.751624;-74.004346
END:VEVENT
BEGIN:VEVENT
DTSTART;TZID=America/New_York:20250102T220000
DTEND;TZID=America/New_York:20250103T040000
DTSTAMP:20260424T224043
CREATED:20241202T184902Z
LAST-MODIFIED:20241202T184903Z
UID:10005104-1735855200-1735876800@eagle-ny.com
SUMMARY:🎧ERIK ELIAS  💰10 CASH COVER
DESCRIPTION:
URL:https://eagle-ny.com/calendarofevents/%f0%9f%8e%a7-19/
LOCATION:The Eagle NYC\, New York\, NY\, United States
GEO:40.751624;-74.004346
END:VEVENT
BEGIN:VEVENT
DTSTART;TZID=America/New_York:20250103T190000
DTEND;TZID=America/New_York:20250103T213000
DTSTAMP:20260424T224043
CREATED:20240617T125730Z
LAST-MODIFIED:20240703T005230Z
UID:10006250-1735930800-1735939800@eagle-ny.com
SUMMARY:JOCKSTRAP HAPPY HOUR 💰10 DONATION
DESCRIPTION:
URL:https://eagle-ny.com/calendarofevents/jockstrap-happy-hour/2025-01-03/
LOCATION:The Eagle NYC\, New York\, NY\, United States
GEO:40.751624;-74.004346
END:VEVENT
BEGIN:VEVENT
DTSTART;TZID=America/New_York:20250103T220000
DTEND;TZID=America/New_York:20250104T040000
DTSTAMP:20260424T224043
CREATED:20241202T185058Z
LAST-MODIFIED:20241202T185058Z
UID:10006611-1735941600-1735963200@eagle-ny.com
SUMMARY:🎧JOSHUA RUIZ + 🎧STEVE CUNNINGHAM 💰25 CASH COVER
DESCRIPTION:
URL:https://eagle-ny.com/calendarofevents/%f0%9f%8e%a7joshua-ruiz-%f0%9f%8e%a7steve-cunningham-%f0%9f%92%b025-cash-cover/
LOCATION:The Eagle NYC\, New York\, NY\, United States
GEO:40.751624;-74.004346
END:VEVENT
BEGIN:VEVENT
DTSTART;TZID=America/New_York:20250104T220000
DTEND;TZID=America/New_York:20250105T000000
DTSTAMP:20260424T224043
CREATED:20240103T093407Z
LAST-MODIFIED:20240103T093547Z
UID:10006060-1736028000-1736035200@eagle-ny.com
SUMMARY:CLUB NIGHT
DESCRIPTION:
URL:https://eagle-ny.com/calendarofevents/club-night-19-2/2025-01-04/
LOCATION:The Eagle NYC\, New York\, NY\, United States
GEO:40.751624;-74.004346
END:VEVENT
BEGIN:VEVENT
DTSTART;TZID=America/New_York:20250104T220000
DTEND;TZID=America/New_York:20250105T040000
DTSTAMP:20260424T224043
CREATED:20241202T185155Z
LAST-MODIFIED:20241202T185155Z
UID:10006612-1736028000-1736049600@eagle-ny.com
SUMMARY:🎧JAMES ANTHONY + 🎧MUSIKDAWG 💰25 CASH COVER
DESCRIPTION:
URL:https://eagle-ny.com/calendarofevents/%f0%9f%8e%a7james-anthony-%f0%9f%8e%a7musikdawg-%f0%9f%92%b025-cash-cover/
LOCATION:The Eagle NYC\, New York\, NY\, United States
GEO:40.751624;-74.004346
END:VEVENT
BEGIN:VEVENT
DTSTART;TZID=America/New_York:20250105T170000
DTEND;TZID=America/New_York:20250105T220000
DTSTAMP:20260424T224043
CREATED:20241202T185308Z
LAST-MODIFIED:20250101T005534Z
UID:10005725-1736096400-1736114400@eagle-ny.com
SUMMARY:🍺 BEER BLAST 🎧ERIK ELIAS 😊 NO COVER TILL 9PM 💰20 COVER AT 9PM
DESCRIPTION:
URL:https://eagle-ny.com/calendarofevents/%f0%9f%8d%ba-beer-blast-%f0%9f%8e%a7-4-48-28/
LOCATION:The Eagle NYC\, New York\, NY\, United States
GEO:40.751624;-74.004346
END:VEVENT
BEGIN:VEVENT
DTSTART;TZID=America/New_York:20250105T220000
DTEND;TZID=America/New_York:20250106T040000
DTSTAMP:20260424T224043
CREATED:20241202T185441Z
LAST-MODIFIED:20241202T185441Z
UID:10006616-1736114400-1736136000@eagle-ny.com
SUMMARY:🎧 LORANT + 🎧 BOBBY DURON 💰20 CASH COVER
DESCRIPTION:
URL:https://eagle-ny.com/calendarofevents/%f0%9f%8e%a7-lorant-%f0%9f%8e%a7-bobby-duron-%f0%9f%92%b020-cash-cover/
LOCATION:The Eagle NYC\, New York\, NY\, United States
GEO:40.751624;-74.004346
END:VEVENT
END:VCALENDAR