BEGIN:VCALENDAR
VERSION:2.0
PRODID:-//The Eagle NYC - ECPv6.15.20//NONSGML v1.0//EN
CALSCALE:GREGORIAN
METHOD:PUBLISH
X-WR-CALNAME:The Eagle NYC
X-ORIGINAL-URL:https://eagle-ny.com
X-WR-CALDESC:Events for The Eagle NYC
REFRESH-INTERVAL;VALUE=DURATION:PT1H
X-Robots-Tag:noindex
X-PUBLISHED-TTL:PT1H
BEGIN:VTIMEZONE
TZID:America/New_York
BEGIN:DAYLIGHT
TZOFFSETFROM:-0500
TZOFFSETTO:-0400
TZNAME:EDT
DTSTART:20230312T070000
END:DAYLIGHT
BEGIN:STANDARD
TZOFFSETFROM:-0400
TZOFFSETTO:-0500
TZNAME:EST
DTSTART:20231105T060000
END:STANDARD
BEGIN:DAYLIGHT
TZOFFSETFROM:-0500
TZOFFSETTO:-0400
TZNAME:EDT
DTSTART:20240310T070000
END:DAYLIGHT
BEGIN:STANDARD
TZOFFSETFROM:-0400
TZOFFSETTO:-0500
TZNAME:EST
DTSTART:20241103T060000
END:STANDARD
BEGIN:DAYLIGHT
TZOFFSETFROM:-0500
TZOFFSETTO:-0400
TZNAME:EDT
DTSTART:20250309T070000
END:DAYLIGHT
BEGIN:STANDARD
TZOFFSETFROM:-0400
TZOFFSETTO:-0500
TZNAME:EST
DTSTART:20251102T060000
END:STANDARD
END:VTIMEZONE
BEGIN:VEVENT
DTSTART;TZID=America/New_York:20240901T220000
DTEND;TZID=America/New_York:20240902T040000
DTSTAMP:20260425T073211
CREATED:20240726T174156Z
LAST-MODIFIED:20240726T221226Z
UID:10006437-1725228000-1725249600@eagle-ny.com
SUMMARY:🎧 MUSIKDAWG + 🎧 BOBBY DURON  💰 20 CASH COVER
DESCRIPTION:
URL:https://eagle-ny.com/calendarofevents/%f0%9f%8e%a7-musikdawg-%f0%9f%8e%a7-bobby-duron-3/
LOCATION:The Eagle NYC\, New York\, NY\, United States
GEO:40.751624;-74.004346
END:VEVENT
BEGIN:VEVENT
DTSTART;TZID=America/New_York:20240902T220000
DTEND;TZID=America/New_York:20240903T030000
DTSTAMP:20260425T073211
CREATED:20240703T093846Z
LAST-MODIFIED:20240719T145339Z
UID:10005353-1725314400-1725332400@eagle-ny.com
SUMMARY:😊  NO COVER
DESCRIPTION:
URL:https://eagle-ny.com/calendarofevents/%f0%9f%98%8a-2-4/2024-09-02/
LOCATION:The Eagle NYC\, New York\, NY\, United States
GEO:40.751624;-74.004346
END:VEVENT
BEGIN:VEVENT
DTSTART;TZID=America/New_York:20240904T220000
DTEND;TZID=America/New_York:20240905T040000
DTSTAMP:20260425T073211
CREATED:20240803T173044Z
LAST-MODIFIED:20240803T173111Z
UID:10006003-1725487200-1725508800@eagle-ny.com
SUMMARY:🩲 JOCKSTRAP WEDNESDAY 🎧 BARE NAKED 💰20 CASH COVER
DESCRIPTION:
URL:https://eagle-ny.com/calendarofevents/%f0%9f%a9%b2-jockstrap-wednesday-%f0%9f%8e%a7-36/
LOCATION:The Eagle NYC\, New York\, NY\, United States
GEO:40.751624;-74.004346
END:VEVENT
BEGIN:VEVENT
DTSTART;TZID=America/New_York:20240905T220000
DTEND;TZID=America/New_York:20240906T040000
DTSTAMP:20260425T073211
CREATED:20240806T091454Z
LAST-MODIFIED:20240806T091603Z
UID:10005100-1725573600-1725595200@eagle-ny.com
SUMMARY:🎧LORANT  💰10 Cash Cover
DESCRIPTION:
URL:https://eagle-ny.com/calendarofevents/%f0%9f%8e%a7-15/
LOCATION:The Eagle NYC\, New York\, NY\, United States
GEO:40.751624;-74.004346
END:VEVENT
BEGIN:VEVENT
DTSTART;TZID=America/New_York:20240906T190000
DTEND;TZID=America/New_York:20240906T213000
DTSTAMP:20260425T073211
CREATED:20240617T125730Z
LAST-MODIFIED:20240703T005230Z
UID:10006246-1725649200-1725658200@eagle-ny.com
SUMMARY:JOCKSTRAP HAPPY HOUR 💰10 DONATION
DESCRIPTION:
URL:https://eagle-ny.com/calendarofevents/jockstrap-happy-hour/2024-09-06/
LOCATION:The Eagle NYC\, New York\, NY\, United States
GEO:40.751624;-74.004346
END:VEVENT
BEGIN:VEVENT
DTSTART;TZID=America/New_York:20240906T220000
DTEND;TZID=America/New_York:20240907T040000
DTSTAMP:20260425T073211
CREATED:20240806T092018Z
LAST-MODIFIED:20240806T092018Z
UID:10006441-1725660000-1725681600@eagle-ny.com
SUMMARY:🎧FONSECA + 🎧CUNNINGHAM 💰25 CASH COVER
DESCRIPTION:
URL:https://eagle-ny.com/calendarofevents/%f0%9f%8e%a7fonseca-%f0%9f%8e%a7cunningham-%f0%9f%92%b025-cash-cover-2/
LOCATION:The Eagle NYC\, New York\, NY\, United States
GEO:40.751624;-74.004346
END:VEVENT
BEGIN:VEVENT
DTSTART;TZID=America/New_York:20240907T220000
DTEND;TZID=America/New_York:20240908T000000
DTSTAMP:20260425T073211
CREATED:20240103T093407Z
LAST-MODIFIED:20240103T093547Z
UID:10006056-1725746400-1725753600@eagle-ny.com
SUMMARY:CLUB NIGHT
DESCRIPTION:
URL:https://eagle-ny.com/calendarofevents/club-night-19-2/2024-09-07/
LOCATION:The Eagle NYC\, New York\, NY\, United States
GEO:40.751624;-74.004346
END:VEVENT
BEGIN:VEVENT
DTSTART;TZID=America/New_York:20240907T220000
DTEND;TZID=America/New_York:20240908T040000
DTSTAMP:20260425T073211
CREATED:20240806T092237Z
LAST-MODIFIED:20240806T092237Z
UID:10006442-1725746400-1725768000@eagle-ny.com
SUMMARY:🎧JAMES ANTHONY + 🎧JAMES ANDERSEN 💰25 CASH COVER
DESCRIPTION:
URL:https://eagle-ny.com/calendarofevents/%f0%9f%8e%a7james-anthony-%f0%9f%8e%a7james-andersen-%f0%9f%92%b025-cash-cover/
LOCATION:The Eagle NYC\, New York\, NY\, United States
GEO:40.751624;-74.004346
END:VEVENT
BEGIN:VEVENT
DTSTART;TZID=America/New_York:20240908T170000
DTEND;TZID=America/New_York:20240908T200000
DTSTAMP:20260425T073211
CREATED:20240620T214308Z
LAST-MODIFIED:20240620T215534Z
UID:10006331-1725814800-1725825600@eagle-ny.com
SUMMARY:INTO?
DESCRIPTION:
URL:https://eagle-ny.com/calendarofevents/intosunday/2024-09-08/
LOCATION:The Eagle NYC\, New York\, NY\, United States
GEO:40.751624;-74.004346
END:VEVENT
BEGIN:VEVENT
DTSTART;TZID=America/New_York:20240908T170000
DTEND;TZID=America/New_York:20240908T220000
DTSTAMP:20260425T073211
CREATED:20240806T092351Z
LAST-MODIFIED:20240806T092352Z
UID:10005708-1725814800-1725832800@eagle-ny.com
SUMMARY:🍺 BEER BLAST 🎧 CUNNINGHAM. 💰NO COVER TILL 9PM
DESCRIPTION:
URL:https://eagle-ny.com/calendarofevents/%f0%9f%8d%ba-beer-blast-%f0%9f%8e%a7-4-48-11/
LOCATION:The Eagle NYC\, New York\, NY\, United States
GEO:40.751624;-74.004346
END:VEVENT
BEGIN:VEVENT
DTSTART;TZID=America/New_York:20240908T220000
DTEND;TZID=America/New_York:20240909T040000
DTSTAMP:20260425T073211
CREATED:20240806T092535Z
LAST-MODIFIED:20240806T092535Z
UID:10006445-1725832800-1725854400@eagle-ny.com
SUMMARY:🎧SAM GEE + 🎧BOBBY DURON 💰20 CASH COVER
DESCRIPTION:
URL:https://eagle-ny.com/calendarofevents/%f0%9f%8e%a7sam-gee-%f0%9f%8e%a7bobby-duron-%f0%9f%92%b020-cash-cover/
LOCATION:The Eagle NYC\, New York\, NY\, United States
GEO:40.751624;-74.004346
END:VEVENT
END:VCALENDAR