BEGIN:VCALENDAR
VERSION:2.0
PRODID:-//The Eagle NYC - ECPv6.15.20//NONSGML v1.0//EN
CALSCALE:GREGORIAN
METHOD:PUBLISH
X-ORIGINAL-URL:https://eagle-ny.com
X-WR-CALDESC:Events for The Eagle NYC
REFRESH-INTERVAL;VALUE=DURATION:PT1H
X-Robots-Tag:noindex
X-PUBLISHED-TTL:PT1H
BEGIN:VTIMEZONE
TZID:America/New_York
BEGIN:DAYLIGHT
TZOFFSETFROM:-0500
TZOFFSETTO:-0400
TZNAME:EDT
DTSTART:20230312T070000
END:DAYLIGHT
BEGIN:STANDARD
TZOFFSETFROM:-0400
TZOFFSETTO:-0500
TZNAME:EST
DTSTART:20231105T060000
END:STANDARD
BEGIN:DAYLIGHT
TZOFFSETFROM:-0500
TZOFFSETTO:-0400
TZNAME:EDT
DTSTART:20240310T070000
END:DAYLIGHT
BEGIN:STANDARD
TZOFFSETFROM:-0400
TZOFFSETTO:-0500
TZNAME:EST
DTSTART:20241103T060000
END:STANDARD
BEGIN:DAYLIGHT
TZOFFSETFROM:-0500
TZOFFSETTO:-0400
TZNAME:EDT
DTSTART:20250309T070000
END:DAYLIGHT
BEGIN:STANDARD
TZOFFSETFROM:-0400
TZOFFSETTO:-0500
TZNAME:EST
DTSTART:20251102T060000
END:STANDARD
END:VTIMEZONE
BEGIN:VEVENT
DTSTART;TZID=America/New_York:20240707T220000
DTEND;TZID=America/New_York:20240708T040000
DTSTAMP:20260425T104122
CREATED:20240617T130231Z
LAST-MODIFIED:20240703T094105Z
UID:10006313-1720389600-1720411200@eagle-ny.com
SUMMARY:🎧 BRETT OOSTERHAUS  + 🎧 BOBBY DURON 💰20 CASH COVER
DESCRIPTION:
URL:https://eagle-ny.com/calendarofevents/%f0%9f%8e%a7-brett-oosterhaus-%f0%9f%8e%a7-bobby-duron-13/
LOCATION:The Eagle NYC\, New York\, NY\, United States
GEO:40.751624;-74.004346
END:VEVENT
BEGIN:VEVENT
DTSTART;TZID=America/New_York:20240708T220000
DTEND;TZID=America/New_York:20240709T030000
DTSTAMP:20260425T104122
CREATED:20240703T093846Z
LAST-MODIFIED:20240719T145339Z
UID:10005345-1720476000-1720494000@eagle-ny.com
SUMMARY:😊  NO COVER
DESCRIPTION:
URL:https://eagle-ny.com/calendarofevents/%f0%9f%98%8a-2-4/2024-07-08/
LOCATION:The Eagle NYC\, New York\, NY\, United States
GEO:40.751624;-74.004346
END:VEVENT
BEGIN:VEVENT
DTSTART;TZID=America/New_York:20240710T220000
DTEND;TZID=America/New_York:20240711T040000
DTSTAMP:20260425T104122
CREATED:20240617T130436Z
LAST-MODIFIED:20240703T004958Z
UID:10005995-1720648800-1720670400@eagle-ny.com
SUMMARY:🩲 JOCKSTRAP WEDNESDAY 🎧 MITCH FERRINO 💰20 CASH COVER
DESCRIPTION:
URL:https://eagle-ny.com/calendarofevents/%f0%9f%a9%b2-jockstrap-wednesday-%f0%9f%8e%a7-28/
LOCATION:The Eagle NYC\, New York\, NY\, United States
GEO:40.751624;-74.004346
END:VEVENT
BEGIN:VEVENT
DTSTART;TZID=America/New_York:20240711T220000
DTEND;TZID=America/New_York:20240712T040000
DTSTAMP:20260425T104122
CREATED:20240620T214729Z
LAST-MODIFIED:20240709T194241Z
UID:10006328-1720735200-1720756800@eagle-ny.com
SUMMARY:CLOSED FOR 🥳 PRIVATE EVENT
DESCRIPTION:
URL:https://eagle-ny.com/calendarofevents/%f0%9f%8e%a7-steve-cunningham/
LOCATION:The Eagle NYC\, New York\, NY\, United States
GEO:40.751624;-74.004346
END:VEVENT
BEGIN:VEVENT
DTSTART;TZID=America/New_York:20240712T220000
DTEND;TZID=America/New_York:20240713T040000
DTSTAMP:20260425T104122
CREATED:20240617T130727Z
LAST-MODIFIED:20240703T005532Z
UID:10006316-1720821600-1720843200@eagle-ny.com
SUMMARY:🎧 DAVID OHANA AVIANCE + 🎧 MATTHEW J. 💰25 CASH COVER
DESCRIPTION:
URL:https://eagle-ny.com/calendarofevents/%f0%9f%8e%a7-david-ohana-aviance-%f0%9f%8e%a7-matthew-j/
LOCATION:The Eagle NYC\, New York\, NY\, United States
GEO:40.751624;-74.004346
END:VEVENT
BEGIN:VEVENT
DTSTART;TZID=America/New_York:20240713T220000
DTEND;TZID=America/New_York:20240714T040000
DTSTAMP:20260425T104122
CREATED:20240617T130903Z
LAST-MODIFIED:20240703T005655Z
UID:10006317-1720908000-1720929600@eagle-ny.com
SUMMARY:🎧 T DON + 🎧 JAMES ANDERSEN 💰25 CASH COVER
DESCRIPTION:
URL:https://eagle-ny.com/calendarofevents/%f0%9f%8e%a7-t-don-%f0%9f%8e%a7-james-andersen/
LOCATION:The Eagle NYC\, New York\, NY\, United States
GEO:40.751624;-74.004346
END:VEVENT
BEGIN:VEVENT
DTSTART;TZID=America/New_York:20240714T170000
DTEND;TZID=America/New_York:20240714T200000
DTSTAMP:20260425T104122
CREATED:20240620T214308Z
LAST-MODIFIED:20240620T215534Z
UID:10006327-1720976400-1720987200@eagle-ny.com
SUMMARY:INTO?
DESCRIPTION:
URL:https://eagle-ny.com/calendarofevents/intosunday/2024-07-14/
LOCATION:The Eagle NYC\, New York\, NY\, United States
GEO:40.751624;-74.004346
END:VEVENT
BEGIN:VEVENT
DTSTART;TZID=America/New_York:20240714T170000
DTEND;TZID=America/New_York:20240714T220000
DTSTAMP:20260425T104122
CREATED:20240617T133247Z
LAST-MODIFIED:20240703T093512Z
UID:10005700-1720976400-1720994400@eagle-ny.com
SUMMARY:🍺 BEER BLAST 🎧 STEVE CUNNINGHAM 💰20 CASH COVER AFTER 9PM
DESCRIPTION:
URL:https://eagle-ny.com/calendarofevents/%f0%9f%8d%ba-beer-blast-%f0%9f%8e%a7-4-48-3/
LOCATION:The Eagle NYC\, New York\, NY\, United States
GEO:40.751624;-74.004346
END:VEVENT
BEGIN:VEVENT
DTSTART;TZID=America/New_York:20240714T220000
DTEND;TZID=America/New_York:20240715T040000
DTSTAMP:20260425T104122
CREATED:20240618T105820Z
LAST-MODIFIED:20240703T094131Z
UID:10006318-1720994400-1721016000@eagle-ny.com
SUMMARY:🎧 MUSIKDAWG + 🎧 BOBBY DURON 💰20 CASH COVER
DESCRIPTION:
URL:https://eagle-ny.com/calendarofevents/%f0%9f%8e%a7-musikdawg-%f0%9f%8e%a7-cunningham/
LOCATION:The Eagle NYC\, New York\, NY\, United States
GEO:40.751624;-74.004346
END:VEVENT
END:VCALENDAR