BEGIN:VCALENDAR
VERSION:2.0
PRODID:-//The Eagle NYC - ECPv6.15.20//NONSGML v1.0//EN
CALSCALE:GREGORIAN
METHOD:PUBLISH
X-ORIGINAL-URL:https://eagle-ny.com
X-WR-CALDESC:Events for The Eagle NYC
REFRESH-INTERVAL;VALUE=DURATION:PT1H
X-Robots-Tag:noindex
X-PUBLISHED-TTL:PT1H
BEGIN:VTIMEZONE
TZID:America/New_York
BEGIN:DAYLIGHT
TZOFFSETFROM:-0500
TZOFFSETTO:-0400
TZNAME:EDT
DTSTART:20230312T070000
END:DAYLIGHT
BEGIN:STANDARD
TZOFFSETFROM:-0400
TZOFFSETTO:-0500
TZNAME:EST
DTSTART:20231105T060000
END:STANDARD
BEGIN:DAYLIGHT
TZOFFSETFROM:-0500
TZOFFSETTO:-0400
TZNAME:EDT
DTSTART:20240310T070000
END:DAYLIGHT
BEGIN:STANDARD
TZOFFSETFROM:-0400
TZOFFSETTO:-0500
TZNAME:EST
DTSTART:20241103T060000
END:STANDARD
BEGIN:DAYLIGHT
TZOFFSETFROM:-0500
TZOFFSETTO:-0400
TZNAME:EDT
DTSTART:20250309T070000
END:DAYLIGHT
BEGIN:STANDARD
TZOFFSETFROM:-0400
TZOFFSETTO:-0500
TZNAME:EST
DTSTART:20251102T060000
END:STANDARD
END:VTIMEZONE
BEGIN:VEVENT
DTSTART;VALUE=DATE:20240626
DTEND;VALUE=DATE:20240702
DTSTAMP:20260425T104203
CREATED:20240422T074517Z
LAST-MODIFIED:20240422T074517Z
UID:10006202-1719378000-1719809999@eagle-ny.com
SUMMARY:🌈 GAY PRIDE
DESCRIPTION:
URL:https://eagle-ny.com/calendarofevents/%f0%9f%8c%88-gay-pride/
LOCATION:The Eagle NYC\, New York\, NY\, United States
GEO:40.751624;-74.004346
END:VEVENT
BEGIN:VEVENT
DTSTART;TZID=America/New_York:20240630T160000
DTEND;TZID=America/New_York:20240701T040000
DTSTAMP:20260425T104203
CREATED:20240508T060935Z
LAST-MODIFIED:20240625T003843Z
UID:10006241-1719763200-1719806400@eagle-ny.com
SUMMARY:PRIDE SUNDAY 🎧DURON + 🎧LORANT + 🎧MUSIKDAWG + 🎧BRAM + 🎧SCHEIMAN
DESCRIPTION:
URL:https://eagle-ny.com/calendarofevents/gaypride2024/
LOCATION:The Eagle NYC\, New York\, NY\, United States
GEO:40.751624;-74.004346
END:VEVENT
BEGIN:VEVENT
DTSTART;TZID=America/New_York:20240701T220000
DTEND;TZID=America/New_York:20240702T030000
DTSTAMP:20260425T104203
CREATED:20240703T093846Z
LAST-MODIFIED:20240719T145339Z
UID:10005344-1719871200-1719889200@eagle-ny.com
SUMMARY:😊  NO COVER
DESCRIPTION:
URL:https://eagle-ny.com/calendarofevents/%f0%9f%98%8a-2-4/2024-07-01/
LOCATION:The Eagle NYC\, New York\, NY\, United States
GEO:40.751624;-74.004346
END:VEVENT
BEGIN:VEVENT
DTSTART;TZID=America/New_York:20240702T220000
DTEND;TZID=America/New_York:20240703T040000
DTSTAMP:20260425T104203
CREATED:20240703T093928Z
LAST-MODIFIED:20250112T173500Z
UID:10004435-1719957600-1719979200@eagle-ny.com
SUMMARY:😊  BAR CLOSED FOR STAFF DINNER PARTY
DESCRIPTION:
URL:https://eagle-ny.com/calendarofevents/%f0%9f%98%89-3/
LOCATION:The Eagle NYC\, New York\, NY\, United States
GEO:40.751624;-74.004346
END:VEVENT
BEGIN:VEVENT
DTSTART;TZID=America/New_York:20240703T220000
DTEND;TZID=America/New_York:20240704T040000
DTSTAMP:20260425T104203
CREATED:20240530T091027Z
LAST-MODIFIED:20240703T004317Z
UID:10005994-1720044000-1720065600@eagle-ny.com
SUMMARY:🩲 JOCKSTRAP WEDNESDAY 🎧 RAMOS 💰 20 CASH COVER
DESCRIPTION:
URL:https://eagle-ny.com/calendarofevents/%f0%9f%a9%b2-jockstrap-wednesday-%f0%9f%8e%a7-27/
LOCATION:The Eagle NYC\, New York\, NY\, United States
GEO:40.751624;-74.004346
END:VEVENT
BEGIN:VEVENT
DTSTART;TZID=America/New_York:20240704T170000
DTEND;TZID=America/New_York:20240705T040000
DTSTAMP:20260425T104203
CREATED:20240530T091202Z
LAST-MODIFIED:20240703T004652Z
UID:10005098-1720112400-1720152000@eagle-ny.com
SUMMARY:🇺🇸 🎧 BOBBY DURON 💰 10 CASH COVER AFTER 10PM
DESCRIPTION:
URL:https://eagle-ny.com/calendarofevents/%f0%9f%8e%a7-13/
LOCATION:The Eagle NYC\, New York\, NY\, United States
GEO:40.751624;-74.004346
END:VEVENT
BEGIN:VEVENT
DTSTART;TZID=America/New_York:20240705T220000
DTEND;TZID=America/New_York:20240706T040000
DTSTAMP:20260425T104203
CREATED:20240617T125450Z
LAST-MODIFIED:20240703T005403Z
UID:10006243-1720216800-1720238400@eagle-ny.com
SUMMARY:🎧 RUIZ + 🎧 CUNNINGHAM 💰25 CASH COVER
DESCRIPTION:
URL:https://eagle-ny.com/calendarofevents/%f0%9f%8e%a7-ruiz-%f0%9f%8e%a7-cunningham/
LOCATION:The Eagle NYC\, New York\, NY\, United States
GEO:40.751624;-74.004346
END:VEVENT
BEGIN:VEVENT
DTSTART;TZID=America/New_York:20240706T220000
DTEND;TZID=America/New_York:20240707T000000
DTSTAMP:20260425T104203
CREATED:20240103T093407Z
LAST-MODIFIED:20240103T093547Z
UID:10006054-1720303200-1720310400@eagle-ny.com
SUMMARY:CLUB NIGHT
DESCRIPTION:
URL:https://eagle-ny.com/calendarofevents/club-night-19-2/2024-07-06/
LOCATION:The Eagle NYC\, New York\, NY\, United States
GEO:40.751624;-74.004346
END:VEVENT
BEGIN:VEVENT
DTSTART;TZID=America/New_York:20240706T220000
DTEND;TZID=America/New_York:20240707T040000
DTSTAMP:20260425T104203
CREATED:20240617T125903Z
LAST-MODIFIED:20240703T005457Z
UID:10006304-1720303200-1720324800@eagle-ny.com
SUMMARY:🎧 JAMES ANTHONY + ERIK ELIAS 💰25 CASH COVER
DESCRIPTION:
URL:https://eagle-ny.com/calendarofevents/%f0%9f%8e%a7-james-anthony-erik-elias/
LOCATION:The Eagle NYC\, New York\, NY\, United States
GEO:40.751624;-74.004346
END:VEVENT
BEGIN:VEVENT
DTSTART;TZID=America/New_York:20240707T170000
DTEND;TZID=America/New_York:20240707T220000
DTSTAMP:20260425T104203
CREATED:20240617T130021Z
LAST-MODIFIED:20240703T005746Z
UID:10005699-1720371600-1720389600@eagle-ny.com
SUMMARY:🍺 BEER BLAST 🎧 ERIK ELIAS 💰20 CASH COVER AFTER 9PM
DESCRIPTION:
URL:https://eagle-ny.com/calendarofevents/%f0%9f%8d%ba-beer-blast-%f0%9f%8e%a7-4-48-2/
LOCATION:The Eagle NYC\, New York\, NY\, United States
GEO:40.751624;-74.004346
END:VEVENT
BEGIN:VEVENT
DTSTART;TZID=America/New_York:20240707T220000
DTEND;TZID=America/New_York:20240708T040000
DTSTAMP:20260425T104203
CREATED:20240617T130231Z
LAST-MODIFIED:20240703T094105Z
UID:10006313-1720389600-1720411200@eagle-ny.com
SUMMARY:🎧 BRETT OOSTERHAUS  + 🎧 BOBBY DURON 💰20 CASH COVER
DESCRIPTION:
URL:https://eagle-ny.com/calendarofevents/%f0%9f%8e%a7-brett-oosterhaus-%f0%9f%8e%a7-bobby-duron-13/
LOCATION:The Eagle NYC\, New York\, NY\, United States
GEO:40.751624;-74.004346
END:VEVENT
END:VCALENDAR