BEGIN:VCALENDAR
VERSION:2.0
PRODID:-//The Eagle NYC - ECPv6.15.20//NONSGML v1.0//EN
CALSCALE:GREGORIAN
METHOD:PUBLISH
X-ORIGINAL-URL:https://eagle-ny.com
X-WR-CALDESC:Events for The Eagle NYC
REFRESH-INTERVAL;VALUE=DURATION:PT1H
X-Robots-Tag:noindex
X-PUBLISHED-TTL:PT1H
BEGIN:VTIMEZONE
TZID:America/New_York
BEGIN:DAYLIGHT
TZOFFSETFROM:-0500
TZOFFSETTO:-0400
TZNAME:EDT
DTSTART:20230312T070000
END:DAYLIGHT
BEGIN:STANDARD
TZOFFSETFROM:-0400
TZOFFSETTO:-0500
TZNAME:EST
DTSTART:20231105T060000
END:STANDARD
BEGIN:DAYLIGHT
TZOFFSETFROM:-0500
TZOFFSETTO:-0400
TZNAME:EDT
DTSTART:20240310T070000
END:DAYLIGHT
BEGIN:STANDARD
TZOFFSETFROM:-0400
TZOFFSETTO:-0500
TZNAME:EST
DTSTART:20241103T060000
END:STANDARD
BEGIN:DAYLIGHT
TZOFFSETFROM:-0500
TZOFFSETTO:-0400
TZNAME:EDT
DTSTART:20250309T070000
END:DAYLIGHT
BEGIN:STANDARD
TZOFFSETFROM:-0400
TZOFFSETTO:-0500
TZNAME:EST
DTSTART:20251102T060000
END:STANDARD
END:VTIMEZONE
BEGIN:VEVENT
DTSTART;TZID=America/New_York:20240623T220000
DTEND;TZID=America/New_York:20240624T040000
DTSTAMP:20260425T110427
CREATED:20240508T060215Z
LAST-MODIFIED:20240523T212748Z
UID:10006238-1719180000-1719201600@eagle-ny.com
SUMMARY:🎧 TONY RUIZ + 🎧 BOBBY DURON
DESCRIPTION:
URL:https://eagle-ny.com/calendarofevents/%f0%9f%8e%a7-bobby-duron-3/
LOCATION:The Eagle NYC\, New York\, NY\, United States
GEO:40.751624;-74.004346
END:VEVENT
BEGIN:VEVENT
DTSTART;TZID=America/New_York:20240624T220000
DTEND;TZID=America/New_York:20240625T040000
DTSTAMP:20260425T110427
CREATED:20230704T140930Z
LAST-MODIFIED:20230704T140930Z
UID:10005343-1719266400-1719288000@eagle-ny.com
SUMMARY:😊
DESCRIPTION:
URL:https://eagle-ny.com/calendarofevents/%f0%9f%98%8a-2/2024-06-24/
LOCATION:The Eagle NYC\, New York\, NY\, United States
GEO:40.751624;-74.004346
END:VEVENT
BEGIN:VEVENT
DTSTART;TZID=America/New_York:20240625T220000
DTEND;TZID=America/New_York:20240626T040000
DTSTAMP:20260425T110427
CREATED:20230629T125556Z
LAST-MODIFIED:20230703T191910Z
UID:10004434-1719352800-1719374400@eagle-ny.com
SUMMARY:😉
DESCRIPTION:
URL:https://eagle-ny.com/calendarofevents/%f0%9f%98%89/2024-06-25/
LOCATION:The Eagle NYC\, New York\, NY\, United States
GEO:40.751624;-74.004346
END:VEVENT
BEGIN:VEVENT
DTSTART;VALUE=DATE:20240626
DTEND;VALUE=DATE:20240702
DTSTAMP:20260425T110427
CREATED:20240422T074517Z
LAST-MODIFIED:20240422T074517Z
UID:10006202-1719378000-1719809999@eagle-ny.com
SUMMARY:🌈 GAY PRIDE
DESCRIPTION:
URL:https://eagle-ny.com/calendarofevents/%f0%9f%8c%88-gay-pride/
LOCATION:The Eagle NYC\, New York\, NY\, United States
GEO:40.751624;-74.004346
END:VEVENT
BEGIN:VEVENT
DTSTART;TZID=America/New_York:20240626T220000
DTEND;TZID=America/New_York:20240627T040000
DTSTAMP:20260425T110427
CREATED:20240508T055831Z
LAST-MODIFIED:20240620T221355Z
UID:10005993-1719439200-1719460800@eagle-ny.com
SUMMARY:🩲 JOCKSTRAP WEDNESDAY 🎧 TORO + 🎧 FERRINO
DESCRIPTION:
URL:https://eagle-ny.com/calendarofevents/%f0%9f%a9%b2-jockstrap-wednesday-%f0%9f%8e%a7-26/
LOCATION:The Eagle NYC\, New York\, NY\, United States
GEO:40.751624;-74.004346
END:VEVENT
BEGIN:VEVENT
DTSTART;TZID=America/New_York:20240627T220000
DTEND;TZID=America/New_York:20240628T040000
DTSTAMP:20260425T110427
CREATED:20240508T055936Z
LAST-MODIFIED:20240508T055936Z
UID:10004978-1719525600-1719547200@eagle-ny.com
SUMMARY:INTO?  🎧 TROTTER + CUNNINGHAM
DESCRIPTION:
URL:https://eagle-ny.com/calendarofevents/into%f0%9f%8e%a7-12/
LOCATION:The Eagle NYC\, New York\, NY\, United States
GEO:40.751624;-74.004346
END:VEVENT
BEGIN:VEVENT
DTSTART;TZID=America/New_York:20240628T220000
DTEND;TZID=America/New_York:20240629T040000
DTSTAMP:20260425T110427
CREATED:20240508T060356Z
LAST-MODIFIED:20240521T213035Z
UID:10006239-1719612000-1719633600@eagle-ny.com
SUMMARY:🎧 KEVIN ANTHONY + 🎧 MUSIKDAWG
DESCRIPTION:
URL:https://eagle-ny.com/calendarofevents/%f0%9f%8e%a7-kevin-anthony-%f0%9f%8e%a7-mainiero/
LOCATION:The Eagle NYC\, New York\, NY\, United States
GEO:40.751624;-74.004346
END:VEVENT
BEGIN:VEVENT
DTSTART;TZID=America/New_York:20240629T220000
DTEND;TZID=America/New_York:20240630T040000
DTSTAMP:20260425T110427
CREATED:20240508T060514Z
LAST-MODIFIED:20240508T060514Z
UID:10006240-1719698400-1719720000@eagle-ny.com
SUMMARY:🎧 DEANNE + CICERO
DESCRIPTION:
URL:https://eagle-ny.com/calendarofevents/%f0%9f%8e%a7-deanne-cicero/
LOCATION:The Eagle NYC\, New York\, NY\, United States
GEO:40.751624;-74.004346
END:VEVENT
BEGIN:VEVENT
DTSTART;TZID=America/New_York:20240630T160000
DTEND;TZID=America/New_York:20240701T040000
DTSTAMP:20260425T110427
CREATED:20240508T060935Z
LAST-MODIFIED:20240625T003843Z
UID:10006241-1719763200-1719806400@eagle-ny.com
SUMMARY:PRIDE SUNDAY 🎧DURON + 🎧LORANT + 🎧MUSIKDAWG + 🎧BRAM + 🎧SCHEIMAN
DESCRIPTION:
URL:https://eagle-ny.com/calendarofevents/gaypride2024/
LOCATION:The Eagle NYC\, New York\, NY\, United States
GEO:40.751624;-74.004346
END:VEVENT
END:VCALENDAR