BEGIN:VCALENDAR
VERSION:2.0
PRODID:-//The Eagle NYC - ECPv6.15.20//NONSGML v1.0//EN
CALSCALE:GREGORIAN
METHOD:PUBLISH
X-WR-CALNAME:The Eagle NYC
X-ORIGINAL-URL:https://eagle-ny.com
X-WR-CALDESC:Events for The Eagle NYC
REFRESH-INTERVAL;VALUE=DURATION:PT1H
X-Robots-Tag:noindex
X-PUBLISHED-TTL:PT1H
BEGIN:VTIMEZONE
TZID:America/New_York
BEGIN:DAYLIGHT
TZOFFSETFROM:-0500
TZOFFSETTO:-0400
TZNAME:EDT
DTSTART:20230312T070000
END:DAYLIGHT
BEGIN:STANDARD
TZOFFSETFROM:-0400
TZOFFSETTO:-0500
TZNAME:EST
DTSTART:20231105T060000
END:STANDARD
BEGIN:DAYLIGHT
TZOFFSETFROM:-0500
TZOFFSETTO:-0400
TZNAME:EDT
DTSTART:20240310T070000
END:DAYLIGHT
BEGIN:STANDARD
TZOFFSETFROM:-0400
TZOFFSETTO:-0500
TZNAME:EST
DTSTART:20241103T060000
END:STANDARD
BEGIN:DAYLIGHT
TZOFFSETFROM:-0500
TZOFFSETTO:-0400
TZNAME:EDT
DTSTART:20250309T070000
END:DAYLIGHT
BEGIN:STANDARD
TZOFFSETFROM:-0400
TZOFFSETTO:-0500
TZNAME:EST
DTSTART:20251102T060000
END:STANDARD
END:VTIMEZONE
BEGIN:VEVENT
DTSTART;TZID=America/New_York:20240602T220000
DTEND;TZID=America/New_York:20240603T040000
DTSTAMP:20260425T110015
CREATED:20240419T211207Z
LAST-MODIFIED:20240419T211207Z
UID:10006195-1717365600-1717387200@eagle-ny.com
SUMMARY:🎧 SAM GEE + 🎧 ERIK ELIAS
DESCRIPTION:
URL:https://eagle-ny.com/calendarofevents/%f0%9f%8e%a7-sam-gee-%f0%9f%8e%a7-erik-elias/
LOCATION:The Eagle NYC\, New York\, NY\, United States
GEO:40.751624;-74.004346
END:VEVENT
BEGIN:VEVENT
DTSTART;TZID=America/New_York:20240603T220000
DTEND;TZID=America/New_York:20240604T040000
DTSTAMP:20260425T110015
CREATED:20230704T140930Z
LAST-MODIFIED:20230704T140930Z
UID:10005340-1717452000-1717473600@eagle-ny.com
SUMMARY:😊
DESCRIPTION:
URL:https://eagle-ny.com/calendarofevents/%f0%9f%98%8a-2/2024-06-03/
LOCATION:The Eagle NYC\, New York\, NY\, United States
GEO:40.751624;-74.004346
END:VEVENT
BEGIN:VEVENT
DTSTART;TZID=America/New_York:20240604T220000
DTEND;TZID=America/New_York:20240605T040000
DTSTAMP:20260425T110015
CREATED:20230629T125556Z
LAST-MODIFIED:20230703T191910Z
UID:10004431-1717538400-1717560000@eagle-ny.com
SUMMARY:😉
DESCRIPTION:
URL:https://eagle-ny.com/calendarofevents/%f0%9f%98%89/2024-06-04/
LOCATION:The Eagle NYC\, New York\, NY\, United States
GEO:40.751624;-74.004346
END:VEVENT
BEGIN:VEVENT
DTSTART;TZID=America/New_York:20240605T220000
DTEND;TZID=America/New_York:20240606T040000
DTSTAMP:20260425T110015
CREATED:20240419T211317Z
LAST-MODIFIED:20240419T211317Z
UID:10005990-1717624800-1717646400@eagle-ny.com
SUMMARY:🩲 Jockstrap Wednesday 🎧 BARE NAKED
DESCRIPTION:
URL:https://eagle-ny.com/calendarofevents/%f0%9f%a9%b2-jockstrap-wednesday-%f0%9f%8e%a7-23/
LOCATION:The Eagle NYC\, New York\, NY\, United States
GEO:40.751624;-74.004346
END:VEVENT
BEGIN:VEVENT
DTSTART;TZID=America/New_York:20240606T220000
DTEND;TZID=America/New_York:20240607T040000
DTSTAMP:20260425T110015
CREATED:20240419T211423Z
LAST-MODIFIED:20240419T211424Z
UID:10005097-1717711200-1717732800@eagle-ny.com
SUMMARY:🎧 GREG BRAM
DESCRIPTION:
URL:https://eagle-ny.com/calendarofevents/%f0%9f%8e%a7-12/
LOCATION:The Eagle NYC\, New York\, NY\, United States
GEO:40.751624;-74.004346
END:VEVENT
BEGIN:VEVENT
DTSTART;TZID=America/New_York:20240607T220000
DTEND;TZID=America/New_York:20240608T040000
DTSTAMP:20260425T110015
CREATED:20240422T073948Z
LAST-MODIFIED:20240422T073948Z
UID:10006198-1717797600-1717819200@eagle-ny.com
SUMMARY:🎧 RAMOS + BOBBY DURON
DESCRIPTION:
URL:https://eagle-ny.com/calendarofevents/%f0%9f%8e%a7-ramos-bobby-duron/
LOCATION:The Eagle NYC\, New York\, NY\, United States
GEO:40.751624;-74.004346
END:VEVENT
BEGIN:VEVENT
DTSTART;TZID=America/New_York:20240608T220000
DTEND;TZID=America/New_York:20240609T040000
DTSTAMP:20260425T110015
CREATED:20240422T073609Z
LAST-MODIFIED:20240422T073609Z
UID:10006197-1717884000-1717905600@eagle-ny.com
SUMMARY:🎧 WAYNE G. + 🎧 JAMES ANDERSEN
DESCRIPTION:
URL:https://eagle-ny.com/calendarofevents/%f0%9f%8e%a7-wayne-g-%f0%9f%8e%a7-james-andersen/
LOCATION:The Eagle NYC\, New York\, NY\, United States
GEO:40.751624;-74.004346
END:VEVENT
BEGIN:VEVENT
DTSTART;TZID=America/New_York:20240609T170000
DTEND;TZID=America/New_York:20240609T220000
DTSTAMP:20260425T110015
CREATED:20240422T074054Z
LAST-MODIFIED:20240422T074055Z
UID:10005695-1717952400-1717970400@eagle-ny.com
SUMMARY:🍺 BEER BLAST 🎧 MUSIKDAWG
DESCRIPTION:
URL:https://eagle-ny.com/calendarofevents/%f0%9f%8d%ba-beer-blast-%f0%9f%8e%a7-4-47/
LOCATION:The Eagle NYC\, New York\, NY\, United States
GEO:40.751624;-74.004346
END:VEVENT
BEGIN:VEVENT
DTSTART;TZID=America/New_York:20240609T220000
DTEND;TZID=America/New_York:20240610T040000
DTSTAMP:20260425T110015
CREATED:20240422T074147Z
LAST-MODIFIED:20240422T074147Z
UID:10006200-1717970400-1717992000@eagle-ny.com
SUMMARY:🎧 ERIK ELIAS + 🎧 BOBBY DURON
DESCRIPTION:
URL:https://eagle-ny.com/calendarofevents/%f0%9f%8e%a7-erik-elias-%f0%9f%8e%a7-bobby-duron-7/
LOCATION:The Eagle NYC\, New York\, NY\, United States
GEO:40.751624;-74.004346
END:VEVENT
END:VCALENDAR