BEGIN:VCALENDAR
VERSION:2.0
PRODID:-//The Eagle NYC - ECPv6.15.20//NONSGML v1.0//EN
CALSCALE:GREGORIAN
METHOD:PUBLISH
X-WR-CALNAME:The Eagle NYC
X-ORIGINAL-URL:https://eagle-ny.com
X-WR-CALDESC:Events for The Eagle NYC
REFRESH-INTERVAL;VALUE=DURATION:PT1H
X-Robots-Tag:noindex
X-PUBLISHED-TTL:PT1H
BEGIN:VTIMEZONE
TZID:America/New_York
BEGIN:DAYLIGHT
TZOFFSETFROM:-0500
TZOFFSETTO:-0400
TZNAME:EDT
DTSTART:20260308T070000
END:DAYLIGHT
BEGIN:STANDARD
TZOFFSETFROM:-0400
TZOFFSETTO:-0500
TZNAME:EST
DTSTART:20261101T060000
END:STANDARD
BEGIN:DAYLIGHT
TZOFFSETFROM:-0500
TZOFFSETTO:-0400
TZNAME:EDT
DTSTART:20270314T070000
END:DAYLIGHT
BEGIN:STANDARD
TZOFFSETFROM:-0400
TZOFFSETTO:-0500
TZNAME:EST
DTSTART:20271107T060000
END:STANDARD
BEGIN:DAYLIGHT
TZOFFSETFROM:-0500
TZOFFSETTO:-0400
TZNAME:EDT
DTSTART:20280312T070000
END:DAYLIGHT
BEGIN:STANDARD
TZOFFSETFROM:-0400
TZOFFSETTO:-0500
TZNAME:EST
DTSTART:20281105T060000
END:STANDARD
END:VTIMEZONE
BEGIN:VEVENT
DTSTART;TZID=America/New_York:20270101T190000
DTEND;TZID=America/New_York:20270101T213000
DTSTAMP:20260424T085446
CREATED:20240617T125730Z
LAST-MODIFIED:20240703T005230Z
UID:10006274-1798830000-1798839000@eagle-ny.com
SUMMARY:JOCKSTRAP HAPPY HOUR 💰10 DONATION
DESCRIPTION:
URL:https://eagle-ny.com/calendarofevents/jockstrap-happy-hour/2027-01-01/
LOCATION:The Eagle NYC\, New York\, NY\, United States
GEO:40.751624;-74.004346
END:VEVENT
BEGIN:VEVENT
DTSTART;TZID=America/New_York:20270102T220000
DTEND;TZID=America/New_York:20270103T000000
DTSTAMP:20260424T085446
CREATED:20240103T093407Z
LAST-MODIFIED:20240103T093547Z
UID:10006084-1798927200-1798934400@eagle-ny.com
SUMMARY:CLUB NIGHT
DESCRIPTION:
URL:https://eagle-ny.com/calendarofevents/club-night-19-2/2027-01-02/
LOCATION:The Eagle NYC\, New York\, NY\, United States
GEO:40.751624;-74.004346
END:VEVENT
BEGIN:VEVENT
DTSTART;TZID=America/New_York:20270110T170000
DTEND;TZID=America/New_York:20270110T200000
DTSTAMP:20260424T085446
CREATED:20260311T214256Z
LAST-MODIFIED:20260311T214256Z
UID:10007601-1799600400-1799611200@eagle-ny.com
SUMMARY:INTO?
DESCRIPTION:
URL:https://eagle-ny.com/calendarofevents/into-5/2027-01-10/
LOCATION:The Eagle NYC\, New York\, NY\, United States
GEO:40.751624;-74.004346
END:VEVENT
BEGIN:VEVENT
DTSTART;TZID=America/New_York:20270117T170000
DTEND;TZID=America/New_York:20270117T200000
DTSTAMP:20260424T085446
CREATED:20230701T200441Z
LAST-MODIFIED:20230701T200441Z
UID:10005274-1800205200-1800216000@eagle-ny.com
SUMMARY:BLUF NEW YORK
DESCRIPTION:
URL:https://eagle-ny.com/calendarofevents/bluf-new-york-19/2027-01-17/
LOCATION:The Eagle NYC\, New York\, NY\, United States
GEO:40.751624;-74.004346
END:VEVENT
END:VCALENDAR