BEGIN:VCALENDAR
VERSION:2.0
PRODID:-//The Eagle NYC - ECPv6.15.20//NONSGML v1.0//EN
CALSCALE:GREGORIAN
METHOD:PUBLISH
X-WR-CALNAME:The Eagle NYC
X-ORIGINAL-URL:https://eagle-ny.com
X-WR-CALDESC:Events for The Eagle NYC
REFRESH-INTERVAL;VALUE=DURATION:PT1H
X-Robots-Tag:noindex
X-PUBLISHED-TTL:PT1H
BEGIN:VTIMEZONE
TZID:America/New_York
BEGIN:DAYLIGHT
TZOFFSETFROM:-0500
TZOFFSETTO:-0400
TZNAME:EDT
DTSTART:20250309T070000
END:DAYLIGHT
BEGIN:STANDARD
TZOFFSETFROM:-0400
TZOFFSETTO:-0500
TZNAME:EST
DTSTART:20251102T060000
END:STANDARD
BEGIN:DAYLIGHT
TZOFFSETFROM:-0500
TZOFFSETTO:-0400
TZNAME:EDT
DTSTART:20260308T070000
END:DAYLIGHT
BEGIN:STANDARD
TZOFFSETFROM:-0400
TZOFFSETTO:-0500
TZNAME:EST
DTSTART:20261101T060000
END:STANDARD
BEGIN:DAYLIGHT
TZOFFSETFROM:-0500
TZOFFSETTO:-0400
TZNAME:EDT
DTSTART:20270314T070000
END:DAYLIGHT
BEGIN:STANDARD
TZOFFSETFROM:-0400
TZOFFSETTO:-0500
TZNAME:EST
DTSTART:20271107T060000
END:STANDARD
END:VTIMEZONE
BEGIN:VEVENT
DTSTART;TZID=America/New_York:20260703T190000
DTEND;TZID=America/New_York:20260703T213000
DTSTAMP:20260423T201346
CREATED:20240617T125730Z
LAST-MODIFIED:20240703T005230Z
UID:10006268-1783105200-1783114200@eagle-ny.com
SUMMARY:JOCKSTRAP HAPPY HOUR 💰10 DONATION
DESCRIPTION:
URL:https://eagle-ny.com/calendarofevents/jockstrap-happy-hour/2026-07-03/
LOCATION:The Eagle NYC\, New York\, NY\, United States
GEO:40.751624;-74.004346
END:VEVENT
BEGIN:VEVENT
DTSTART;TZID=America/New_York:20260704T220000
DTEND;TZID=America/New_York:20260705T000000
DTSTAMP:20260423T201346
CREATED:20240103T093407Z
LAST-MODIFIED:20240103T093547Z
UID:10006078-1783202400-1783209600@eagle-ny.com
SUMMARY:CLUB NIGHT
DESCRIPTION:
URL:https://eagle-ny.com/calendarofevents/club-night-19-2/2026-07-04/
LOCATION:The Eagle NYC\, New York\, NY\, United States
GEO:40.751624;-74.004346
END:VEVENT
BEGIN:VEVENT
DTSTART;TZID=America/New_York:20260705T170000
DTEND;TZID=America/New_York:20260705T200000
DTSTAMP:20260423T201346
CREATED:20250703T171408Z
LAST-MODIFIED:20250703T171408Z
UID:10007368-1783270800-1783281600@eagle-ny.com
SUMMARY:CIGAR SOCIAL
DESCRIPTION:
URL:https://eagle-ny.com/calendarofevents/cigar-social/2026-07-05/
LOCATION:The Eagle NYC\, New York\, NY\, United States
GEO:40.751624;-74.004346
END:VEVENT
BEGIN:VEVENT
DTSTART;TZID=America/New_York:20260706T220000
DTEND;TZID=America/New_York:20260707T030000
DTSTAMP:20260423T201346
CREATED:20250522T164201Z
LAST-MODIFIED:20250522T164201Z
UID:10007209-1783375200-1783393200@eagle-ny.com
SUMMARY:MONDAY SINday 😊 NO COVER
DESCRIPTION:
URL:https://eagle-ny.com/calendarofevents/monday-sinday-%f0%9f%98%8a-no-cover/2026-07-06/
LOCATION:The Eagle NYC\, New York\, NY\, United States
GEO:40.751624;-74.004346
END:VEVENT
BEGIN:VEVENT
DTSTART;TZID=America/New_York:20260707T220000
DTEND;TZID=America/New_York:20260708T040000
DTSTAMP:20260423T201346
CREATED:20250522T165514Z
LAST-MODIFIED:20250522T165514Z
UID:10007291-1783461600-1783483200@eagle-ny.com
SUMMARY:TWISTED TUESDAY 😊 NO COVER
DESCRIPTION:
URL:https://eagle-ny.com/calendarofevents/twisted-tuesday-%f0%9f%98%8a-no-cover-3/2026-07-07/
LOCATION:The Eagle NYC\, New York\, NY\, United States
GEO:40.751624;-74.004346
END:VEVENT
BEGIN:VEVENT
DTSTART;TZID=America/New_York:20260712T170000
DTEND;TZID=America/New_York:20260712T200000
DTSTAMP:20260423T201346
CREATED:20250703T171408Z
LAST-MODIFIED:20250703T171408Z
UID:10007369-1783875600-1783886400@eagle-ny.com
SUMMARY:CIGAR SOCIAL
DESCRIPTION:
URL:https://eagle-ny.com/calendarofevents/cigar-social/2026-07-12/
LOCATION:The Eagle NYC\, New York\, NY\, United States
GEO:40.751624;-74.004346
END:VEVENT
BEGIN:VEVENT
DTSTART;TZID=America/New_York:20260712T170000
DTEND;TZID=America/New_York:20260712T200000
DTSTAMP:20260423T201346
CREATED:20260311T214256Z
LAST-MODIFIED:20260311T214256Z
UID:10007595-1783875600-1783886400@eagle-ny.com
SUMMARY:INTO?
DESCRIPTION:
URL:https://eagle-ny.com/calendarofevents/into-5/2026-07-12/
LOCATION:The Eagle NYC\, New York\, NY\, United States
GEO:40.751624;-74.004346
END:VEVENT
BEGIN:VEVENT
DTSTART;TZID=America/New_York:20260713T220000
DTEND;TZID=America/New_York:20260714T030000
DTSTAMP:20260423T201346
CREATED:20250522T164201Z
LAST-MODIFIED:20250522T164201Z
UID:10007210-1783980000-1783998000@eagle-ny.com
SUMMARY:MONDAY SINday 😊 NO COVER
DESCRIPTION:
URL:https://eagle-ny.com/calendarofevents/monday-sinday-%f0%9f%98%8a-no-cover/2026-07-13/
LOCATION:The Eagle NYC\, New York\, NY\, United States
GEO:40.751624;-74.004346
END:VEVENT
BEGIN:VEVENT
DTSTART;TZID=America/New_York:20260714T220000
DTEND;TZID=America/New_York:20260715T040000
DTSTAMP:20260423T201346
CREATED:20250522T165514Z
LAST-MODIFIED:20250522T165514Z
UID:10007292-1784066400-1784088000@eagle-ny.com
SUMMARY:TWISTED TUESDAY 😊 NO COVER
DESCRIPTION:
URL:https://eagle-ny.com/calendarofevents/twisted-tuesday-%f0%9f%98%8a-no-cover-3/2026-07-14/
LOCATION:The Eagle NYC\, New York\, NY\, United States
GEO:40.751624;-74.004346
END:VEVENT
BEGIN:VEVENT
DTSTART;TZID=America/New_York:20260719T170000
DTEND;TZID=America/New_York:20260719T200000
DTSTAMP:20260423T201346
CREATED:20230701T200441Z
LAST-MODIFIED:20230701T200441Z
UID:10005268-1784480400-1784491200@eagle-ny.com
SUMMARY:BLUF NEW YORK
DESCRIPTION:
URL:https://eagle-ny.com/calendarofevents/bluf-new-york-19/2026-07-19/
LOCATION:The Eagle NYC\, New York\, NY\, United States
GEO:40.751624;-74.004346
END:VEVENT
BEGIN:VEVENT
DTSTART;TZID=America/New_York:20260719T170000
DTEND;TZID=America/New_York:20260719T200000
DTSTAMP:20260423T201346
CREATED:20250703T171408Z
LAST-MODIFIED:20250703T171408Z
UID:10007370-1784480400-1784491200@eagle-ny.com
SUMMARY:CIGAR SOCIAL
DESCRIPTION:
URL:https://eagle-ny.com/calendarofevents/cigar-social/2026-07-19/
LOCATION:The Eagle NYC\, New York\, NY\, United States
GEO:40.751624;-74.004346
END:VEVENT
BEGIN:VEVENT
DTSTART;TZID=America/New_York:20260720T220000
DTEND;TZID=America/New_York:20260721T030000
DTSTAMP:20260423T201346
CREATED:20250522T164201Z
LAST-MODIFIED:20250522T164201Z
UID:10007211-1784584800-1784602800@eagle-ny.com
SUMMARY:MONDAY SINday 😊 NO COVER
DESCRIPTION:
URL:https://eagle-ny.com/calendarofevents/monday-sinday-%f0%9f%98%8a-no-cover/2026-07-20/
LOCATION:The Eagle NYC\, New York\, NY\, United States
GEO:40.751624;-74.004346
END:VEVENT
BEGIN:VEVENT
DTSTART;TZID=America/New_York:20260721T220000
DTEND;TZID=America/New_York:20260722T040000
DTSTAMP:20260423T201346
CREATED:20250522T165514Z
LAST-MODIFIED:20250522T165514Z
UID:10007293-1784671200-1784692800@eagle-ny.com
SUMMARY:TWISTED TUESDAY 😊 NO COVER
DESCRIPTION:
URL:https://eagle-ny.com/calendarofevents/twisted-tuesday-%f0%9f%98%8a-no-cover-3/2026-07-21/
LOCATION:The Eagle NYC\, New York\, NY\, United States
GEO:40.751624;-74.004346
END:VEVENT
BEGIN:VEVENT
DTSTART;TZID=America/New_York:20260726T170000
DTEND;TZID=America/New_York:20260726T200000
DTSTAMP:20260423T201346
CREATED:20250703T171408Z
LAST-MODIFIED:20250703T171408Z
UID:10007371-1785085200-1785096000@eagle-ny.com
SUMMARY:CIGAR SOCIAL
DESCRIPTION:
URL:https://eagle-ny.com/calendarofevents/cigar-social/2026-07-26/
LOCATION:The Eagle NYC\, New York\, NY\, United States
GEO:40.751624;-74.004346
END:VEVENT
BEGIN:VEVENT
DTSTART;TZID=America/New_York:20260727T220000
DTEND;TZID=America/New_York:20260728T030000
DTSTAMP:20260423T201346
CREATED:20250522T164201Z
LAST-MODIFIED:20250522T164201Z
UID:10007212-1785189600-1785207600@eagle-ny.com
SUMMARY:MONDAY SINday 😊 NO COVER
DESCRIPTION:
URL:https://eagle-ny.com/calendarofevents/monday-sinday-%f0%9f%98%8a-no-cover/2026-07-27/
LOCATION:The Eagle NYC\, New York\, NY\, United States
GEO:40.751624;-74.004346
END:VEVENT
BEGIN:VEVENT
DTSTART;TZID=America/New_York:20260728T220000
DTEND;TZID=America/New_York:20260729T040000
DTSTAMP:20260423T201346
CREATED:20250522T165514Z
LAST-MODIFIED:20250522T165514Z
UID:10007294-1785276000-1785297600@eagle-ny.com
SUMMARY:TWISTED TUESDAY 😊 NO COVER
DESCRIPTION:
URL:https://eagle-ny.com/calendarofevents/twisted-tuesday-%f0%9f%98%8a-no-cover-3/2026-07-28/
LOCATION:The Eagle NYC\, New York\, NY\, United States
GEO:40.751624;-74.004346
END:VEVENT
END:VCALENDAR