BEGIN:VCALENDAR
VERSION:2.0
PRODID:-//The Eagle NYC - ECPv6.15.20//NONSGML v1.0//EN
CALSCALE:GREGORIAN
METHOD:PUBLISH
X-ORIGINAL-URL:https://eagle-ny.com
X-WR-CALDESC:Events for The Eagle NYC
REFRESH-INTERVAL;VALUE=DURATION:PT1H
X-Robots-Tag:noindex
X-PUBLISHED-TTL:PT1H
BEGIN:VTIMEZONE
TZID:America/New_York
BEGIN:DAYLIGHT
TZOFFSETFROM:-0500
TZOFFSETTO:-0400
TZNAME:EDT
DTSTART:20250309T070000
END:DAYLIGHT
BEGIN:STANDARD
TZOFFSETFROM:-0400
TZOFFSETTO:-0500
TZNAME:EST
DTSTART:20251102T060000
END:STANDARD
BEGIN:DAYLIGHT
TZOFFSETFROM:-0500
TZOFFSETTO:-0400
TZNAME:EDT
DTSTART:20260308T070000
END:DAYLIGHT
BEGIN:STANDARD
TZOFFSETFROM:-0400
TZOFFSETTO:-0500
TZNAME:EST
DTSTART:20261101T060000
END:STANDARD
BEGIN:DAYLIGHT
TZOFFSETFROM:-0500
TZOFFSETTO:-0400
TZNAME:EDT
DTSTART:20270314T070000
END:DAYLIGHT
BEGIN:STANDARD
TZOFFSETFROM:-0400
TZOFFSETTO:-0500
TZNAME:EST
DTSTART:20271107T060000
END:STANDARD
END:VTIMEZONE
BEGIN:VEVENT
DTSTART;TZID=America/New_York:20260501T190000
DTEND;TZID=America/New_York:20260501T213000
DTSTAMP:20260423T182924
CREATED:20240617T125730Z
LAST-MODIFIED:20240703T005230Z
UID:10006266-1777662000-1777671000@eagle-ny.com
SUMMARY:JOCKSTRAP HAPPY HOUR 💰10 DONATION
DESCRIPTION:
URL:https://eagle-ny.com/calendarofevents/jockstrap-happy-hour/2026-05-01/
LOCATION:The Eagle NYC\, New York\, NY\, United States
GEO:40.751624;-74.004346
END:VEVENT
BEGIN:VEVENT
DTSTART;TZID=America/New_York:20260501T220000
DTEND;TZID=America/New_York:20260502T040000
DTSTAMP:20260423T182924
CREATED:20260330T175500Z
LAST-MODIFIED:20260330T175500Z
UID:10007635-1777672800-1777694400@eagle-ny.com
SUMMARY:🎧 KRAFTWITCH + 🎧 CUNNINGHAM 💰25 CASH COVER
DESCRIPTION:
URL:https://eagle-ny.com/calendarofevents/%f0%9f%8e%a7-kraftwitch-%f0%9f%8e%a7-cunningham-%f0%9f%92%b025-cash-cover/
LOCATION:The Eagle NYC\, New York\, NY\, United States
GEO:40.751624;-74.004346
END:VEVENT
BEGIN:VEVENT
DTSTART;TZID=America/New_York:20260502T220000
DTEND;TZID=America/New_York:20260503T000000
DTSTAMP:20260423T182924
CREATED:20240103T093407Z
LAST-MODIFIED:20240103T093547Z
UID:10006076-1777759200-1777766400@eagle-ny.com
SUMMARY:CLUB NIGHT
DESCRIPTION:
URL:https://eagle-ny.com/calendarofevents/club-night-19-2/2026-05-02/
LOCATION:The Eagle NYC\, New York\, NY\, United States
GEO:40.751624;-74.004346
END:VEVENT
BEGIN:VEVENT
DTSTART;TZID=America/New_York:20260502T220000
DTEND;TZID=America/New_York:20260503T040000
DTSTAMP:20260423T182924
CREATED:20260330T175608Z
LAST-MODIFIED:20260330T175608Z
UID:10007636-1777759200-1777780800@eagle-ny.com
SUMMARY:🎧 JAMES ANTHONY + 🎧 JAMES ANDERSEN 💰25 CASH COVER
DESCRIPTION:
URL:https://eagle-ny.com/calendarofevents/%f0%9f%8e%a7-james-anthony-%f0%9f%8e%a7-james-andersen-%f0%9f%92%b025-cash-cover-8/
LOCATION:The Eagle NYC\, New York\, NY\, United States
GEO:40.751624;-74.004346
END:VEVENT
BEGIN:VEVENT
DTSTART;TZID=America/New_York:20260503T170000
DTEND;TZID=America/New_York:20260503T200000
DTSTAMP:20260423T182924
CREATED:20250703T171408Z
LAST-MODIFIED:20250703T171408Z
UID:10007359-1777827600-1777838400@eagle-ny.com
SUMMARY:CIGAR SOCIAL
DESCRIPTION:
URL:https://eagle-ny.com/calendarofevents/cigar-social/2026-05-03/
LOCATION:The Eagle NYC\, New York\, NY\, United States
GEO:40.751624;-74.004346
END:VEVENT
BEGIN:VEVENT
DTSTART;TZID=America/New_York:20260503T170000
DTEND;TZID=America/New_York:20260503T220000
DTSTAMP:20260423T182924
CREATED:20260330T175700Z
LAST-MODIFIED:20260330T175701Z
UID:10007025-1777827600-1777845600@eagle-ny.com
SUMMARY:🍺 BEER BLAST 🎧 ERIK ELIAS 😊 NO COVER TILL 9PM 💰20 COVER AT 9PM
DESCRIPTION:
URL:https://eagle-ny.com/calendarofevents/%f0%9f%8d%ba-beer-blast-%f0%9f%8e%a7-%f0%9f%98%8a-no-cover-till-9pm-%f0%9f%92%b020-cover-at-9pm-55/
LOCATION:The Eagle NYC\, New York\, NY\, United States
GEO:40.751624;-74.004346
END:VEVENT
BEGIN:VEVENT
DTSTART;TZID=America/New_York:20260503T220000
DTEND;TZID=America/New_York:20260504T040000
DTSTAMP:20260423T182924
CREATED:20260330T175754Z
LAST-MODIFIED:20260330T175754Z
UID:10007637-1777845600-1777867200@eagle-ny.com
SUMMARY:🎧 KRIS T0PH3R + 🎧 BOBBY DURON 💰20 CASH COVER
DESCRIPTION:
URL:https://eagle-ny.com/calendarofevents/%f0%9f%8e%a7-kris-t0ph3r-%f0%9f%8e%a7-bobby-duron-%f0%9f%92%b020-cash-cover-2/
LOCATION:The Eagle NYC\, New York\, NY\, United States
GEO:40.751624;-74.004346
END:VEVENT
BEGIN:VEVENT
DTSTART;TZID=America/New_York:20260504T220000
DTEND;TZID=America/New_York:20260505T030000
DTSTAMP:20260423T182924
CREATED:20250522T164201Z
LAST-MODIFIED:20250522T164201Z
UID:10007200-1777932000-1777950000@eagle-ny.com
SUMMARY:MONDAY SINday 😊 NO COVER
DESCRIPTION:
URL:https://eagle-ny.com/calendarofevents/monday-sinday-%f0%9f%98%8a-no-cover/2026-05-04/
LOCATION:The Eagle NYC\, New York\, NY\, United States
GEO:40.751624;-74.004346
END:VEVENT
BEGIN:VEVENT
DTSTART;TZID=America/New_York:20260505T220000
DTEND;TZID=America/New_York:20260506T040000
DTSTAMP:20260423T182924
CREATED:20250522T165514Z
LAST-MODIFIED:20250522T165514Z
UID:10007282-1778018400-1778040000@eagle-ny.com
SUMMARY:TWISTED TUESDAY 😊 NO COVER
DESCRIPTION:
URL:https://eagle-ny.com/calendarofevents/twisted-tuesday-%f0%9f%98%8a-no-cover-3/2026-05-05/
LOCATION:The Eagle NYC\, New York\, NY\, United States
GEO:40.751624;-74.004346
END:VEVENT
BEGIN:VEVENT
DTSTART;TZID=America/New_York:20260506T220000
DTEND;TZID=America/New_York:20260507T040000
DTSTAMP:20260423T182924
CREATED:20260330T175912Z
LAST-MODIFIED:20260330T175912Z
UID:10007638-1778104800-1778126400@eagle-ny.com
SUMMARY:🩲 JOCKSTRAP WEDNESDAY 🎧 IPOK 💰 20 CASH COVER
DESCRIPTION:
URL:https://eagle-ny.com/calendarofevents/%f0%9f%a9%b2-jockstrap-wednesday-%f0%9f%8e%a7-ipok-%f0%9f%92%b0-20-cash-cover-3/
LOCATION:The Eagle NYC\, New York\, NY\, United States
GEO:40.751624;-74.004346
END:VEVENT
BEGIN:VEVENT
DTSTART;TZID=America/New_York:20260507T220000
DTEND;TZID=America/New_York:20260508T040000
DTSTAMP:20260423T182924
CREATED:20260331T180350Z
LAST-MODIFIED:20260331T180350Z
UID:10007640-1778191200-1778212800@eagle-ny.com
SUMMARY:🎧 CUNNINGHAM 💰 10 CASH COVER
DESCRIPTION:
URL:https://eagle-ny.com/calendarofevents/%f0%9f%8e%a7-cunningham-%f0%9f%92%b0-10-cash-cover-14/
LOCATION:The Eagle NYC\, New York\, NY\, United States
GEO:40.751624;-74.004346
END:VEVENT
BEGIN:VEVENT
DTSTART;TZID=America/New_York:20260508T220000
DTEND;TZID=America/New_York:20260509T040000
DTSTAMP:20260423T182924
CREATED:20260331T180656Z
LAST-MODIFIED:20260331T180656Z
UID:10007642-1778277600-1778299200@eagle-ny.com
SUMMARY:🎧 ALEX RAMOS + 🎧 MITCH FERRINO💰25 CASH COVER
DESCRIPTION:
URL:https://eagle-ny.com/calendarofevents/%f0%9f%8e%a7-alex-ramos-%f0%9f%8e%a7-mitch-ferrino%f0%9f%92%b025-cash-cover/
LOCATION:The Eagle NYC\, New York\, NY\, United States
GEO:40.751624;-74.004346
END:VEVENT
BEGIN:VEVENT
DTSTART;TZID=America/New_York:20260509T220000
DTEND;TZID=America/New_York:20260510T040000
DTSTAMP:20260423T182924
CREATED:20260331T180812Z
LAST-MODIFIED:20260331T180812Z
UID:10007643-1778364000-1778385600@eagle-ny.com
SUMMARY:🎧 MORABITO + 🎧 MARK CICERO💰25 CASH COVER
DESCRIPTION:
URL:https://eagle-ny.com/calendarofevents/%f0%9f%8e%a7-morabito-%f0%9f%8e%a7-mark-cicero%f0%9f%92%b025-cash-cover/
LOCATION:The Eagle NYC\, New York\, NY\, United States
GEO:40.751624;-74.004346
END:VEVENT
BEGIN:VEVENT
DTSTART;TZID=America/New_York:20260510T170000
DTEND;TZID=America/New_York:20260510T200000
DTSTAMP:20260423T182924
CREATED:20250703T171408Z
LAST-MODIFIED:20250703T171408Z
UID:10007360-1778432400-1778443200@eagle-ny.com
SUMMARY:CIGAR SOCIAL
DESCRIPTION:
URL:https://eagle-ny.com/calendarofevents/cigar-social/2026-05-10/
LOCATION:The Eagle NYC\, New York\, NY\, United States
GEO:40.751624;-74.004346
END:VEVENT
BEGIN:VEVENT
DTSTART;TZID=America/New_York:20260510T170000
DTEND;TZID=America/New_York:20260510T200000
DTSTAMP:20260423T182924
CREATED:20260311T214256Z
LAST-MODIFIED:20260311T214256Z
UID:10007593-1778432400-1778443200@eagle-ny.com
SUMMARY:INTO?
DESCRIPTION:
URL:https://eagle-ny.com/calendarofevents/into-5/2026-05-10/
LOCATION:The Eagle NYC\, New York\, NY\, United States
GEO:40.751624;-74.004346
END:VEVENT
BEGIN:VEVENT
DTSTART;TZID=America/New_York:20260510T170000
DTEND;TZID=America/New_York:20260510T220000
DTSTAMP:20260423T182924
CREATED:20260331T180915Z
LAST-MODIFIED:20260331T180916Z
UID:10007026-1778432400-1778450400@eagle-ny.com
SUMMARY:🍺 BEER BLAST 🎧 CUNNINGHAM 😊 NO COVER TILL 9PM 💰20 COVER AT 9PM
DESCRIPTION:
URL:https://eagle-ny.com/calendarofevents/%f0%9f%8d%ba-beer-blast-%f0%9f%8e%a7-%f0%9f%98%8a-no-cover-till-9pm-%f0%9f%92%b020-cover-at-9pm-56/
LOCATION:The Eagle NYC\, New York\, NY\, United States
GEO:40.751624;-74.004346
END:VEVENT
BEGIN:VEVENT
DTSTART;TZID=America/New_York:20260510T220000
DTEND;TZID=America/New_York:20260511T040000
DTSTAMP:20260423T182924
CREATED:20260331T181139Z
LAST-MODIFIED:20260331T181139Z
UID:10007644-1778450400-1778472000@eagle-ny.com
SUMMARY:🎧 SAM GEE + 🎧 BOBBY DURON 💰20 CASH COVER
DESCRIPTION:
URL:https://eagle-ny.com/calendarofevents/%f0%9f%8e%a7-sam-gee-%f0%9f%8e%a7-bobby-duron-%f0%9f%92%b020-cash-cover-13/
LOCATION:The Eagle NYC\, New York\, NY\, United States
GEO:40.751624;-74.004346
END:VEVENT
BEGIN:VEVENT
DTSTART;TZID=America/New_York:20260511T220000
DTEND;TZID=America/New_York:20260512T030000
DTSTAMP:20260423T182924
CREATED:20250522T164201Z
LAST-MODIFIED:20250522T164201Z
UID:10007201-1778536800-1778554800@eagle-ny.com
SUMMARY:MONDAY SINday 😊 NO COVER
DESCRIPTION:
URL:https://eagle-ny.com/calendarofevents/monday-sinday-%f0%9f%98%8a-no-cover/2026-05-11/
LOCATION:The Eagle NYC\, New York\, NY\, United States
GEO:40.751624;-74.004346
END:VEVENT
BEGIN:VEVENT
DTSTART;TZID=America/New_York:20260512T220000
DTEND;TZID=America/New_York:20260513T040000
DTSTAMP:20260423T182924
CREATED:20250522T165514Z
LAST-MODIFIED:20250522T165514Z
UID:10007283-1778623200-1778644800@eagle-ny.com
SUMMARY:TWISTED TUESDAY 😊 NO COVER
DESCRIPTION:
URL:https://eagle-ny.com/calendarofevents/twisted-tuesday-%f0%9f%98%8a-no-cover-3/2026-05-12/
LOCATION:The Eagle NYC\, New York\, NY\, United States
GEO:40.751624;-74.004346
END:VEVENT
BEGIN:VEVENT
DTSTART;TZID=America/New_York:20260513T220000
DTEND;TZID=America/New_York:20260514T040000
DTSTAMP:20260423T182924
CREATED:20260330T180018Z
LAST-MODIFIED:20260330T180018Z
UID:10007639-1778709600-1778731200@eagle-ny.com
SUMMARY:🩲 JOCKSTRAP WEDNESDAY 🎧 MITCH FERRINO 💰 20 CASH COVER
DESCRIPTION:
URL:https://eagle-ny.com/calendarofevents/%f0%9f%a9%b2-jockstrap-wednesday-%f0%9f%8e%a7-mitch-ferrino-%f0%9f%92%b0-20-cash-cover-3/
LOCATION:The Eagle NYC\, New York\, NY\, United States
GEO:40.751624;-74.004346
END:VEVENT
BEGIN:VEVENT
DTSTART;TZID=America/New_York:20260514T220000
DTEND;TZID=America/New_York:20260515T040000
DTSTAMP:20260423T182924
CREATED:20260331T180453Z
LAST-MODIFIED:20260331T180453Z
UID:10007641-1778796000-1778817600@eagle-ny.com
SUMMARY:🎧 BOBBY DURON 💰 10 CASH COVER
DESCRIPTION:
URL:https://eagle-ny.com/calendarofevents/%f0%9f%8e%a7-bobby-duron-%f0%9f%92%b0-10-cash-cover-10/
LOCATION:The Eagle NYC\, New York\, NY\, United States
GEO:40.751624;-74.004346
END:VEVENT
BEGIN:VEVENT
DTSTART;TZID=America/New_York:20260515T220000
DTEND;TZID=America/New_York:20260516T040000
DTSTAMP:20260423T182924
CREATED:20260401T180938Z
LAST-MODIFIED:20260401T180938Z
UID:10007645-1778882400-1778904000@eagle-ny.com
SUMMARY:🎧 EDWARD FRAME + 🎧 STEVE CUNNINGHAM💰25 CASH COVER
DESCRIPTION:
URL:https://eagle-ny.com/calendarofevents/%f0%9f%8e%a7-edward-frame-%f0%9f%8e%a7-steve-cunningham%f0%9f%92%b025-cash-cover/
LOCATION:The Eagle NYC\, New York\, NY\, United States
GEO:40.751624;-74.004346
END:VEVENT
BEGIN:VEVENT
DTSTART;TZID=America/New_York:20260516T220000
DTEND;TZID=America/New_York:20260517T040000
DTSTAMP:20260423T182924
CREATED:20260401T181132Z
LAST-MODIFIED:20260401T181132Z
UID:10007646-1778968800-1778990400@eagle-ny.com
SUMMARY:🎧 JACE M. + 🎧 MUSIKDAWG💰25 CASH COVER
DESCRIPTION:
URL:https://eagle-ny.com/calendarofevents/%f0%9f%8e%a7-jace-m-%f0%9f%8e%a7-musikdawg%f0%9f%92%b025-cash-cover-2/
LOCATION:The Eagle NYC\, New York\, NY\, United States
GEO:40.751624;-74.004346
END:VEVENT
BEGIN:VEVENT
DTSTART;TZID=America/New_York:20260517T140000
DTEND;TZID=America/New_York:20260517T180000
DTSTAMP:20260423T182924
CREATED:20260420T090107Z
LAST-MODIFIED:20260420T090107Z
UID:10007666-1779026400-1779040800@eagle-ny.com
SUMMARY:LEATHER MART NYC
DESCRIPTION:
URL:https://eagle-ny.com/calendarofevents/leather-mart-nyc/
LOCATION:The Eagle NYC\, New York\, NY\, United States
GEO:40.751624;-74.004346
END:VEVENT
BEGIN:VEVENT
DTSTART;TZID=America/New_York:20260517T170000
DTEND;TZID=America/New_York:20260517T200000
DTSTAMP:20260423T182924
CREATED:20230701T200441Z
LAST-MODIFIED:20230701T200441Z
UID:10005266-1779037200-1779048000@eagle-ny.com
SUMMARY:BLUF NEW YORK
DESCRIPTION:
URL:https://eagle-ny.com/calendarofevents/bluf-new-york-19/2026-05-17/
LOCATION:The Eagle NYC\, New York\, NY\, United States
GEO:40.751624;-74.004346
END:VEVENT
BEGIN:VEVENT
DTSTART;TZID=America/New_York:20260517T170000
DTEND;TZID=America/New_York:20260517T200000
DTSTAMP:20260423T182924
CREATED:20250703T171408Z
LAST-MODIFIED:20250703T171408Z
UID:10007361-1779037200-1779048000@eagle-ny.com
SUMMARY:CIGAR SOCIAL
DESCRIPTION:
URL:https://eagle-ny.com/calendarofevents/cigar-social/2026-05-17/
LOCATION:The Eagle NYC\, New York\, NY\, United States
GEO:40.751624;-74.004346
END:VEVENT
BEGIN:VEVENT
DTSTART;TZID=America/New_York:20260517T170000
DTEND;TZID=America/New_York:20260517T220000
DTSTAMP:20260423T182924
CREATED:20260401T181237Z
LAST-MODIFIED:20260401T181238Z
UID:10007027-1779037200-1779055200@eagle-ny.com
SUMMARY:🍺 BEER BLAST 🎧 ERIK ELIAS  😊 NO COVER TILL 9PM 💰20 COVER AT 9PM
DESCRIPTION:
URL:https://eagle-ny.com/calendarofevents/%f0%9f%8d%ba-beer-blast-%f0%9f%8e%a7-%f0%9f%98%8a-no-cover-till-9pm-%f0%9f%92%b020-cover-at-9pm-57/
LOCATION:The Eagle NYC\, New York\, NY\, United States
GEO:40.751624;-74.004346
END:VEVENT
BEGIN:VEVENT
DTSTART;TZID=America/New_York:20260517T170000
DTEND;TZID=America/New_York:20260517T220000
DTSTAMP:20260423T182924
CREATED:20260420T085923Z
LAST-MODIFIED:20260420T090209Z
UID:10007665-1779037200-1779055200@eagle-ny.com
SUMMARY:🎱 MONTHLY POOL PARTY | Billiard Boys
DESCRIPTION:
URL:https://eagle-ny.com/calendarofevents/monthly-pool-party-billiard-boys/
LOCATION:The Eagle NYC\, New York\, NY\, United States
GEO:40.751624;-74.004346
END:VEVENT
BEGIN:VEVENT
DTSTART;TZID=America/New_York:20260517T220000
DTEND;TZID=America/New_York:20260518T040000
DTSTAMP:20260423T182924
CREATED:20260401T181338Z
LAST-MODIFIED:20260401T181338Z
UID:10007647-1779055200-1779076800@eagle-ny.com
SUMMARY:🎧 AJ REDDY + 🎧 BOBBY DURON 💰20 CASH COVER
DESCRIPTION:
URL:https://eagle-ny.com/calendarofevents/%f0%9f%8e%a7-aj-reddy-%f0%9f%8e%a7-bobby-duron-%f0%9f%92%b020-cash-cover-13/
LOCATION:The Eagle NYC\, New York\, NY\, United States
GEO:40.751624;-74.004346
END:VEVENT
BEGIN:VEVENT
DTSTART;TZID=America/New_York:20260518T220000
DTEND;TZID=America/New_York:20260519T030000
DTSTAMP:20260423T182924
CREATED:20250522T164201Z
LAST-MODIFIED:20250522T164201Z
UID:10007202-1779141600-1779159600@eagle-ny.com
SUMMARY:MONDAY SINday 😊 NO COVER
DESCRIPTION:
URL:https://eagle-ny.com/calendarofevents/monday-sinday-%f0%9f%98%8a-no-cover/2026-05-18/
LOCATION:The Eagle NYC\, New York\, NY\, United States
GEO:40.751624;-74.004346
END:VEVENT
END:VCALENDAR