BEGIN:VCALENDAR
VERSION:2.0
PRODID:-//The Eagle NYC - ECPv6.15.20//NONSGML v1.0//EN
CALSCALE:GREGORIAN
METHOD:PUBLISH
X-ORIGINAL-URL:https://eagle-ny.com
X-WR-CALDESC:Events for The Eagle NYC
REFRESH-INTERVAL;VALUE=DURATION:PT1H
X-Robots-Tag:noindex
X-PUBLISHED-TTL:PT1H
BEGIN:VTIMEZONE
TZID:America/New_York
BEGIN:DAYLIGHT
TZOFFSETFROM:-0500
TZOFFSETTO:-0400
TZNAME:EDT
DTSTART:20240310T070000
END:DAYLIGHT
BEGIN:STANDARD
TZOFFSETFROM:-0400
TZOFFSETTO:-0500
TZNAME:EST
DTSTART:20241103T060000
END:STANDARD
BEGIN:DAYLIGHT
TZOFFSETFROM:-0500
TZOFFSETTO:-0400
TZNAME:EDT
DTSTART:20250309T070000
END:DAYLIGHT
BEGIN:STANDARD
TZOFFSETFROM:-0400
TZOFFSETTO:-0500
TZNAME:EST
DTSTART:20251102T060000
END:STANDARD
BEGIN:DAYLIGHT
TZOFFSETFROM:-0500
TZOFFSETTO:-0400
TZNAME:EDT
DTSTART:20260308T070000
END:DAYLIGHT
BEGIN:STANDARD
TZOFFSETFROM:-0400
TZOFFSETTO:-0500
TZNAME:EST
DTSTART:20261101T060000
END:STANDARD
END:VTIMEZONE
BEGIN:VEVENT
DTSTART;TZID=America/New_York:20251001T220000
DTEND;TZID=America/New_York:20251002T040000
DTSTAMP:20260424T011527
CREATED:20250819T163017Z
LAST-MODIFIED:20250925T172734Z
UID:10006926-1759356000-1759377600@eagle-ny.com
SUMMARY:🩲 JOCKSTRAP WEDNESDAY 🎧 IPOK 💰 20 CASH COVER
DESCRIPTION:
URL:https://eagle-ny.com/calendarofevents/%f0%9f%a9%b2-jockstrap-wednesday-%f0%9f%8e%a7-%f0%9f%92%b0-20-cash-cover-7-28/
LOCATION:The Eagle NYC\, New York\, NY\, United States
GEO:40.751624;-74.004346
END:VEVENT
BEGIN:VEVENT
DTSTART;TZID=America/New_York:20251002T220000
DTEND;TZID=America/New_York:20251003T040000
DTSTAMP:20260424T011527
CREATED:20250825T064942Z
LAST-MODIFIED:20250825T064942Z
UID:10007427-1759442400-1759464000@eagle-ny.com
SUMMARY:🎧 LORANT 💰 10 CASH COVER
DESCRIPTION:
URL:https://eagle-ny.com/calendarofevents/%f0%9f%8e%a7-lorant-%f0%9f%92%b0-10-cash-cover/
LOCATION:The Eagle NYC\, New York\, NY\, United States
GEO:40.751624;-74.004346
END:VEVENT
BEGIN:VEVENT
DTSTART;VALUE=DATE:20251003
DTEND;VALUE=DATE:20251007
DTSTAMP:20260424T011527
CREATED:20250825T065138Z
LAST-MODIFIED:20250831T004422Z
UID:10007441-1759467600-1759726799@eagle-ny.com
SUMMARY:MR. EAGLE NYC CONTEST WEEKEND
DESCRIPTION:Details: Mr. Eagle NYC 2026
URL:https://eagle-ny.com/calendarofevents/mr-eagle-nyc-contest/
LOCATION:The Eagle NYC\, New York\, NY\, United States
GEO:40.751624;-74.004346
END:VEVENT
BEGIN:VEVENT
DTSTART;TZID=America/New_York:20251003T190000
DTEND;TZID=America/New_York:20251003T213000
DTSTAMP:20260424T011527
CREATED:20240617T125730Z
LAST-MODIFIED:20240703T005230Z
UID:10006259-1759518000-1759527000@eagle-ny.com
SUMMARY:JOCKSTRAP HAPPY HOUR 💰10 DONATION
DESCRIPTION:
URL:https://eagle-ny.com/calendarofevents/jockstrap-happy-hour/2025-10-03/
LOCATION:The Eagle NYC\, New York\, NY\, United States
GEO:40.751624;-74.004346
END:VEVENT
BEGIN:VEVENT
DTSTART;TZID=America/New_York:20251003T220000
DTEND;TZID=America/New_York:20251003T230000
DTSTAMP:20260424T011527
CREATED:20250831T003756Z
LAST-MODIFIED:20250913T185849Z
UID:10007442-1759528800-1759532400@eagle-ny.com
SUMMARY:MEET & GREET
DESCRIPTION:
URL:https://eagle-ny.com/calendarofevents/meet-greet/
LOCATION:The Eagle NYC\, New York\, NY\, United States
GEO:40.751624;-74.004346
END:VEVENT
BEGIN:VEVENT
DTSTART;TZID=America/New_York:20251003T220000
DTEND;TZID=America/New_York:20251004T040000
DTSTAMP:20260424T011527
CREATED:20250831T005013Z
LAST-MODIFIED:20250831T005053Z
UID:10007447-1759528800-1759550400@eagle-ny.com
SUMMARY:🎧 BRIAN KENT + 🎧 STEVE CUNNINGHAM 💰25 CASH COVER
DESCRIPTION:
URL:https://eagle-ny.com/calendarofevents/%f0%9f%8e%a7-brian-kent-%f0%9f%8e%a7-cunningham-%f0%9f%92%b025-cash-cover/
LOCATION:The Eagle NYC\, New York\, NY\, United States
GEO:40.751624;-74.004346
END:VEVENT
BEGIN:VEVENT
DTSTART;TZID=America/New_York:20251004T220000
DTEND;TZID=America/New_York:20251005T000000
DTSTAMP:20260424T011527
CREATED:20250831T003932Z
LAST-MODIFIED:20250831T004033Z
UID:10007443-1759615200-1759622400@eagle-ny.com
SUMMARY:🥇🥈🥉THE CONTEST
DESCRIPTION:
URL:https://eagle-ny.com/calendarofevents/the-contest/
LOCATION:The Eagle NYC\, New York\, NY\, United States
GEO:40.751624;-74.004346
END:VEVENT
BEGIN:VEVENT
DTSTART;TZID=America/New_York:20251004T220000
DTEND;TZID=America/New_York:20251005T040000
DTSTAMP:20260424T011527
CREATED:20250831T004625Z
LAST-MODIFIED:20250831T004625Z
UID:10007445-1759615200-1759636800@eagle-ny.com
SUMMARY:🎧 JAMES ANTHONY + 🎧 JAMES ANDERSEN 💰25 CASH COVER
DESCRIPTION:
URL:https://eagle-ny.com/calendarofevents/%f0%9f%8e%a7-james-anthony-%f0%9f%8e%a7-james-andersen-%f0%9f%92%b025-cash-cover-3/
LOCATION:The Eagle NYC\, New York\, NY\, United States
GEO:40.751624;-74.004346
END:VEVENT
BEGIN:VEVENT
DTSTART;TZID=America/New_York:20251005T170000
DTEND;TZID=America/New_York:20251005T200000
DTSTAMP:20260424T011527
CREATED:20250703T171408Z
LAST-MODIFIED:20250703T171408Z
UID:10007329-1759683600-1759694400@eagle-ny.com
SUMMARY:CIGAR SOCIAL
DESCRIPTION:
URL:https://eagle-ny.com/calendarofevents/cigar-social/2025-10-05/
LOCATION:The Eagle NYC\, New York\, NY\, United States
GEO:40.751624;-74.004346
END:VEVENT
BEGIN:VEVENT
DTSTART;TZID=America/New_York:20251005T170000
DTEND;TZID=America/New_York:20251005T220000
DTSTAMP:20260424T011527
CREATED:20250910T201354Z
LAST-MODIFIED:20250910T201355Z
UID:10006995-1759683600-1759701600@eagle-ny.com
SUMMARY:🍺 BEER BLAST 🎧 MATTHEW J.  😊 NO COVER TILL 9PM 💰20 COVER AT 9PM
DESCRIPTION:
URL:https://eagle-ny.com/calendarofevents/%f0%9f%8d%ba-beer-blast-%f0%9f%8e%a7-%f0%9f%98%8a-no-cover-till-9pm-%f0%9f%92%b020-cover-at-9pm-28/
LOCATION:The Eagle NYC\, New York\, NY\, United States
GEO:40.751624;-74.004346
END:VEVENT
BEGIN:VEVENT
DTSTART;TZID=America/New_York:20251005T190000
DTEND;TZID=America/New_York:20251005T230000
DTSTAMP:20260424T011527
CREATED:20250831T004257Z
LAST-MODIFIED:20250831T004341Z
UID:10007444-1759690800-1759705200@eagle-ny.com
SUMMARY:🥳 VICTORY PARTY
DESCRIPTION:
URL:https://eagle-ny.com/calendarofevents/%f0%9f%a5%b3-victory-party/
LOCATION:The Eagle NYC\, New York\, NY\, United States
GEO:40.751624;-74.004346
END:VEVENT
BEGIN:VEVENT
DTSTART;TZID=America/New_York:20251005T220000
DTEND;TZID=America/New_York:20251006T040000
DTSTAMP:20260424T011527
CREATED:20250831T004806Z
LAST-MODIFIED:20250831T004806Z
UID:10007446-1759701600-1759723200@eagle-ny.com
SUMMARY:🎧 LE GRAND PHOENIX + 🎧 BOBBY DURON 💰20 CASH COVER
DESCRIPTION:
URL:https://eagle-ny.com/calendarofevents/%f0%9f%8e%a7-le-grand-phoenix-%f0%9f%8e%a7-bobby-duron-%f0%9f%92%b020-cash-cover-2/
LOCATION:The Eagle NYC\, New York\, NY\, United States
GEO:40.751624;-74.004346
END:VEVENT
BEGIN:VEVENT
DTSTART;TZID=America/New_York:20251006T220000
DTEND;TZID=America/New_York:20251007T030000
DTSTAMP:20260424T011527
CREATED:20250522T164201Z
LAST-MODIFIED:20250522T164201Z
UID:10007170-1759788000-1759806000@eagle-ny.com
SUMMARY:MONDAY SINday 😊 NO COVER
DESCRIPTION:
URL:https://eagle-ny.com/calendarofevents/monday-sinday-%f0%9f%98%8a-no-cover/2025-10-06/
LOCATION:The Eagle NYC\, New York\, NY\, United States
GEO:40.751624;-74.004346
END:VEVENT
BEGIN:VEVENT
DTSTART;TZID=America/New_York:20251007T220000
DTEND;TZID=America/New_York:20251008T040000
DTSTAMP:20260424T011527
CREATED:20250522T165514Z
LAST-MODIFIED:20250522T165514Z
UID:10007252-1759874400-1759896000@eagle-ny.com
SUMMARY:TWISTED TUESDAY 😊 NO COVER
DESCRIPTION:
URL:https://eagle-ny.com/calendarofevents/twisted-tuesday-%f0%9f%98%8a-no-cover-3/2025-10-07/
LOCATION:The Eagle NYC\, New York\, NY\, United States
GEO:40.751624;-74.004346
END:VEVENT
BEGIN:VEVENT
DTSTART;TZID=America/New_York:20251008T220000
DTEND;TZID=America/New_York:20251009T040000
DTSTAMP:20260424T011527
CREATED:20250831T005141Z
LAST-MODIFIED:20250831T005142Z
UID:10006927-1759960800-1759982400@eagle-ny.com
SUMMARY:🩲 JOCKSTRAP WEDNESDAY 🎧 FERRINO  💰 20 CASH COVER
DESCRIPTION:
URL:https://eagle-ny.com/calendarofevents/%f0%9f%a9%b2-jockstrap-wednesday-%f0%9f%8e%a7-%f0%9f%92%b0-20-cash-cover-7-29/
LOCATION:The Eagle NYC\, New York\, NY\, United States
GEO:40.751624;-74.004346
END:VEVENT
BEGIN:VEVENT
DTSTART;TZID=America/New_York:20251009T220000
DTEND;TZID=America/New_York:20251010T040000
DTSTAMP:20260424T011527
CREATED:20250910T200146Z
LAST-MODIFIED:20250910T200146Z
UID:10007448-1760047200-1760068800@eagle-ny.com
SUMMARY:🎧 CUNNINGHAM 💰 10 CASH COVER
DESCRIPTION:
URL:https://eagle-ny.com/calendarofevents/%f0%9f%8e%a7-cunningham-%f0%9f%92%b0-10-cash-cover-3/
LOCATION:The Eagle NYC\, New York\, NY\, United States
GEO:40.751624;-74.004346
END:VEVENT
BEGIN:VEVENT
DTSTART;TZID=America/New_York:20251010T220000
DTEND;TZID=America/New_York:20251011T040000
DTSTAMP:20260424T011527
CREATED:20250910T201205Z
LAST-MODIFIED:20250910T201308Z
UID:10007452-1760133600-1760155200@eagle-ny.com
SUMMARY:FURBALL + 🎧 ERIK ELIAS 💰25 CASH COVER
DESCRIPTION:
URL:https://eagle-ny.com/calendarofevents/furball-%f0%9f%8e%a7-erik-elias-%f0%9f%92%b025-cash-cover/
LOCATION:The Eagle NYC\, New York\, NY\, United States
GEO:40.751624;-74.004346
END:VEVENT
BEGIN:VEVENT
DTSTART;TZID=America/New_York:20251011T220000
DTEND;TZID=America/New_York:20251012T040000
DTSTAMP:20260424T011527
CREATED:20250910T201531Z
LAST-MODIFIED:20250910T201531Z
UID:10007453-1760220000-1760241600@eagle-ny.com
SUMMARY:🎧 JEN DM + 🎧 MUSIKDAWG 💰25 CASH COVER
DESCRIPTION:
URL:https://eagle-ny.com/calendarofevents/%f0%9f%8e%a7-jen-dm-%f0%9f%8e%a7-musikdawg-%f0%9f%92%b025-cash-cover-2/
LOCATION:The Eagle NYC\, New York\, NY\, United States
GEO:40.751624;-74.004346
END:VEVENT
BEGIN:VEVENT
DTSTART;TZID=America/New_York:20251012T170000
DTEND;TZID=America/New_York:20251012T200000
DTSTAMP:20260424T011527
CREATED:20240620T214308Z
LAST-MODIFIED:20240620T215534Z
UID:10006344-1760288400-1760299200@eagle-ny.com
SUMMARY:INTO?
DESCRIPTION:
URL:https://eagle-ny.com/calendarofevents/intosunday/2025-10-12/
LOCATION:The Eagle NYC\, New York\, NY\, United States
GEO:40.751624;-74.004346
END:VEVENT
BEGIN:VEVENT
DTSTART;TZID=America/New_York:20251012T170000
DTEND;TZID=America/New_York:20251012T200000
DTSTAMP:20260424T011527
CREATED:20250703T171408Z
LAST-MODIFIED:20250703T171408Z
UID:10007330-1760288400-1760299200@eagle-ny.com
SUMMARY:CIGAR SOCIAL
DESCRIPTION:
URL:https://eagle-ny.com/calendarofevents/cigar-social/2025-10-12/
LOCATION:The Eagle NYC\, New York\, NY\, United States
GEO:40.751624;-74.004346
END:VEVENT
BEGIN:VEVENT
DTSTART;TZID=America/New_York:20251012T170000
DTEND;TZID=America/New_York:20251012T200000
DTSTAMP:20260424T011527
CREATED:20251007T213157Z
LAST-MODIFIED:20251007T213157Z
UID:10007465-1760288400-1760299200@eagle-ny.com
SUMMARY:INTO?
DESCRIPTION:
URL:https://eagle-ny.com/calendarofevents/into/
LOCATION:The Eagle NYC\, New York\, NY\, United States
GEO:40.751624;-74.004346
END:VEVENT
BEGIN:VEVENT
DTSTART;TZID=America/New_York:20251012T170000
DTEND;TZID=America/New_York:20251012T220000
DTSTAMP:20260424T011527
CREATED:20250910T201632Z
LAST-MODIFIED:20250910T201633Z
UID:10006996-1760288400-1760306400@eagle-ny.com
SUMMARY:🍺 BEER BLAST 🎧 CUNNINGHAM  😊 NO COVER TILL 9PM 💰20 COVER AT 9PM
DESCRIPTION:
URL:https://eagle-ny.com/calendarofevents/%f0%9f%8d%ba-beer-blast-%f0%9f%8e%a7-%f0%9f%98%8a-no-cover-till-9pm-%f0%9f%92%b020-cover-at-9pm-29/
LOCATION:The Eagle NYC\, New York\, NY\, United States
GEO:40.751624;-74.004346
END:VEVENT
BEGIN:VEVENT
DTSTART;TZID=America/New_York:20251012T220000
DTEND;TZID=America/New_York:20251013T040000
DTSTAMP:20260424T011527
CREATED:20250910T201814Z
LAST-MODIFIED:20250910T201814Z
UID:10007454-1760306400-1760328000@eagle-ny.com
SUMMARY:🎧 MITCH FERRINO + 🎧 BOBBY DURON 💰20 CASH COVER
DESCRIPTION:
URL:https://eagle-ny.com/calendarofevents/%f0%9f%8e%a7-mitch-ferrino-%f0%9f%8e%a7-bobby-duron-%f0%9f%92%b020-cash-cover-5/
LOCATION:The Eagle NYC\, New York\, NY\, United States
GEO:40.751624;-74.004346
END:VEVENT
BEGIN:VEVENT
DTSTART;TZID=America/New_York:20251013T220000
DTEND;TZID=America/New_York:20251014T030000
DTSTAMP:20260424T011527
CREATED:20250522T164201Z
LAST-MODIFIED:20250522T164201Z
UID:10007171-1760392800-1760410800@eagle-ny.com
SUMMARY:MONDAY SINday 😊 NO COVER
DESCRIPTION:
URL:https://eagle-ny.com/calendarofevents/monday-sinday-%f0%9f%98%8a-no-cover/2025-10-13/
LOCATION:The Eagle NYC\, New York\, NY\, United States
GEO:40.751624;-74.004346
END:VEVENT
BEGIN:VEVENT
DTSTART;TZID=America/New_York:20251014T220000
DTEND;TZID=America/New_York:20251015T040000
DTSTAMP:20260424T011527
CREATED:20250522T165514Z
LAST-MODIFIED:20250522T165514Z
UID:10007253-1760479200-1760500800@eagle-ny.com
SUMMARY:TWISTED TUESDAY 😊 NO COVER
DESCRIPTION:
URL:https://eagle-ny.com/calendarofevents/twisted-tuesday-%f0%9f%98%8a-no-cover-3/2025-10-14/
LOCATION:The Eagle NYC\, New York\, NY\, United States
GEO:40.751624;-74.004346
END:VEVENT
BEGIN:VEVENT
DTSTART;TZID=America/New_York:20251015T220000
DTEND;TZID=America/New_York:20251016T040000
DTSTAMP:20260424T011527
CREATED:20250910T200811Z
LAST-MODIFIED:20250925T172704Z
UID:10006928-1760565600-1760587200@eagle-ny.com
SUMMARY:🩲 JOCKSTRAP WEDNESDAY  🎧 IPOK  💰 20 CASH COVER
DESCRIPTION:
URL:https://eagle-ny.com/calendarofevents/%f0%9f%a9%b2-jockstrap-wednesday-%f0%9f%8e%a7-%f0%9f%92%b0-20-cash-cover-7-30/
LOCATION:The Eagle NYC\, New York\, NY\, United States
GEO:40.751624;-74.004346
END:VEVENT
BEGIN:VEVENT
DTSTART;TZID=America/New_York:20251016T220000
DTEND;TZID=America/New_York:20251017T040000
DTSTAMP:20260424T011527
CREATED:20250910T200409Z
LAST-MODIFIED:20250910T200409Z
UID:10007449-1760652000-1760673600@eagle-ny.com
SUMMARY:🎧 DURON 💰 10 CASH COVER
DESCRIPTION:
URL:https://eagle-ny.com/calendarofevents/%f0%9f%8e%a7-duron-%f0%9f%92%b0-10-cash-cover/
LOCATION:The Eagle NYC\, New York\, NY\, United States
GEO:40.751624;-74.004346
END:VEVENT
BEGIN:VEVENT
DTSTART;TZID=America/New_York:20251017T220000
DTEND;TZID=America/New_York:20251018T040000
DTSTAMP:20260424T011527
CREATED:20250912T171344Z
LAST-MODIFIED:20250912T171344Z
UID:10007455-1760738400-1760760000@eagle-ny.com
SUMMARY:🎧 DEANNE + 🎧 MUSIKDAWG 💰25 CASH COVER
DESCRIPTION:
URL:https://eagle-ny.com/calendarofevents/%f0%9f%8e%a7-deanne-%f0%9f%8e%a7-musikdawg-%f0%9f%92%b025-cash-cover-3/
LOCATION:The Eagle NYC\, New York\, NY\, United States
GEO:40.751624;-74.004346
END:VEVENT
BEGIN:VEVENT
DTSTART;TZID=America/New_York:20251018T220000
DTEND;TZID=America/New_York:20251019T040000
DTSTAMP:20260424T011527
CREATED:20250912T171432Z
LAST-MODIFIED:20250912T171432Z
UID:10007456-1760824800-1760846400@eagle-ny.com
SUMMARY:🎧 PETER NAPOLI + 🎧 JAMES ANDERSEN 💰25 CASH COVER
DESCRIPTION:
URL:https://eagle-ny.com/calendarofevents/%f0%9f%8e%a7-peter-napoli-%f0%9f%8e%a7-james-andersen-%f0%9f%92%b025-cash-cover/
LOCATION:The Eagle NYC\, New York\, NY\, United States
GEO:40.751624;-74.004346
END:VEVENT
BEGIN:VEVENT
DTSTART;TZID=America/New_York:20251019T170000
DTEND;TZID=America/New_York:20251019T200000
DTSTAMP:20260424T011527
CREATED:20230701T200441Z
LAST-MODIFIED:20230701T200441Z
UID:10005259-1760893200-1760904000@eagle-ny.com
SUMMARY:BLUF NEW YORK
DESCRIPTION:
URL:https://eagle-ny.com/calendarofevents/bluf-new-york-19/2025-10-19/
LOCATION:The Eagle NYC\, New York\, NY\, United States
GEO:40.751624;-74.004346
END:VEVENT
END:VCALENDAR