BEGIN:VCALENDAR
VERSION:2.0
PRODID:-//The Eagle NYC - ECPv6.15.20//NONSGML v1.0//EN
CALSCALE:GREGORIAN
METHOD:PUBLISH
X-ORIGINAL-URL:https://eagle-ny.com
X-WR-CALDESC:Events for The Eagle NYC
REFRESH-INTERVAL;VALUE=DURATION:PT1H
X-Robots-Tag:noindex
X-PUBLISHED-TTL:PT1H
BEGIN:VTIMEZONE
TZID:America/New_York
BEGIN:DAYLIGHT
TZOFFSETFROM:-0500
TZOFFSETTO:-0400
TZNAME:EDT
DTSTART:20240310T070000
END:DAYLIGHT
BEGIN:STANDARD
TZOFFSETFROM:-0400
TZOFFSETTO:-0500
TZNAME:EST
DTSTART:20241103T060000
END:STANDARD
BEGIN:DAYLIGHT
TZOFFSETFROM:-0500
TZOFFSETTO:-0400
TZNAME:EDT
DTSTART:20250309T070000
END:DAYLIGHT
BEGIN:STANDARD
TZOFFSETFROM:-0400
TZOFFSETTO:-0500
TZNAME:EST
DTSTART:20251102T060000
END:STANDARD
BEGIN:DAYLIGHT
TZOFFSETFROM:-0500
TZOFFSETTO:-0400
TZNAME:EDT
DTSTART:20260308T070000
END:DAYLIGHT
BEGIN:STANDARD
TZOFFSETFROM:-0400
TZOFFSETTO:-0500
TZNAME:EST
DTSTART:20261101T060000
END:STANDARD
END:VTIMEZONE
BEGIN:VEVENT
DTSTART;TZID=America/New_York:20250901T220000
DTEND;TZID=America/New_York:20250902T030000
DTSTAMP:20260424T034709
CREATED:20250522T164201Z
LAST-MODIFIED:20250522T164201Z
UID:10007165-1756764000-1756782000@eagle-ny.com
SUMMARY:MONDAY SINday 😊 NO COVER
DESCRIPTION:
URL:https://eagle-ny.com/calendarofevents/monday-sinday-%f0%9f%98%8a-no-cover/2025-09-01/
LOCATION:The Eagle NYC\, New York\, NY\, United States
GEO:40.751624;-74.004346
END:VEVENT
BEGIN:VEVENT
DTSTART;TZID=America/New_York:20250902T220000
DTEND;TZID=America/New_York:20250903T040000
DTSTAMP:20260424T034709
CREATED:20250522T165514Z
LAST-MODIFIED:20250522T165514Z
UID:10007247-1756850400-1756872000@eagle-ny.com
SUMMARY:TWISTED TUESDAY 😊 NO COVER
DESCRIPTION:
URL:https://eagle-ny.com/calendarofevents/twisted-tuesday-%f0%9f%98%8a-no-cover-3/2025-09-02/
LOCATION:The Eagle NYC\, New York\, NY\, United States
GEO:40.751624;-74.004346
END:VEVENT
BEGIN:VEVENT
DTSTART;TZID=America/New_York:20250903T220000
DTEND;TZID=America/New_York:20250904T040000
DTSTAMP:20260424T034709
CREATED:20250814T042540Z
LAST-MODIFIED:20250814T042541Z
UID:10006922-1756936800-1756958400@eagle-ny.com
SUMMARY:🩲 JOCKSTRAP WEDNESDAY 🎧 BARE NAKED  💰 20 CASH COVER
DESCRIPTION:
URL:https://eagle-ny.com/calendarofevents/%f0%9f%a9%b2-jockstrap-wednesday-%f0%9f%8e%a7-%f0%9f%92%b0-20-cash-cover-7-24/
LOCATION:The Eagle NYC\, New York\, NY\, United States
GEO:40.751624;-74.004346
END:VEVENT
BEGIN:VEVENT
DTSTART;TZID=America/New_York:20250904T220000
DTEND;TZID=America/New_York:20250905T040000
DTSTAMP:20260424T034709
CREATED:20250815T032426Z
LAST-MODIFIED:20250815T032426Z
UID:10007408-1757023200-1757044800@eagle-ny.com
SUMMARY:🎧 BOBBY DURON 💰 10 CASH COVER
DESCRIPTION:
URL:https://eagle-ny.com/calendarofevents/%f0%9f%8e%a7-bobby-duron-%f0%9f%92%b0-10-cash-cover-2/
LOCATION:The Eagle NYC\, New York\, NY\, United States
GEO:40.751624;-74.004346
END:VEVENT
BEGIN:VEVENT
DTSTART;TZID=America/New_York:20250905T190000
DTEND;TZID=America/New_York:20250905T213000
DTSTAMP:20260424T034709
CREATED:20240617T125730Z
LAST-MODIFIED:20240703T005230Z
UID:10006258-1757098800-1757107800@eagle-ny.com
SUMMARY:JOCKSTRAP HAPPY HOUR 💰10 DONATION
DESCRIPTION:
URL:https://eagle-ny.com/calendarofevents/jockstrap-happy-hour/2025-09-05/
LOCATION:The Eagle NYC\, New York\, NY\, United States
GEO:40.751624;-74.004346
END:VEVENT
BEGIN:VEVENT
DTSTART;TZID=America/New_York:20250905T220000
DTEND;TZID=America/New_York:20250906T040000
DTSTAMP:20260424T034709
CREATED:20250815T171121Z
LAST-MODIFIED:20250815T171121Z
UID:10007409-1757109600-1757131200@eagle-ny.com
SUMMARY:🎧 RAMOS + 🎧 CUNNINGHAM 💰25 CASH COVER
DESCRIPTION:
URL:https://eagle-ny.com/calendarofevents/%f0%9f%8e%a7-ramos-%f0%9f%8e%a7-cunningham-%f0%9f%92%b025-cash-cover-2/
LOCATION:The Eagle NYC\, New York\, NY\, United States
GEO:40.751624;-74.004346
END:VEVENT
BEGIN:VEVENT
DTSTART;TZID=America/New_York:20250906T220000
DTEND;TZID=America/New_York:20250907T000000
DTSTAMP:20260424T034709
CREATED:20240103T093407Z
LAST-MODIFIED:20240103T093547Z
UID:10006068-1757196000-1757203200@eagle-ny.com
SUMMARY:CLUB NIGHT
DESCRIPTION:
URL:https://eagle-ny.com/calendarofevents/club-night-19-2/2025-09-06/
LOCATION:The Eagle NYC\, New York\, NY\, United States
GEO:40.751624;-74.004346
END:VEVENT
BEGIN:VEVENT
DTSTART;TZID=America/New_York:20250906T220000
DTEND;TZID=America/New_York:20250907T040000
DTSTAMP:20260424T034709
CREATED:20250815T171258Z
LAST-MODIFIED:20250815T171258Z
UID:10007410-1757196000-1757217600@eagle-ny.com
SUMMARY:🎧 HECTOR FONSECA + 🎧 JAMES ANDERSEN 💰25 CASH COVER
DESCRIPTION:
URL:https://eagle-ny.com/calendarofevents/%f0%9f%8e%a7-hector-fonseca-%f0%9f%8e%a7-james-andersen-%f0%9f%92%b025-cash-cover-2/
LOCATION:The Eagle NYC\, New York\, NY\, United States
GEO:40.751624;-74.004346
END:VEVENT
BEGIN:VEVENT
DTSTART;TZID=America/New_York:20250907T170000
DTEND;TZID=America/New_York:20250907T200000
DTSTAMP:20260424T034709
CREATED:20250703T171408Z
LAST-MODIFIED:20250703T171408Z
UID:10007325-1757264400-1757275200@eagle-ny.com
SUMMARY:CIGAR SOCIAL
DESCRIPTION:
URL:https://eagle-ny.com/calendarofevents/cigar-social/2025-09-07/
LOCATION:The Eagle NYC\, New York\, NY\, United States
GEO:40.751624;-74.004346
END:VEVENT
BEGIN:VEVENT
DTSTART;TZID=America/New_York:20250907T170000
DTEND;TZID=America/New_York:20250907T220000
DTSTAMP:20260424T034709
CREATED:20250815T171405Z
LAST-MODIFIED:20250815T171406Z
UID:10006991-1757264400-1757282400@eagle-ny.com
SUMMARY:🍺 BEER BLAST 🎧 ERIK ELIAS  😊 NO COVER TILL 9PM 💰20 COVER AT 9PM
DESCRIPTION:
URL:https://eagle-ny.com/calendarofevents/%f0%9f%8d%ba-beer-blast-%f0%9f%8e%a7-%f0%9f%98%8a-no-cover-till-9pm-%f0%9f%92%b020-cover-at-9pm-24/
LOCATION:The Eagle NYC\, New York\, NY\, United States
GEO:40.751624;-74.004346
END:VEVENT
BEGIN:VEVENT
DTSTART;TZID=America/New_York:20250907T220000
DTEND;TZID=America/New_York:20250908T040000
DTSTAMP:20260424T034709
CREATED:20250815T171539Z
LAST-MODIFIED:20250815T171539Z
UID:10007411-1757282400-1757304000@eagle-ny.com
SUMMARY:🎧 BARE NAKED + 🎧 BOBBY DURON 💰20 CASH COVER
DESCRIPTION:
URL:https://eagle-ny.com/calendarofevents/%f0%9f%8e%a7-bare-naked-%f0%9f%8e%a7-bobby-duron-%f0%9f%92%b020-cash-cover-2/
LOCATION:The Eagle NYC\, New York\, NY\, United States
GEO:40.751624;-74.004346
END:VEVENT
BEGIN:VEVENT
DTSTART;TZID=America/New_York:20250908T220000
DTEND;TZID=America/New_York:20250909T030000
DTSTAMP:20260424T034709
CREATED:20250522T164201Z
LAST-MODIFIED:20250522T164201Z
UID:10007166-1757368800-1757386800@eagle-ny.com
SUMMARY:MONDAY SINday 😊 NO COVER
DESCRIPTION:
URL:https://eagle-ny.com/calendarofevents/monday-sinday-%f0%9f%98%8a-no-cover/2025-09-08/
LOCATION:The Eagle NYC\, New York\, NY\, United States
GEO:40.751624;-74.004346
END:VEVENT
BEGIN:VEVENT
DTSTART;TZID=America/New_York:20250909T220000
DTEND;TZID=America/New_York:20250910T040000
DTSTAMP:20260424T034709
CREATED:20250522T165514Z
LAST-MODIFIED:20250522T165514Z
UID:10007248-1757455200-1757476800@eagle-ny.com
SUMMARY:TWISTED TUESDAY 😊 NO COVER
DESCRIPTION:
URL:https://eagle-ny.com/calendarofevents/twisted-tuesday-%f0%9f%98%8a-no-cover-3/2025-09-09/
LOCATION:The Eagle NYC\, New York\, NY\, United States
GEO:40.751624;-74.004346
END:VEVENT
BEGIN:VEVENT
DTSTART;TZID=America/New_York:20250910T220000
DTEND;TZID=America/New_York:20250911T040000
DTSTAMP:20260424T034709
CREATED:20250815T171705Z
LAST-MODIFIED:20250815T171706Z
UID:10006923-1757541600-1757563200@eagle-ny.com
SUMMARY:🩲 JOCKSTRAP WEDNESDAY 🎧 MITCH FERRINO  💰 20 CASH COVER
DESCRIPTION:
URL:https://eagle-ny.com/calendarofevents/%f0%9f%a9%b2-jockstrap-wednesday-%f0%9f%8e%a7-%f0%9f%92%b0-20-cash-cover-7-25/
LOCATION:The Eagle NYC\, New York\, NY\, United States
GEO:40.751624;-74.004346
END:VEVENT
BEGIN:VEVENT
DTSTART;TZID=America/New_York:20250911T220000
DTEND;TZID=America/New_York:20250912T040000
DTSTAMP:20260424T034709
CREATED:20250817T025200Z
LAST-MODIFIED:20250817T025200Z
UID:10007412-1757628000-1757649600@eagle-ny.com
SUMMARY:🎧 CUNNINGHAM 💰 10 CASH COVER
DESCRIPTION:
URL:https://eagle-ny.com/calendarofevents/%f0%9f%8e%a7-cunningham-%f0%9f%92%b0-10-cash-cover/
LOCATION:The Eagle NYC\, New York\, NY\, United States
GEO:40.751624;-74.004346
END:VEVENT
BEGIN:VEVENT
DTSTART;TZID=America/New_York:20250912T220000
DTEND;TZID=America/New_York:20250913T040000
DTSTAMP:20260424T034709
CREATED:20250817T025605Z
LAST-MODIFIED:20250817T025605Z
UID:10007415-1757714400-1757736000@eagle-ny.com
SUMMARY:🎧 JAMES ANTHONY + 🎧 MUSIKDAWG 💰25 CASH COVER
DESCRIPTION:
URL:https://eagle-ny.com/calendarofevents/%f0%9f%8e%a7-james-anthony-%f0%9f%8e%a7-musikdawg-%f0%9f%92%b025-cash-cover/
LOCATION:The Eagle NYC\, New York\, NY\, United States
GEO:40.751624;-74.004346
END:VEVENT
BEGIN:VEVENT
DTSTART;TZID=America/New_York:20250913T220000
DTEND;TZID=America/New_York:20250914T040000
DTSTAMP:20260424T034709
CREATED:20250817T025717Z
LAST-MODIFIED:20250913T003758Z
UID:10007416-1757800800-1757822400@eagle-ny.com
SUMMARY:🎧 BARE NAKED + 🎧 MARK CICERO 💰25 CASH COVER
DESCRIPTION:
URL:https://eagle-ny.com/calendarofevents/%f0%9f%8e%a7-morabito-%f0%9f%8e%a7-mark-cicero-%f0%9f%92%b025-cash-cover-5/
LOCATION:The Eagle NYC\, New York\, NY\, United States
GEO:40.751624;-74.004346
END:VEVENT
BEGIN:VEVENT
DTSTART;TZID=America/New_York:20250914T170000
DTEND;TZID=America/New_York:20250914T200000
DTSTAMP:20260424T034709
CREATED:20240620T214308Z
LAST-MODIFIED:20240620T215534Z
UID:10006343-1757869200-1757880000@eagle-ny.com
SUMMARY:INTO?
DESCRIPTION:
URL:https://eagle-ny.com/calendarofevents/intosunday/2025-09-14/
LOCATION:The Eagle NYC\, New York\, NY\, United States
GEO:40.751624;-74.004346
END:VEVENT
BEGIN:VEVENT
DTSTART;TZID=America/New_York:20250914T170000
DTEND;TZID=America/New_York:20250914T200000
DTSTAMP:20260424T034709
CREATED:20250703T171408Z
LAST-MODIFIED:20250703T171408Z
UID:10007326-1757869200-1757880000@eagle-ny.com
SUMMARY:CIGAR SOCIAL
DESCRIPTION:
URL:https://eagle-ny.com/calendarofevents/cigar-social/2025-09-14/
LOCATION:The Eagle NYC\, New York\, NY\, United States
GEO:40.751624;-74.004346
END:VEVENT
BEGIN:VEVENT
DTSTART;TZID=America/New_York:20250914T170000
DTEND;TZID=America/New_York:20250914T220000
DTSTAMP:20260424T034709
CREATED:20250825T064605Z
LAST-MODIFIED:20250825T064606Z
UID:10006992-1757869200-1757887200@eagle-ny.com
SUMMARY:🍺 BEER BLAST 🎧 CUNNINGHAM  😊 NO COVER TILL 9PM 💰20 COVER AT 9PM
DESCRIPTION:
URL:https://eagle-ny.com/calendarofevents/%f0%9f%8d%ba-beer-blast-%f0%9f%8e%a7-%f0%9f%98%8a-no-cover-till-9pm-%f0%9f%92%b020-cover-at-9pm-26/
LOCATION:The Eagle NYC\, New York\, NY\, United States
GEO:40.751624;-74.004346
END:VEVENT
BEGIN:VEVENT
DTSTART;TZID=America/New_York:20250914T220000
DTEND;TZID=America/New_York:20250915T040000
DTSTAMP:20260424T034709
CREATED:20250819T161816Z
LAST-MODIFIED:20250819T161816Z
UID:10007418-1757887200-1757908800@eagle-ny.com
SUMMARY:🎧 SAM GEE + 🎧 BOBBY DURON 💰20 CASH COVER
DESCRIPTION:
URL:https://eagle-ny.com/calendarofevents/%f0%9f%8e%a7-sam-gee-%f0%9f%8e%a7-bobby-duron-%f0%9f%92%b020-cash-cover-6/
LOCATION:The Eagle NYC\, New York\, NY\, United States
GEO:40.751624;-74.004346
END:VEVENT
BEGIN:VEVENT
DTSTART;TZID=America/New_York:20250915T220000
DTEND;TZID=America/New_York:20250916T030000
DTSTAMP:20260424T034709
CREATED:20250522T164201Z
LAST-MODIFIED:20250522T164201Z
UID:10007167-1757973600-1757991600@eagle-ny.com
SUMMARY:MONDAY SINday 😊 NO COVER
DESCRIPTION:
URL:https://eagle-ny.com/calendarofevents/monday-sinday-%f0%9f%98%8a-no-cover/2025-09-15/
LOCATION:The Eagle NYC\, New York\, NY\, United States
GEO:40.751624;-74.004346
END:VEVENT
BEGIN:VEVENT
DTSTART;TZID=America/New_York:20250915T220000
DTEND;TZID=America/New_York:20250916T040000
DTSTAMP:20260424T034709
CREATED:20250819T161602Z
LAST-MODIFIED:20250819T161602Z
UID:10007417-1757973600-1757995200@eagle-ny.com
SUMMARY:🎧 SAM GEE + 🎧 BOBBY DURON 💰20 CASH COVER
DESCRIPTION:
URL:https://eagle-ny.com/calendarofevents/%f0%9f%8e%a7-sam-gee-%f0%9f%8e%a7-bobby-duron-%f0%9f%92%b020-cash-cover-5/
LOCATION:The Eagle NYC\, New York\, NY\, United States
GEO:40.751624;-74.004346
END:VEVENT
BEGIN:VEVENT
DTSTART;TZID=America/New_York:20250916T220000
DTEND;TZID=America/New_York:20250917T040000
DTSTAMP:20260424T034709
CREATED:20250522T165514Z
LAST-MODIFIED:20250522T165514Z
UID:10007249-1758060000-1758081600@eagle-ny.com
SUMMARY:TWISTED TUESDAY 😊 NO COVER
DESCRIPTION:
URL:https://eagle-ny.com/calendarofevents/twisted-tuesday-%f0%9f%98%8a-no-cover-3/2025-09-16/
LOCATION:The Eagle NYC\, New York\, NY\, United States
GEO:40.751624;-74.004346
END:VEVENT
BEGIN:VEVENT
DTSTART;TZID=America/New_York:20250917T220000
DTEND;TZID=America/New_York:20250918T040000
DTSTAMP:20260424T034709
CREATED:20250815T171753Z
LAST-MODIFIED:20250815T171754Z
UID:10006924-1758146400-1758168000@eagle-ny.com
SUMMARY:🩲 JOCKSTRAP WEDNESDAY 🎧 BARE NAKED  💰 20 CASH COVER
DESCRIPTION:
URL:https://eagle-ny.com/calendarofevents/%f0%9f%a9%b2-jockstrap-wednesday-%f0%9f%8e%a7-%f0%9f%92%b0-20-cash-cover-7-26/
LOCATION:The Eagle NYC\, New York\, NY\, United States
GEO:40.751624;-74.004346
END:VEVENT
BEGIN:VEVENT
DTSTART;TZID=America/New_York:20250918T220000
DTEND;TZID=America/New_York:20250919T040000
DTSTAMP:20260424T034709
CREATED:20250817T025311Z
LAST-MODIFIED:20250817T025311Z
UID:10007413-1758232800-1758254400@eagle-ny.com
SUMMARY:🎧 BOBBY DURON 💰 10 CASH COVER
DESCRIPTION:
URL:https://eagle-ny.com/calendarofevents/%f0%9f%8e%a7-bobby-duron-%f0%9f%92%b0-10-cash-cover-3/
LOCATION:The Eagle NYC\, New York\, NY\, United States
GEO:40.751624;-74.004346
END:VEVENT
BEGIN:VEVENT
DTSTART;TZID=America/New_York:20250919T220000
DTEND;TZID=America/New_York:20250920T040000
DTSTAMP:20260424T034709
CREATED:20250819T162018Z
LAST-MODIFIED:20250819T162018Z
UID:10007419-1758319200-1758340800@eagle-ny.com
SUMMARY:🎧 CALAGNA + 🎧 LORANT 💰25 CASH COVER
DESCRIPTION:
URL:https://eagle-ny.com/calendarofevents/%f0%9f%8e%a7-calagna-%f0%9f%8e%a7-lorant-%f0%9f%92%b025-cash-cover-3/
LOCATION:The Eagle NYC\, New York\, NY\, United States
GEO:40.751624;-74.004346
END:VEVENT
BEGIN:VEVENT
DTSTART;TZID=America/New_York:20250920T220000
DTEND;TZID=America/New_York:20250921T040000
DTSTAMP:20260424T034709
CREATED:20250819T162546Z
LAST-MODIFIED:20250923T221622Z
UID:10007421-1758405600-1758427200@eagle-ny.com
SUMMARY:🎧 SHANE MARCUS + 🎧 MUSIKDAWG 💰25 CASH COVER
DESCRIPTION:
URL:https://eagle-ny.com/calendarofevents/%f0%9f%8e%a7-sean-marcus-%f0%9f%8e%a7-musikdawg-%f0%9f%92%b025-cash-cover/
LOCATION:The Eagle NYC\, New York\, NY\, United States
GEO:40.751624;-74.004346
END:VEVENT
BEGIN:VEVENT
DTSTART;TZID=America/New_York:20250921T170000
DTEND;TZID=America/New_York:20250921T200000
DTSTAMP:20260424T034709
CREATED:20230701T200441Z
LAST-MODIFIED:20230701T200441Z
UID:10005258-1758474000-1758484800@eagle-ny.com
SUMMARY:BLUF NEW YORK
DESCRIPTION:
URL:https://eagle-ny.com/calendarofevents/bluf-new-york-19/2025-09-21/
LOCATION:The Eagle NYC\, New York\, NY\, United States
GEO:40.751624;-74.004346
END:VEVENT
BEGIN:VEVENT
DTSTART;TZID=America/New_York:20250921T170000
DTEND;TZID=America/New_York:20250921T200000
DTSTAMP:20260424T034709
CREATED:20250703T171408Z
LAST-MODIFIED:20250703T171408Z
UID:10007327-1758474000-1758484800@eagle-ny.com
SUMMARY:CIGAR SOCIAL
DESCRIPTION:
URL:https://eagle-ny.com/calendarofevents/cigar-social/2025-09-21/
LOCATION:The Eagle NYC\, New York\, NY\, United States
GEO:40.751624;-74.004346
END:VEVENT
END:VCALENDAR