BEGIN:VCALENDAR
VERSION:2.0
PRODID:-//The Eagle NYC - ECPv6.15.20//NONSGML v1.0//EN
CALSCALE:GREGORIAN
METHOD:PUBLISH
X-WR-CALNAME:The Eagle NYC
X-ORIGINAL-URL:https://eagle-ny.com
X-WR-CALDESC:Events for The Eagle NYC
REFRESH-INTERVAL;VALUE=DURATION:PT1H
X-Robots-Tag:noindex
X-PUBLISHED-TTL:PT1H
BEGIN:VTIMEZONE
TZID:America/New_York
BEGIN:DAYLIGHT
TZOFFSETFROM:-0500
TZOFFSETTO:-0400
TZNAME:EDT
DTSTART:20250309T070000
END:DAYLIGHT
BEGIN:STANDARD
TZOFFSETFROM:-0400
TZOFFSETTO:-0500
TZNAME:EST
DTSTART:20251102T060000
END:STANDARD
BEGIN:DAYLIGHT
TZOFFSETFROM:-0500
TZOFFSETTO:-0400
TZNAME:EDT
DTSTART:20260308T070000
END:DAYLIGHT
BEGIN:STANDARD
TZOFFSETFROM:-0400
TZOFFSETTO:-0500
TZNAME:EST
DTSTART:20261101T060000
END:STANDARD
BEGIN:DAYLIGHT
TZOFFSETFROM:-0500
TZOFFSETTO:-0400
TZNAME:EDT
DTSTART:20270314T070000
END:DAYLIGHT
BEGIN:STANDARD
TZOFFSETFROM:-0400
TZOFFSETTO:-0500
TZNAME:EST
DTSTART:20271107T060000
END:STANDARD
END:VTIMEZONE
BEGIN:VEVENT
DTSTART;TZID=America/New_York:20260315T170000
DTEND;TZID=America/New_York:20260315T200000
DTSTAMP:20260423T182700
CREATED:20230701T200441Z
LAST-MODIFIED:20230701T200441Z
UID:10005264-1773594000-1773604800@eagle-ny.com
SUMMARY:BLUF NEW YORK
DESCRIPTION:
URL:https://eagle-ny.com/calendarofevents/bluf-new-york-19/2026-03-15/
LOCATION:The Eagle NYC\, New York\, NY\, United States
GEO:40.751624;-74.004346
END:VEVENT
BEGIN:VEVENT
DTSTART;TZID=America/New_York:20260315T170000
DTEND;TZID=America/New_York:20260315T200000
DTSTAMP:20260423T182700
CREATED:20250703T171408Z
LAST-MODIFIED:20250703T171408Z
UID:10007352-1773594000-1773604800@eagle-ny.com
SUMMARY:CIGAR SOCIAL
DESCRIPTION:
URL:https://eagle-ny.com/calendarofevents/cigar-social/2026-03-15/
LOCATION:The Eagle NYC\, New York\, NY\, United States
GEO:40.751624;-74.004346
END:VEVENT
BEGIN:VEVENT
DTSTART;TZID=America/New_York:20260315T170000
DTEND;TZID=America/New_York:20260315T220000
DTSTAMP:20260423T182700
CREATED:20260205T024616Z
LAST-MODIFIED:20260205T024617Z
UID:10007018-1773594000-1773612000@eagle-ny.com
SUMMARY:🍺 BEER BLAST 🎧 ERIK ELIAS 😊 NO COVER TILL 9PM 💰20 COVER AT 9PM
DESCRIPTION:
URL:https://eagle-ny.com/calendarofevents/%f0%9f%8d%ba-beer-blast-%f0%9f%8e%a7-%f0%9f%98%8a-no-cover-till-9pm-%f0%9f%92%b020-cover-at-9pm-49/
LOCATION:The Eagle NYC\, New York\, NY\, United States
GEO:40.751624;-74.004346
END:VEVENT
END:VCALENDAR