BEGIN:VCALENDAR
VERSION:2.0
PRODID:-//The Eagle NYC - ECPv6.15.20//NONSGML v1.0//EN
CALSCALE:GREGORIAN
METHOD:PUBLISH
X-ORIGINAL-URL:https://eagle-ny.com
X-WR-CALDESC:Events for The Eagle NYC
REFRESH-INTERVAL;VALUE=DURATION:PT1H
X-Robots-Tag:noindex
X-PUBLISHED-TTL:PT1H
BEGIN:VTIMEZONE
TZID:America/New_York
BEGIN:DAYLIGHT
TZOFFSETFROM:-0500
TZOFFSETTO:-0400
TZNAME:EDT
DTSTART:20240310T070000
END:DAYLIGHT
BEGIN:STANDARD
TZOFFSETFROM:-0400
TZOFFSETTO:-0500
TZNAME:EST
DTSTART:20241103T060000
END:STANDARD
BEGIN:DAYLIGHT
TZOFFSETFROM:-0500
TZOFFSETTO:-0400
TZNAME:EDT
DTSTART:20250309T070000
END:DAYLIGHT
BEGIN:STANDARD
TZOFFSETFROM:-0400
TZOFFSETTO:-0500
TZNAME:EST
DTSTART:20251102T060000
END:STANDARD
BEGIN:DAYLIGHT
TZOFFSETFROM:-0500
TZOFFSETTO:-0400
TZNAME:EDT
DTSTART:20260308T070000
END:DAYLIGHT
BEGIN:STANDARD
TZOFFSETFROM:-0400
TZOFFSETTO:-0500
TZNAME:EST
DTSTART:20261101T060000
END:STANDARD
END:VTIMEZONE
BEGIN:VEVENT
DTSTART;TZID=America/New_York:20250615T140000
DTEND;TZID=America/New_York:20250615T210000
DTSTAMP:20260424T115820
CREATED:20250507T102750Z
LAST-MODIFIED:20250603T051856Z
UID:10006979-1749996000-1750021200@eagle-ny.com
SUMMARY:⚙️ LEATHER & KINK ⚙️  💰20 COVER AT 2PM 💰30 AT 9PM 🎧 ERIK ELIAS + 🎧 BOBBY DURON
DESCRIPTION:
URL:https://eagle-ny.com/calendarofevents/%f0%9f%8d%ba-beer-blast-%f0%9f%8e%a7-%f0%9f%98%8a-no-cover-till-9pm-%f0%9f%92%b020-cover-at-9pm-14/
LOCATION:The Eagle NYC\, New York\, NY\, United States
GEO:40.751624;-74.004346
END:VEVENT
BEGIN:VEVENT
DTSTART;TZID=America/New_York:20250615T210000
DTEND;TZID=America/New_York:20250616T040000
DTSTAMP:20260424T115820
CREATED:20250507T102910Z
LAST-MODIFIED:20250603T051744Z
UID:10007121-1750021200-1750046400@eagle-ny.com
SUMMARY:🎧 AJ REDDY + 🎧 BOBBY DURON 💰30 CASH COVER
DESCRIPTION:
URL:https://eagle-ny.com/calendarofevents/%f0%9f%8e%a7-aj-reddy-%f0%9f%8e%a7-bobby-duron-%f0%9f%92%b020-cash-cover-5/
LOCATION:The Eagle NYC\, New York\, NY\, United States
GEO:40.751624;-74.004346
END:VEVENT
END:VCALENDAR